BEGIN:VCALENDAR
VERSION:2.0
PRODID:-//United Arts Wake County - ECPv6.15.20//NONSGML v1.0//EN
CALSCALE:GREGORIAN
METHOD:PUBLISH
X-WR-CALNAME:United Arts Wake County
X-ORIGINAL-URL:https://unitedarts.org
X-WR-CALDESC:Events for United Arts Wake County
REFRESH-INTERVAL;VALUE=DURATION:PT1H
X-Robots-Tag:noindex
X-PUBLISHED-TTL:PT1H
BEGIN:VTIMEZONE
TZID:America/New_York
BEGIN:DAYLIGHT
TZOFFSETFROM:-0500
TZOFFSETTO:-0400
TZNAME:EDT
DTSTART:20230312T070000
END:DAYLIGHT
BEGIN:STANDARD
TZOFFSETFROM:-0400
TZOFFSETTO:-0500
TZNAME:EST
DTSTART:20231105T060000
END:STANDARD
BEGIN:DAYLIGHT
TZOFFSETFROM:-0500
TZOFFSETTO:-0400
TZNAME:EDT
DTSTART:20240310T070000
END:DAYLIGHT
BEGIN:STANDARD
TZOFFSETFROM:-0400
TZOFFSETTO:-0500
TZNAME:EST
DTSTART:20241103T060000
END:STANDARD
BEGIN:DAYLIGHT
TZOFFSETFROM:-0500
TZOFFSETTO:-0400
TZNAME:EDT
DTSTART:20250309T070000
END:DAYLIGHT
BEGIN:STANDARD
TZOFFSETFROM:-0400
TZOFFSETTO:-0500
TZNAME:EST
DTSTART:20251102T060000
END:STANDARD
BEGIN:DAYLIGHT
TZOFFSETFROM:-0500
TZOFFSETTO:-0400
TZNAME:EDT
DTSTART:20260308T070000
END:DAYLIGHT
BEGIN:STANDARD
TZOFFSETFROM:-0400
TZOFFSETTO:-0500
TZNAME:EST
DTSTART:20261101T060000
END:STANDARD
END:VTIMEZONE
BEGIN:VEVENT
DTSTART;TZID=America/New_York:20251019T150000
DTEND;TZID=America/New_York:20251019T173000
DTSTAMP:20260420T093353
CREATED:20251014T194626Z
LAST-MODIFIED:20251014T194626Z
UID:10006275-1760886000-1760895000@unitedarts.org
SUMMARY:The Waning Hours
DESCRIPTION:Pure Life Theatre presents The Waning Hours\, a powerful new play by Carol Torian that explores memory\, family\, and love in the face of Alzheimer’s disease. This poignant story follows the journey of a family navigating the heartbreaking and tender moments that come with fading memory\, reminding us of the fragility of time and the strength of human connection. \nWith moving performances and thoughtful storytelling\, The Waning Hours invites audiences to reflect\, connect\, and engage in a conversation that touches countless lives. \nPerformances run October 10–26\, 2025\, at the Leggett Theatre at William Peace University in Raleigh. Show times vary: Fridays at 7:30 pm\, Saturdays and Sundays at 3:00 pm.
URL:https://unitedarts.org/calendar/the-waning-hours/2025-10-19/
LOCATION:William Peace Historic Leggett Theatre\, 15 East Peace Street\, Raleigh\, 27604
ATTACH;FMTTYPE=image/png:https://unitedarts.org/wp-content/uploads/2025/10/Waning-Hours-Flyer_Final-3.png
ORGANIZER;CN="Pure Life Theatre Company":MAILTO:purelifetheatre@gmail.com
END:VEVENT
BEGIN:VEVENT
DTSTART;TZID=America/New_York:20251018T150000
DTEND;TZID=America/New_York:20251018T173000
DTSTAMP:20260420T093353
CREATED:20251014T194626Z
LAST-MODIFIED:20251014T194626Z
UID:10006274-1760799600-1760808600@unitedarts.org
SUMMARY:The Waning Hours
DESCRIPTION:Pure Life Theatre presents The Waning Hours\, a powerful new play by Carol Torian that explores memory\, family\, and love in the face of Alzheimer’s disease. This poignant story follows the journey of a family navigating the heartbreaking and tender moments that come with fading memory\, reminding us of the fragility of time and the strength of human connection. \nWith moving performances and thoughtful storytelling\, The Waning Hours invites audiences to reflect\, connect\, and engage in a conversation that touches countless lives. \nPerformances run October 10–26\, 2025\, at the Leggett Theatre at William Peace University in Raleigh. Show times vary: Fridays at 7:30 pm\, Saturdays and Sundays at 3:00 pm.
URL:https://unitedarts.org/calendar/the-waning-hours/2025-10-18/
LOCATION:William Peace Historic Leggett Theatre\, 15 East Peace Street\, Raleigh\, 27604
ATTACH;FMTTYPE=image/png:https://unitedarts.org/wp-content/uploads/2025/10/Waning-Hours-Flyer_Final-3.png
ORGANIZER;CN="Pure Life Theatre Company":MAILTO:purelifetheatre@gmail.com
END:VEVENT
BEGIN:VEVENT
DTSTART;TZID=America/New_York:20251017T193000
DTEND;TZID=America/New_York:20251017T220000
DTSTAMP:20260420T093353
CREATED:20251014T194626Z
LAST-MODIFIED:20251014T194626Z
UID:10006273-1760729400-1760738400@unitedarts.org
SUMMARY:The Waning Hours
DESCRIPTION:Pure Life Theatre presents The Waning Hours\, a powerful new play by Carol Torian that explores memory\, family\, and love in the face of Alzheimer’s disease. This poignant story follows the journey of a family navigating the heartbreaking and tender moments that come with fading memory\, reminding us of the fragility of time and the strength of human connection. \nWith moving performances and thoughtful storytelling\, The Waning Hours invites audiences to reflect\, connect\, and engage in a conversation that touches countless lives. \nPerformances run October 10–26\, 2025\, at the Leggett Theatre at William Peace University in Raleigh. Show times vary: Fridays at 7:30 pm\, Saturdays and Sundays at 3:00 pm.
URL:https://unitedarts.org/calendar/the-waning-hours/2025-10-17/
LOCATION:William Peace Historic Leggett Theatre\, 15 East Peace Street\, Raleigh\, 27604
ATTACH;FMTTYPE=image/png:https://unitedarts.org/wp-content/uploads/2025/10/Waning-Hours-Flyer_Final-3.png
ORGANIZER;CN="Pure Life Theatre Company":MAILTO:purelifetheatre@gmail.com
END:VEVENT
BEGIN:VEVENT
DTSTART;TZID=America/New_York:20241006T150000
DTEND;TZID=America/New_York:20241006T170000
DTSTAMP:20260420T093353
CREATED:20240911T165057Z
LAST-MODIFIED:20240911T165057Z
UID:10001104-1728226800-1728234000@unitedarts.org
SUMMARY:BOB MARLEY'S Three Little Birds
DESCRIPTION:A jammin’ musical featuring Bob Marley’s timeless music and lyrics and based on the book by his daughter Cedella\, Bob Marley’s Three Little Birds\nshares the legendary reggae artist’s message of peace and love with a new generation of songbirds while simultaneously exploring the history of Jamaica and the many influences from around the world that impacted the island and its growth. This production features a collaboration with Paperhand Puppet Intervention and is appropriate for every age.\nPeace
URL:https://unitedarts.org/calendar/bob-marleys-three-little-birds/2024-10-06/
LOCATION:William Peace Historic Leggett Theatre\, 15 East Peace Street\, Raleigh\, 27604
ATTACH;FMTTYPE=image/png:https://unitedarts.org/wp-content/uploads/2024/09/3LB-POSTCARD-2.png
ORGANIZER;CN="Pure Life Theatre Company":MAILTO:purelifetheatre@gmail.com
END:VEVENT
BEGIN:VEVENT
DTSTART;TZID=America/New_York:20241005T193000
DTEND;TZID=America/New_York:20241005T210000
DTSTAMP:20260420T093354
CREATED:20240911T165057Z
LAST-MODIFIED:20240911T165057Z
UID:10001103-1728156600-1728162000@unitedarts.org
SUMMARY:BOB MARLEY'S Three Little Birds
DESCRIPTION:A jammin’ musical featuring Bob Marley’s timeless music and lyrics and based on the book by his daughter Cedella\, Bob Marley’s Three Little Birds\nshares the legendary reggae artist’s message of peace and love with a new generation of songbirds while simultaneously exploring the history of Jamaica and the many influences from around the world that impacted the island and its growth. This production features a collaboration with Paperhand Puppet Intervention and is appropriate for every age.\nPeace
URL:https://unitedarts.org/calendar/bob-marleys-three-little-birds/2024-10-05/
LOCATION:William Peace Historic Leggett Theatre\, 15 East Peace Street\, Raleigh\, 27604
ATTACH;FMTTYPE=image/png:https://unitedarts.org/wp-content/uploads/2024/09/3LB-POSTCARD-2.png
ORGANIZER;CN="Pure Life Theatre Company":MAILTO:purelifetheatre@gmail.com
END:VEVENT
BEGIN:VEVENT
DTSTART;TZID=America/New_York:20241004T193000
DTEND;TZID=America/New_York:20241004T210000
DTSTAMP:20260420T093354
CREATED:20240911T165057Z
LAST-MODIFIED:20240911T165057Z
UID:10001102-1728070200-1728075600@unitedarts.org
SUMMARY:BOB MARLEY'S Three Little Birds
DESCRIPTION:A jammin’ musical featuring Bob Marley’s timeless music and lyrics and based on the book by his daughter Cedella\, Bob Marley’s Three Little Birds\nshares the legendary reggae artist’s message of peace and love with a new generation of songbirds while simultaneously exploring the history of Jamaica and the many influences from around the world that impacted the island and its growth. This production features a collaboration with Paperhand Puppet Intervention and is appropriate for every age.\nPeace
URL:https://unitedarts.org/calendar/bob-marleys-three-little-birds/2024-10-04/
LOCATION:William Peace Historic Leggett Theatre\, 15 East Peace Street\, Raleigh\, 27604
ATTACH;FMTTYPE=image/png:https://unitedarts.org/wp-content/uploads/2024/09/3LB-POSTCARD-2.png
ORGANIZER;CN="Pure Life Theatre Company":MAILTO:purelifetheatre@gmail.com
END:VEVENT
BEGIN:VEVENT
DTSTART;TZID=America/New_York:20240930T150000
DTEND;TZID=America/New_York:20240930T170000
DTSTAMP:20260420T093354
CREATED:20240911T165057Z
LAST-MODIFIED:20240911T165057Z
UID:10001101-1727708400-1727715600@unitedarts.org
SUMMARY:BOB MARLEY'S Three Little Birds
DESCRIPTION:A jammin’ musical featuring Bob Marley’s timeless music and lyrics and based on the book by his daughter Cedella\, Bob Marley’s Three Little Birds\nshares the legendary reggae artist’s message of peace and love with a new generation of songbirds while simultaneously exploring the history of Jamaica and the many influences from around the world that impacted the island and its growth. This production features a collaboration with Paperhand Puppet Intervention and is appropriate for every age.\nPeace
URL:https://unitedarts.org/calendar/bob-marleys-three-little-birds/2024-09-30/
LOCATION:William Peace Historic Leggett Theatre\, 15 East Peace Street\, Raleigh\, 27604
ATTACH;FMTTYPE=image/png:https://unitedarts.org/wp-content/uploads/2024/09/3LB-POSTCARD-2.png
ORGANIZER;CN="Pure Life Theatre Company":MAILTO:purelifetheatre@gmail.com
END:VEVENT
BEGIN:VEVENT
DTSTART;TZID=America/New_York:20240929T193000
DTEND;TZID=America/New_York:20240929T210000
DTSTAMP:20260420T093354
CREATED:20240911T165057Z
LAST-MODIFIED:20240911T165057Z
UID:10001100-1727638200-1727643600@unitedarts.org
SUMMARY:BOB MARLEY'S Three Little Birds
DESCRIPTION:A jammin’ musical featuring Bob Marley’s timeless music and lyrics and based on the book by his daughter Cedella\, Bob Marley’s Three Little Birds\nshares the legendary reggae artist’s message of peace and love with a new generation of songbirds while simultaneously exploring the history of Jamaica and the many influences from around the world that impacted the island and its growth. This production features a collaboration with Paperhand Puppet Intervention and is appropriate for every age.\nPeace
URL:https://unitedarts.org/calendar/bob-marleys-three-little-birds/2024-09-29/
LOCATION:William Peace Historic Leggett Theatre\, 15 East Peace Street\, Raleigh\, 27604
ATTACH;FMTTYPE=image/png:https://unitedarts.org/wp-content/uploads/2024/09/3LB-POSTCARD-2.png
ORGANIZER;CN="Pure Life Theatre Company":MAILTO:purelifetheatre@gmail.com
END:VEVENT
BEGIN:VEVENT
DTSTART;TZID=America/New_York:20240928T193000
DTEND;TZID=America/New_York:20240928T210000
DTSTAMP:20260420T093354
CREATED:20240911T165057Z
LAST-MODIFIED:20240911T165057Z
UID:10001099-1727551800-1727557200@unitedarts.org
SUMMARY:BOB MARLEY'S Three Little Birds
DESCRIPTION:A jammin’ musical featuring Bob Marley’s timeless music and lyrics and based on the book by his daughter Cedella\, Bob Marley’s Three Little Birds\nshares the legendary reggae artist’s message of peace and love with a new generation of songbirds while simultaneously exploring the history of Jamaica and the many influences from around the world that impacted the island and its growth. This production features a collaboration with Paperhand Puppet Intervention and is appropriate for every age.\nPeace
URL:https://unitedarts.org/calendar/bob-marleys-three-little-birds/2024-09-28/
LOCATION:William Peace Historic Leggett Theatre\, 15 East Peace Street\, Raleigh\, 27604
ATTACH;FMTTYPE=image/png:https://unitedarts.org/wp-content/uploads/2024/09/3LB-POSTCARD-2.png
ORGANIZER;CN="Pure Life Theatre Company":MAILTO:purelifetheatre@gmail.com
END:VEVENT
BEGIN:VEVENT
DTSTART;TZID=America/New_York:20240927T193000
DTEND;TZID=America/New_York:20240927T210000
DTSTAMP:20260420T093354
CREATED:20240911T165057Z
LAST-MODIFIED:20240911T165057Z
UID:10001098-1727465400-1727470800@unitedarts.org
SUMMARY:BOB MARLEY'S Three Little Birds
DESCRIPTION:A jammin’ musical featuring Bob Marley’s timeless music and lyrics and based on the book by his daughter Cedella\, Bob Marley’s Three Little Birds\nshares the legendary reggae artist’s message of peace and love with a new generation of songbirds while simultaneously exploring the history of Jamaica and the many influences from around the world that impacted the island and its growth. This production features a collaboration with Paperhand Puppet Intervention and is appropriate for every age.\nPeace
URL:https://unitedarts.org/calendar/bob-marleys-three-little-birds/2024-09-27/
LOCATION:William Peace Historic Leggett Theatre\, 15 East Peace Street\, Raleigh\, 27604
ATTACH;FMTTYPE=image/png:https://unitedarts.org/wp-content/uploads/2024/09/3LB-POSTCARD-2.png
ORGANIZER;CN="Pure Life Theatre Company":MAILTO:purelifetheatre@gmail.com
END:VEVENT
BEGIN:VEVENT
DTSTART;TZID=America/New_York:20240926T193000
DTEND;TZID=America/New_York:20240926T210000
DTSTAMP:20260420T093354
CREATED:20240911T165057Z
LAST-MODIFIED:20240911T165057Z
UID:10001097-1727379000-1727384400@unitedarts.org
SUMMARY:BOB MARLEY'S Three Little Birds
DESCRIPTION:A jammin’ musical featuring Bob Marley’s timeless music and lyrics and based on the book by his daughter Cedella\, Bob Marley’s Three Little Birds\nshares the legendary reggae artist’s message of peace and love with a new generation of songbirds while simultaneously exploring the history of Jamaica and the many influences from around the world that impacted the island and its growth. This production features a collaboration with Paperhand Puppet Intervention and is appropriate for every age.\nPeace
URL:https://unitedarts.org/calendar/bob-marleys-three-little-birds/2024-09-26/
LOCATION:William Peace Historic Leggett Theatre\, 15 East Peace Street\, Raleigh\, 27604
ATTACH;FMTTYPE=image/png:https://unitedarts.org/wp-content/uploads/2024/09/3LB-POSTCARD-2.png
ORGANIZER;CN="Pure Life Theatre Company":MAILTO:purelifetheatre@gmail.com
END:VEVENT
BEGIN:VEVENT
DTSTART;TZID=America/New_York:20240911T080000
DTEND;TZID=America/New_York:20240911T170000
DTSTAMP:20260420T093354
CREATED:20240911T165057Z
LAST-MODIFIED:20240911T165057Z
UID:10001096-1726041600-1726074000@unitedarts.org
SUMMARY:BOB MARLEY'S Three Little Birds
DESCRIPTION:A jammin’ musical featuring Bob Marley’s timeless music and lyrics and based on the book by his daughter Cedella\, Bob Marley’s Three Little Birds\nshares the legendary reggae artist’s message of peace and love with a new generation of songbirds while simultaneously exploring the history of Jamaica and the many influences from around the world that impacted the island and its growth. This production features a collaboration with Paperhand Puppet Intervention and is appropriate for every age.\nPeace
URL:https://unitedarts.org/calendar/bob-marleys-three-little-birds/2024-09-11/
LOCATION:William Peace Historic Leggett Theatre\, 15 East Peace Street\, Raleigh\, 27604
ATTACH;FMTTYPE=image/png:https://unitedarts.org/wp-content/uploads/2024/09/3LB-POSTCARD-2.png
ORGANIZER;CN="Pure Life Theatre Company":MAILTO:purelifetheatre@gmail.com
END:VEVENT
END:VCALENDAR