BEGIN:VCALENDAR
VERSION:2.0
PRODID:-//United Arts Wake County - ECPv6.15.20//NONSGML v1.0//EN
CALSCALE:GREGORIAN
METHOD:PUBLISH
X-WR-CALNAME:United Arts Wake County
X-ORIGINAL-URL:https://unitedarts.org
X-WR-CALDESC:Events for United Arts Wake County
REFRESH-INTERVAL;VALUE=DURATION:PT1H
X-Robots-Tag:noindex
X-PUBLISHED-TTL:PT1H
BEGIN:VTIMEZONE
TZID:America/New_York
BEGIN:DAYLIGHT
TZOFFSETFROM:-0500
TZOFFSETTO:-0400
TZNAME:EDT
DTSTART:20270314T070000
END:DAYLIGHT
BEGIN:STANDARD
TZOFFSETFROM:-0400
TZOFFSETTO:-0500
TZNAME:EST
DTSTART:20271107T060000
END:STANDARD
BEGIN:DAYLIGHT
TZOFFSETFROM:-0500
TZOFFSETTO:-0400
TZNAME:EDT
DTSTART:20280312T070000
END:DAYLIGHT
BEGIN:STANDARD
TZOFFSETFROM:-0400
TZOFFSETTO:-0500
TZNAME:EST
DTSTART:20281105T060000
END:STANDARD
BEGIN:DAYLIGHT
TZOFFSETFROM:-0500
TZOFFSETTO:-0400
TZNAME:EDT
DTSTART:20290311T070000
END:DAYLIGHT
BEGIN:STANDARD
TZOFFSETFROM:-0400
TZOFFSETTO:-0500
TZNAME:EST
DTSTART:20291104T060000
END:STANDARD
BEGIN:DAYLIGHT
TZOFFSETFROM:-0500
TZOFFSETTO:-0400
TZNAME:EDT
DTSTART:20300310T070000
END:DAYLIGHT
BEGIN:STANDARD
TZOFFSETFROM:-0400
TZOFFSETTO:-0500
TZNAME:EST
DTSTART:20301103T060000
END:STANDARD
END:VTIMEZONE
BEGIN:VEVENT
DTSTART;TZID=America/New_York:20280605T180000
DTEND;TZID=America/New_York:20280605T200000
DTSTAMP:20260423T125942
CREATED:20240919T025150Z
LAST-MODIFIED:20240919T154101Z
UID:10001129-1843840800-1843848000@unitedarts.org
SUMMARY:Sips & Scripts
DESCRIPTION:NC Playwrights\, Actors\, and Community! \nIt’s A Night of Scripts\, Cold Reading\, and Critique! \nSips & Scripts Will Be at NC State University Theatre….Monday\, October 7! \nCome Hear an Actor Cold Read Your New Play OR Come as an Actor to Read as a Character OR Simply Hear What New Stories Playwrights are Creating and Feel Free to Provide Your Feedback! \nSips & Scripts Readings are Free and Open to All! \nLocation: 2241 Dunn Ave. in Raleigh \n– Playwrights! Arrive Early as Possible\, Close to 5:00 pm to Reserve Your Spot! \n– Actors! Also Arrive Early as Possible\, Close to 5:00 pm – Casting Will Begin! 6:00 pm is when All presentations will begin. \nGuidelines!\n– Please have your pieces not exceed 10 minutes – All pieces will be timed. Pieces no more than 11 pages – one-sided pages only. Play excerpts\, monologues\, or short plays are only allowed to present. \n– No screenplays or sketches at this time. \n– 6 playwrights guaranteed to present. \n– Bring enough scripts for your cast and stage directions reader. \nParking: At 5:00 pm\, free parking in front of the building or in the parking deck. \nDon’t Miss It\, Monday\, October 7! \nSee Ya Then!
URL:https://unitedarts.org/calendar/sips-scripts/2028-06-05/
LOCATION:Thompson Theatre at NC State University\, 2241 Dunn Ave.\, Raleigh
ATTACH;FMTTYPE=image/jpeg:https://unitedarts.org/wp-content/uploads/2024/09/FB_IMG_1725855304153.jpg
ORGANIZER;CN="Yvette Holder":MAILTO:yvette@sipsandscriptslive.com
END:VEVENT
BEGIN:VEVENT
DTSTART;TZID=America/New_York:20280807T180000
DTEND;TZID=America/New_York:20280807T200000
DTSTAMP:20260423T125942
CREATED:20240919T025150Z
LAST-MODIFIED:20240919T154101Z
UID:10001130-1849284000-1849291200@unitedarts.org
SUMMARY:Sips & Scripts
DESCRIPTION:NC Playwrights\, Actors\, and Community! \nIt’s A Night of Scripts\, Cold Reading\, and Critique! \nSips & Scripts Will Be at NC State University Theatre….Monday\, October 7! \nCome Hear an Actor Cold Read Your New Play OR Come as an Actor to Read as a Character OR Simply Hear What New Stories Playwrights are Creating and Feel Free to Provide Your Feedback! \nSips & Scripts Readings are Free and Open to All! \nLocation: 2241 Dunn Ave. in Raleigh \n– Playwrights! Arrive Early as Possible\, Close to 5:00 pm to Reserve Your Spot! \n– Actors! Also Arrive Early as Possible\, Close to 5:00 pm – Casting Will Begin! 6:00 pm is when All presentations will begin. \nGuidelines!\n– Please have your pieces not exceed 10 minutes – All pieces will be timed. Pieces no more than 11 pages – one-sided pages only. Play excerpts\, monologues\, or short plays are only allowed to present. \n– No screenplays or sketches at this time. \n– 6 playwrights guaranteed to present. \n– Bring enough scripts for your cast and stage directions reader. \nParking: At 5:00 pm\, free parking in front of the building or in the parking deck. \nDon’t Miss It\, Monday\, October 7! \nSee Ya Then!
URL:https://unitedarts.org/calendar/sips-scripts/2028-08-07/
LOCATION:Thompson Theatre at NC State University\, 2241 Dunn Ave.\, Raleigh
ATTACH;FMTTYPE=image/jpeg:https://unitedarts.org/wp-content/uploads/2024/09/FB_IMG_1725855304153.jpg
ORGANIZER;CN="Yvette Holder":MAILTO:yvette@sipsandscriptslive.com
END:VEVENT
BEGIN:VEVENT
DTSTART;TZID=America/New_York:20281002T180000
DTEND;TZID=America/New_York:20281002T200000
DTSTAMP:20260423T125942
CREATED:20240919T025150Z
LAST-MODIFIED:20240919T154101Z
UID:10001131-1854122400-1854129600@unitedarts.org
SUMMARY:Sips & Scripts
DESCRIPTION:NC Playwrights\, Actors\, and Community! \nIt’s A Night of Scripts\, Cold Reading\, and Critique! \nSips & Scripts Will Be at NC State University Theatre….Monday\, October 7! \nCome Hear an Actor Cold Read Your New Play OR Come as an Actor to Read as a Character OR Simply Hear What New Stories Playwrights are Creating and Feel Free to Provide Your Feedback! \nSips & Scripts Readings are Free and Open to All! \nLocation: 2241 Dunn Ave. in Raleigh \n– Playwrights! Arrive Early as Possible\, Close to 5:00 pm to Reserve Your Spot! \n– Actors! Also Arrive Early as Possible\, Close to 5:00 pm – Casting Will Begin! 6:00 pm is when All presentations will begin. \nGuidelines!\n– Please have your pieces not exceed 10 minutes – All pieces will be timed. Pieces no more than 11 pages – one-sided pages only. Play excerpts\, monologues\, or short plays are only allowed to present. \n– No screenplays or sketches at this time. \n– 6 playwrights guaranteed to present. \n– Bring enough scripts for your cast and stage directions reader. \nParking: At 5:00 pm\, free parking in front of the building or in the parking deck. \nDon’t Miss It\, Monday\, October 7! \nSee Ya Then!
URL:https://unitedarts.org/calendar/sips-scripts/2028-10-02/
LOCATION:Thompson Theatre at NC State University\, 2241 Dunn Ave.\, Raleigh
ATTACH;FMTTYPE=image/jpeg:https://unitedarts.org/wp-content/uploads/2024/09/FB_IMG_1725855304153.jpg
ORGANIZER;CN="Yvette Holder":MAILTO:yvette@sipsandscriptslive.com
END:VEVENT
BEGIN:VEVENT
DTSTART;TZID=America/New_York:20281204T180000
DTEND;TZID=America/New_York:20281204T200000
DTSTAMP:20260423T125942
CREATED:20240919T025150Z
LAST-MODIFIED:20240919T154101Z
UID:10001132-1859565600-1859572800@unitedarts.org
SUMMARY:Sips & Scripts
DESCRIPTION:NC Playwrights\, Actors\, and Community! \nIt’s A Night of Scripts\, Cold Reading\, and Critique! \nSips & Scripts Will Be at NC State University Theatre….Monday\, October 7! \nCome Hear an Actor Cold Read Your New Play OR Come as an Actor to Read as a Character OR Simply Hear What New Stories Playwrights are Creating and Feel Free to Provide Your Feedback! \nSips & Scripts Readings are Free and Open to All! \nLocation: 2241 Dunn Ave. in Raleigh \n– Playwrights! Arrive Early as Possible\, Close to 5:00 pm to Reserve Your Spot! \n– Actors! Also Arrive Early as Possible\, Close to 5:00 pm – Casting Will Begin! 6:00 pm is when All presentations will begin. \nGuidelines!\n– Please have your pieces not exceed 10 minutes – All pieces will be timed. Pieces no more than 11 pages – one-sided pages only. Play excerpts\, monologues\, or short plays are only allowed to present. \n– No screenplays or sketches at this time. \n– 6 playwrights guaranteed to present. \n– Bring enough scripts for your cast and stage directions reader. \nParking: At 5:00 pm\, free parking in front of the building or in the parking deck. \nDon’t Miss It\, Monday\, October 7! \nSee Ya Then!
URL:https://unitedarts.org/calendar/sips-scripts/2028-12-04/
LOCATION:Thompson Theatre at NC State University\, 2241 Dunn Ave.\, Raleigh
ATTACH;FMTTYPE=image/jpeg:https://unitedarts.org/wp-content/uploads/2024/09/FB_IMG_1725855304153.jpg
ORGANIZER;CN="Yvette Holder":MAILTO:yvette@sipsandscriptslive.com
END:VEVENT
BEGIN:VEVENT
DTSTART;TZID=America/New_York:20290205T180000
DTEND;TZID=America/New_York:20290205T200000
DTSTAMP:20260423T125942
CREATED:20240919T025150Z
LAST-MODIFIED:20240919T154101Z
UID:10001133-1865008800-1865016000@unitedarts.org
SUMMARY:Sips & Scripts
DESCRIPTION:NC Playwrights\, Actors\, and Community! \nIt’s A Night of Scripts\, Cold Reading\, and Critique! \nSips & Scripts Will Be at NC State University Theatre….Monday\, October 7! \nCome Hear an Actor Cold Read Your New Play OR Come as an Actor to Read as a Character OR Simply Hear What New Stories Playwrights are Creating and Feel Free to Provide Your Feedback! \nSips & Scripts Readings are Free and Open to All! \nLocation: 2241 Dunn Ave. in Raleigh \n– Playwrights! Arrive Early as Possible\, Close to 5:00 pm to Reserve Your Spot! \n– Actors! Also Arrive Early as Possible\, Close to 5:00 pm – Casting Will Begin! 6:00 pm is when All presentations will begin. \nGuidelines!\n– Please have your pieces not exceed 10 minutes – All pieces will be timed. Pieces no more than 11 pages – one-sided pages only. Play excerpts\, monologues\, or short plays are only allowed to present. \n– No screenplays or sketches at this time. \n– 6 playwrights guaranteed to present. \n– Bring enough scripts for your cast and stage directions reader. \nParking: At 5:00 pm\, free parking in front of the building or in the parking deck. \nDon’t Miss It\, Monday\, October 7! \nSee Ya Then!
URL:https://unitedarts.org/calendar/sips-scripts/2029-02-05/
LOCATION:Thompson Theatre at NC State University\, 2241 Dunn Ave.\, Raleigh
ATTACH;FMTTYPE=image/jpeg:https://unitedarts.org/wp-content/uploads/2024/09/FB_IMG_1725855304153.jpg
ORGANIZER;CN="Yvette Holder":MAILTO:yvette@sipsandscriptslive.com
END:VEVENT
BEGIN:VEVENT
DTSTART;TZID=America/New_York:20290402T180000
DTEND;TZID=America/New_York:20290402T200000
DTSTAMP:20260423T125942
CREATED:20240919T025150Z
LAST-MODIFIED:20240919T154101Z
UID:10001134-1869847200-1869854400@unitedarts.org
SUMMARY:Sips & Scripts
DESCRIPTION:NC Playwrights\, Actors\, and Community! \nIt’s A Night of Scripts\, Cold Reading\, and Critique! \nSips & Scripts Will Be at NC State University Theatre….Monday\, October 7! \nCome Hear an Actor Cold Read Your New Play OR Come as an Actor to Read as a Character OR Simply Hear What New Stories Playwrights are Creating and Feel Free to Provide Your Feedback! \nSips & Scripts Readings are Free and Open to All! \nLocation: 2241 Dunn Ave. in Raleigh \n– Playwrights! Arrive Early as Possible\, Close to 5:00 pm to Reserve Your Spot! \n– Actors! Also Arrive Early as Possible\, Close to 5:00 pm – Casting Will Begin! 6:00 pm is when All presentations will begin. \nGuidelines!\n– Please have your pieces not exceed 10 minutes – All pieces will be timed. Pieces no more than 11 pages – one-sided pages only. Play excerpts\, monologues\, or short plays are only allowed to present. \n– No screenplays or sketches at this time. \n– 6 playwrights guaranteed to present. \n– Bring enough scripts for your cast and stage directions reader. \nParking: At 5:00 pm\, free parking in front of the building or in the parking deck. \nDon’t Miss It\, Monday\, October 7! \nSee Ya Then!
URL:https://unitedarts.org/calendar/sips-scripts/2029-04-02/
LOCATION:Thompson Theatre at NC State University\, 2241 Dunn Ave.\, Raleigh
ATTACH;FMTTYPE=image/jpeg:https://unitedarts.org/wp-content/uploads/2024/09/FB_IMG_1725855304153.jpg
ORGANIZER;CN="Yvette Holder":MAILTO:yvette@sipsandscriptslive.com
END:VEVENT
BEGIN:VEVENT
DTSTART;TZID=America/New_York:20290604T180000
DTEND;TZID=America/New_York:20290604T200000
DTSTAMP:20260423T125942
CREATED:20240919T025150Z
LAST-MODIFIED:20240919T154101Z
UID:10001135-1875290400-1875297600@unitedarts.org
SUMMARY:Sips & Scripts
DESCRIPTION:NC Playwrights\, Actors\, and Community! \nIt’s A Night of Scripts\, Cold Reading\, and Critique! \nSips & Scripts Will Be at NC State University Theatre….Monday\, October 7! \nCome Hear an Actor Cold Read Your New Play OR Come as an Actor to Read as a Character OR Simply Hear What New Stories Playwrights are Creating and Feel Free to Provide Your Feedback! \nSips & Scripts Readings are Free and Open to All! \nLocation: 2241 Dunn Ave. in Raleigh \n– Playwrights! Arrive Early as Possible\, Close to 5:00 pm to Reserve Your Spot! \n– Actors! Also Arrive Early as Possible\, Close to 5:00 pm – Casting Will Begin! 6:00 pm is when All presentations will begin. \nGuidelines!\n– Please have your pieces not exceed 10 minutes – All pieces will be timed. Pieces no more than 11 pages – one-sided pages only. Play excerpts\, monologues\, or short plays are only allowed to present. \n– No screenplays or sketches at this time. \n– 6 playwrights guaranteed to present. \n– Bring enough scripts for your cast and stage directions reader. \nParking: At 5:00 pm\, free parking in front of the building or in the parking deck. \nDon’t Miss It\, Monday\, October 7! \nSee Ya Then!
URL:https://unitedarts.org/calendar/sips-scripts/2029-06-04/
LOCATION:Thompson Theatre at NC State University\, 2241 Dunn Ave.\, Raleigh
ATTACH;FMTTYPE=image/jpeg:https://unitedarts.org/wp-content/uploads/2024/09/FB_IMG_1725855304153.jpg
ORGANIZER;CN="Yvette Holder":MAILTO:yvette@sipsandscriptslive.com
END:VEVENT
BEGIN:VEVENT
DTSTART;TZID=America/New_York:20290806T180000
DTEND;TZID=America/New_York:20290806T200000
DTSTAMP:20260423T125942
CREATED:20240919T025150Z
LAST-MODIFIED:20240919T154101Z
UID:10001136-1880733600-1880740800@unitedarts.org
SUMMARY:Sips & Scripts
DESCRIPTION:NC Playwrights\, Actors\, and Community! \nIt’s A Night of Scripts\, Cold Reading\, and Critique! \nSips & Scripts Will Be at NC State University Theatre….Monday\, October 7! \nCome Hear an Actor Cold Read Your New Play OR Come as an Actor to Read as a Character OR Simply Hear What New Stories Playwrights are Creating and Feel Free to Provide Your Feedback! \nSips & Scripts Readings are Free and Open to All! \nLocation: 2241 Dunn Ave. in Raleigh \n– Playwrights! Arrive Early as Possible\, Close to 5:00 pm to Reserve Your Spot! \n– Actors! Also Arrive Early as Possible\, Close to 5:00 pm – Casting Will Begin! 6:00 pm is when All presentations will begin. \nGuidelines!\n– Please have your pieces not exceed 10 minutes – All pieces will be timed. Pieces no more than 11 pages – one-sided pages only. Play excerpts\, monologues\, or short plays are only allowed to present. \n– No screenplays or sketches at this time. \n– 6 playwrights guaranteed to present. \n– Bring enough scripts for your cast and stage directions reader. \nParking: At 5:00 pm\, free parking in front of the building or in the parking deck. \nDon’t Miss It\, Monday\, October 7! \nSee Ya Then!
URL:https://unitedarts.org/calendar/sips-scripts/2029-08-06/
LOCATION:Thompson Theatre at NC State University\, 2241 Dunn Ave.\, Raleigh
ATTACH;FMTTYPE=image/jpeg:https://unitedarts.org/wp-content/uploads/2024/09/FB_IMG_1725855304153.jpg
ORGANIZER;CN="Yvette Holder":MAILTO:yvette@sipsandscriptslive.com
END:VEVENT
END:VCALENDAR