BEGIN:VCALENDAR
VERSION:2.0
PRODID:-//United Arts Wake County - ECPv6.15.20//NONSGML v1.0//EN
CALSCALE:GREGORIAN
METHOD:PUBLISH
X-WR-CALNAME:United Arts Wake County
X-ORIGINAL-URL:https://unitedarts.org
X-WR-CALDESC:Events for United Arts Wake County
REFRESH-INTERVAL;VALUE=DURATION:PT1H
X-Robots-Tag:noindex
X-PUBLISHED-TTL:PT1H
BEGIN:VTIMEZONE
TZID:America/New_York
BEGIN:DAYLIGHT
TZOFFSETFROM:-0500
TZOFFSETTO:-0400
TZNAME:EDT
DTSTART:20250309T070000
END:DAYLIGHT
BEGIN:STANDARD
TZOFFSETFROM:-0400
TZOFFSETTO:-0500
TZNAME:EST
DTSTART:20251102T060000
END:STANDARD
BEGIN:DAYLIGHT
TZOFFSETFROM:-0500
TZOFFSETTO:-0400
TZNAME:EDT
DTSTART:20260308T070000
END:DAYLIGHT
BEGIN:STANDARD
TZOFFSETFROM:-0400
TZOFFSETTO:-0500
TZNAME:EST
DTSTART:20261101T060000
END:STANDARD
BEGIN:DAYLIGHT
TZOFFSETFROM:-0500
TZOFFSETTO:-0400
TZNAME:EDT
DTSTART:20270314T070000
END:DAYLIGHT
BEGIN:STANDARD
TZOFFSETFROM:-0400
TZOFFSETTO:-0500
TZNAME:EST
DTSTART:20271107T060000
END:STANDARD
END:VTIMEZONE
BEGIN:VEVENT
DTSTART;TZID=America/New_York:20260426T140000
DTEND;TZID=America/New_York:20260426T153000
DTSTAMP:20260420T062337
CREATED:20260317T193747Z
LAST-MODIFIED:20260317T193747Z
UID:10007437-1777212000-1777217400@unitedarts.org
SUMMARY:Oberlin Writers' Group: Blackout Poetry
DESCRIPTION:April is National Poetry Month\, and we’re going to celebrate it! Join us at this month’s meeting of the Oberlin Writers’ Group for a blackout poetry exercise. Registration is requested. If you signed up for the Tuesday session\, please do not sign up for this session.
URL:https://unitedarts.org/calendar/oberlin-writers-group-blackout-poetry-2/
LOCATION:Oberlin Regional Library\, 1930 Clark Ave\, Raleigh\, 27605
CATEGORIES:Workshop
ATTACH;FMTTYPE=image/png:https://unitedarts.org/wp-content/uploads/2026/03/oberlin_writers_group_event_image.png
END:VEVENT
BEGIN:VEVENT
DTSTART;TZID=America/New_York:20260428T183000
DTEND;TZID=America/New_York:20260428T200000
DTSTAMP:20260420T062337
CREATED:20260317T193706Z
LAST-MODIFIED:20260317T193706Z
UID:10007438-1777401000-1777406400@unitedarts.org
SUMMARY:Oberlin Writers' Group: Blackout Poetry
DESCRIPTION:April is National Poetry Month\, and we’re going to celebrate it! Join us at this month’s meeting of the Oberlin Writers’ Group for a blackout poetry exercise. Registration is requested. If you signed up for the Sunday session\, please do not sign up for this session.
URL:https://unitedarts.org/calendar/oberlin-writers-group-blackout-poetry/
LOCATION:Oberlin Regional Library\, 1930 Clark Ave\, Raleigh\, 27605
CATEGORIES:Workshop
ATTACH;FMTTYPE=image/png:https://unitedarts.org/wp-content/uploads/2026/03/oberlin_writers_group_event_image-1.png
END:VEVENT
BEGIN:VEVENT
DTSTART;TZID=America/New_York:20260512T183000
DTEND;TZID=America/New_York:20260512T200000
DTSTAMP:20260420T062337
CREATED:20260419T221653Z
LAST-MODIFIED:20260419T221653Z
UID:10007476-1778610600-1778616000@unitedarts.org
SUMMARY:Writing Critique Night
DESCRIPTION:Join fellow writers and a representative of the NC Writers’ Network for a night of productive critique! Bring 3 or fewer pages of prose or poetry to receive feedback in small groups\, then offer your own feedback to other writers in return. If possible\, please bring a printed copy of your work. Registration is requested.
URL:https://unitedarts.org/calendar/writing-critique-night/
LOCATION:Oberlin Regional Library\, 1930 Clark Ave\, Raleigh\, 27605
ATTACH;FMTTYPE=image/png:https://unitedarts.org/wp-content/uploads/2026/04/eventcalendarimage.png
END:VEVENT
END:VCALENDAR