BEGIN:VCALENDAR
VERSION:2.0
PRODID:-//United Arts Wake County - ECPv6.15.20//NONSGML v1.0//EN
CALSCALE:GREGORIAN
METHOD:PUBLISH
X-ORIGINAL-URL:https://unitedarts.org
X-WR-CALDESC:Events for United Arts Wake County
REFRESH-INTERVAL;VALUE=DURATION:PT1H
X-Robots-Tag:noindex
X-PUBLISHED-TTL:PT1H
BEGIN:VTIMEZONE
TZID:America/New_York
BEGIN:DAYLIGHT
TZOFFSETFROM:-0500
TZOFFSETTO:-0400
TZNAME:EDT
DTSTART:20240310T070000
END:DAYLIGHT
BEGIN:STANDARD
TZOFFSETFROM:-0400
TZOFFSETTO:-0500
TZNAME:EST
DTSTART:20241103T060000
END:STANDARD
BEGIN:DAYLIGHT
TZOFFSETFROM:-0500
TZOFFSETTO:-0400
TZNAME:EDT
DTSTART:20250309T070000
END:DAYLIGHT
BEGIN:STANDARD
TZOFFSETFROM:-0400
TZOFFSETTO:-0500
TZNAME:EST
DTSTART:20251102T060000
END:STANDARD
BEGIN:DAYLIGHT
TZOFFSETFROM:-0500
TZOFFSETTO:-0400
TZNAME:EDT
DTSTART:20260308T070000
END:DAYLIGHT
BEGIN:STANDARD
TZOFFSETFROM:-0400
TZOFFSETTO:-0500
TZNAME:EST
DTSTART:20261101T060000
END:STANDARD
END:VTIMEZONE
BEGIN:VEVENT
DTSTART;TZID=America/New_York:20250215T130000
DTEND;TZID=America/New_York:20250215T140000
DTSTAMP:20260422T124900
CREATED:20250206T172231Z
LAST-MODIFIED:20250206T172231Z
UID:10001260-1739624400-1739628000@unitedarts.org
SUMMARY:Digging Deeper: Stories in Local Archaeology Surviving Extinction: Land Claims & Tuscarora Treaties
DESCRIPTION:Come join us as Donnie “Rahnàwakęw” McDowell leads the presentation\, “Surviving Extinction: Land Claims & Tuscarora Treaties”\, which analyzes the unique relationships the ancestors of the Tuscarora Nation established with the colonial government of the State of North Carolina. \nBy placing a lens on the original agreements made between the Tuscarora and the new coming colonists\, we better comprehend the diplomatic strategies and cultural philosophies of each culture. Discussions include ancient Tuscarora archaeological sites across the State\, conflict with Europeans during the colonial era\, the establishment of Wake County and the City of Raleigh\, and the NC Assembly’s longstanding policy of Tuscarora disenfranchisement.
URL:https://unitedarts.org/calendar/digging-deeper-stories-in-local-archaeology-surviving-extinction-land-claims-tuscarora-treaties/
LOCATION:Mordecai Historic Park\, 1101 Wake Forest rd.\, Raleigh\, NC\, 27604\, United States
ATTACH;FMTTYPE=image/jpeg:https://unitedarts.org/wp-content/uploads/2025/02/digging-deeper.jpg
END:VEVENT
END:VCALENDAR