BEGIN:VCALENDAR
VERSION:2.0
PRODID:-//United Arts Wake County - ECPv6.15.20//NONSGML v1.0//EN
CALSCALE:GREGORIAN
METHOD:PUBLISH
X-WR-CALNAME:United Arts Wake County
X-ORIGINAL-URL:https://unitedarts.org
X-WR-CALDESC:Events for United Arts Wake County
REFRESH-INTERVAL;VALUE=DURATION:PT1H
X-Robots-Tag:noindex
X-PUBLISHED-TTL:PT1H
BEGIN:VTIMEZONE
TZID:America/New_York
BEGIN:DAYLIGHT
TZOFFSETFROM:-0500
TZOFFSETTO:-0400
TZNAME:EDT
DTSTART:20240310T070000
END:DAYLIGHT
BEGIN:STANDARD
TZOFFSETFROM:-0400
TZOFFSETTO:-0500
TZNAME:EST
DTSTART:20241103T060000
END:STANDARD
BEGIN:DAYLIGHT
TZOFFSETFROM:-0500
TZOFFSETTO:-0400
TZNAME:EDT
DTSTART:20250309T070000
END:DAYLIGHT
BEGIN:STANDARD
TZOFFSETFROM:-0400
TZOFFSETTO:-0500
TZNAME:EST
DTSTART:20251102T060000
END:STANDARD
BEGIN:DAYLIGHT
TZOFFSETFROM:-0500
TZOFFSETTO:-0400
TZNAME:EDT
DTSTART:20260308T070000
END:DAYLIGHT
BEGIN:STANDARD
TZOFFSETFROM:-0400
TZOFFSETTO:-0500
TZNAME:EST
DTSTART:20261101T060000
END:STANDARD
END:VTIMEZONE
BEGIN:VEVENT
DTSTART;TZID=America/New_York:20250615T140000
DTEND;TZID=America/New_York:20250615T160000
DTSTAMP:20260422T013628
CREATED:20250505T194915Z
LAST-MODIFIED:20250505T194915Z
UID:10001666-1749996000-1750003200@unitedarts.org
SUMMARY:Dial M for Murder by Jeffrey Hatcher
DESCRIPTION:Jeffrey Hatcher’s new adaptation of the celebrated murder mystery that inspired Hitchcock’s masterpiece! \nTony is convinced that his wife Margot has been cheating on him. While the affair may be over\, his jealousy is not. Tony spins a web of deception that will tighten around them and ensnare them both in danger\, recrimination and murder. \nFrederick Knott’s Dial M for Murder premiered in London in 1952 before opening on Broadway later that year. The 1954 film adaptation\, directed by Alfred Hitchcock\, starred Ray Milland and Grace Kelly. \nDirected by Mia Self. \nCast — \nTONY………………………………….Gus Allen\nMARGOT…………………………….Alex Bailey Hodson\nMAXINE………………………………Jean Jamison\nLESGATE…………………………….Kevin Aponte\nINSPECTOR HUBBARD…………Michael Parker\nSWING………………………………..Katie Barrett\nSWING………………………………..Brayden S. Hearn \nCommunity Nights are Friday\, May 30 and June 6. All general public seats only $20. \nSupertitles projected May 30\, June 1\, 5\, 13 and 15. \nTheatreFEST is funded in part by the City of Raleigh based on recommendations of the Raleigh Arts Commission.
URL:https://unitedarts.org/calendar/dial-m-for-murder-by-jeffrey-hatcher/2025-06-15/
LOCATION:Kennedy-McIlwee Studio Theatre at Frank Thompson Hall\, 2241 Dunn Avenue\, Raleigh\, 27695
ATTACH;FMTTYPE=image/png:https://unitedarts.org/wp-content/uploads/2025/05/DialM-FB-Event-Cover.png
ORGANIZER;CN="University Theatre at NC State":MAILTO:universitytheatre@ncsu.edu
END:VEVENT
BEGIN:VEVENT
DTSTART;TZID=America/New_York:20250608T140000
DTEND;TZID=America/New_York:20250608T160000
DTSTAMP:20260422T013628
CREATED:20250505T194915Z
LAST-MODIFIED:20250505T194915Z
UID:10001665-1749391200-1749398400@unitedarts.org
SUMMARY:Dial M for Murder by Jeffrey Hatcher
DESCRIPTION:Jeffrey Hatcher’s new adaptation of the celebrated murder mystery that inspired Hitchcock’s masterpiece! \nTony is convinced that his wife Margot has been cheating on him. While the affair may be over\, his jealousy is not. Tony spins a web of deception that will tighten around them and ensnare them both in danger\, recrimination and murder. \nFrederick Knott’s Dial M for Murder premiered in London in 1952 before opening on Broadway later that year. The 1954 film adaptation\, directed by Alfred Hitchcock\, starred Ray Milland and Grace Kelly. \nDirected by Mia Self. \nCast — \nTONY………………………………….Gus Allen\nMARGOT…………………………….Alex Bailey Hodson\nMAXINE………………………………Jean Jamison\nLESGATE…………………………….Kevin Aponte\nINSPECTOR HUBBARD…………Michael Parker\nSWING………………………………..Katie Barrett\nSWING………………………………..Brayden S. Hearn \nCommunity Nights are Friday\, May 30 and June 6. All general public seats only $20. \nSupertitles projected May 30\, June 1\, 5\, 13 and 15. \nTheatreFEST is funded in part by the City of Raleigh based on recommendations of the Raleigh Arts Commission.
URL:https://unitedarts.org/calendar/dial-m-for-murder-by-jeffrey-hatcher/2025-06-08/
LOCATION:Kennedy-McIlwee Studio Theatre at Frank Thompson Hall\, 2241 Dunn Avenue\, Raleigh\, 27695
ATTACH;FMTTYPE=image/png:https://unitedarts.org/wp-content/uploads/2025/05/DialM-FB-Event-Cover.png
ORGANIZER;CN="University Theatre at NC State":MAILTO:universitytheatre@ncsu.edu
END:VEVENT
BEGIN:VEVENT
DTSTART;TZID=America/New_York:20250601T140000
DTEND;TZID=America/New_York:20250601T160000
DTSTAMP:20260422T013628
CREATED:20250505T194915Z
LAST-MODIFIED:20250505T194915Z
UID:10001664-1748786400-1748793600@unitedarts.org
SUMMARY:Dial M for Murder by Jeffrey Hatcher
DESCRIPTION:Jeffrey Hatcher’s new adaptation of the celebrated murder mystery that inspired Hitchcock’s masterpiece! \nTony is convinced that his wife Margot has been cheating on him. While the affair may be over\, his jealousy is not. Tony spins a web of deception that will tighten around them and ensnare them both in danger\, recrimination and murder. \nFrederick Knott’s Dial M for Murder premiered in London in 1952 before opening on Broadway later that year. The 1954 film adaptation\, directed by Alfred Hitchcock\, starred Ray Milland and Grace Kelly. \nDirected by Mia Self. \nCast — \nTONY………………………………….Gus Allen\nMARGOT…………………………….Alex Bailey Hodson\nMAXINE………………………………Jean Jamison\nLESGATE…………………………….Kevin Aponte\nINSPECTOR HUBBARD…………Michael Parker\nSWING………………………………..Katie Barrett\nSWING………………………………..Brayden S. Hearn \nCommunity Nights are Friday\, May 30 and June 6. All general public seats only $20. \nSupertitles projected May 30\, June 1\, 5\, 13 and 15. \nTheatreFEST is funded in part by the City of Raleigh based on recommendations of the Raleigh Arts Commission.
URL:https://unitedarts.org/calendar/dial-m-for-murder-by-jeffrey-hatcher/2025-06-01/
LOCATION:Kennedy-McIlwee Studio Theatre at Frank Thompson Hall\, 2241 Dunn Avenue\, Raleigh\, 27695
ATTACH;FMTTYPE=image/png:https://unitedarts.org/wp-content/uploads/2025/05/DialM-FB-Event-Cover.png
ORGANIZER;CN="University Theatre at NC State":MAILTO:universitytheatre@ncsu.edu
END:VEVENT
BEGIN:VEVENT
DTSTART;TZID=America/New_York:20250531T193000
DTEND;TZID=America/New_York:20250531T213000
DTSTAMP:20260422T013628
CREATED:20250505T194915Z
LAST-MODIFIED:20250505T194915Z
UID:10001663-1748719800-1748727000@unitedarts.org
SUMMARY:Dial M for Murder by Jeffrey Hatcher
DESCRIPTION:Jeffrey Hatcher’s new adaptation of the celebrated murder mystery that inspired Hitchcock’s masterpiece! \nTony is convinced that his wife Margot has been cheating on him. While the affair may be over\, his jealousy is not. Tony spins a web of deception that will tighten around them and ensnare them both in danger\, recrimination and murder. \nFrederick Knott’s Dial M for Murder premiered in London in 1952 before opening on Broadway later that year. The 1954 film adaptation\, directed by Alfred Hitchcock\, starred Ray Milland and Grace Kelly. \nDirected by Mia Self. \nCast — \nTONY………………………………….Gus Allen\nMARGOT…………………………….Alex Bailey Hodson\nMAXINE………………………………Jean Jamison\nLESGATE…………………………….Kevin Aponte\nINSPECTOR HUBBARD…………Michael Parker\nSWING………………………………..Katie Barrett\nSWING………………………………..Brayden S. Hearn \nCommunity Nights are Friday\, May 30 and June 6. All general public seats only $20. \nSupertitles projected May 30\, June 1\, 5\, 13 and 15. \nTheatreFEST is funded in part by the City of Raleigh based on recommendations of the Raleigh Arts Commission.
URL:https://unitedarts.org/calendar/dial-m-for-murder-by-jeffrey-hatcher/2025-05-31/
LOCATION:Kennedy-McIlwee Studio Theatre at Frank Thompson Hall\, 2241 Dunn Avenue\, Raleigh\, 27695
ATTACH;FMTTYPE=image/png:https://unitedarts.org/wp-content/uploads/2025/05/DialM-FB-Event-Cover.png
ORGANIZER;CN="University Theatre at NC State":MAILTO:universitytheatre@ncsu.edu
END:VEVENT
BEGIN:VEVENT
DTSTART;TZID=America/New_York:20250530T193000
DTEND;TZID=America/New_York:20250530T213000
DTSTAMP:20260422T013628
CREATED:20250505T194915Z
LAST-MODIFIED:20250505T194915Z
UID:10001662-1748633400-1748640600@unitedarts.org
SUMMARY:Dial M for Murder by Jeffrey Hatcher
DESCRIPTION:Jeffrey Hatcher’s new adaptation of the celebrated murder mystery that inspired Hitchcock’s masterpiece! \nTony is convinced that his wife Margot has been cheating on him. While the affair may be over\, his jealousy is not. Tony spins a web of deception that will tighten around them and ensnare them both in danger\, recrimination and murder. \nFrederick Knott’s Dial M for Murder premiered in London in 1952 before opening on Broadway later that year. The 1954 film adaptation\, directed by Alfred Hitchcock\, starred Ray Milland and Grace Kelly. \nDirected by Mia Self. \nCast — \nTONY………………………………….Gus Allen\nMARGOT…………………………….Alex Bailey Hodson\nMAXINE………………………………Jean Jamison\nLESGATE…………………………….Kevin Aponte\nINSPECTOR HUBBARD…………Michael Parker\nSWING………………………………..Katie Barrett\nSWING………………………………..Brayden S. Hearn \nCommunity Nights are Friday\, May 30 and June 6. All general public seats only $20. \nSupertitles projected May 30\, June 1\, 5\, 13 and 15. \nTheatreFEST is funded in part by the City of Raleigh based on recommendations of the Raleigh Arts Commission.
URL:https://unitedarts.org/calendar/dial-m-for-murder-by-jeffrey-hatcher/2025-05-30/
LOCATION:Kennedy-McIlwee Studio Theatre at Frank Thompson Hall\, 2241 Dunn Avenue\, Raleigh\, 27695
ATTACH;FMTTYPE=image/png:https://unitedarts.org/wp-content/uploads/2025/05/DialM-FB-Event-Cover.png
ORGANIZER;CN="University Theatre at NC State":MAILTO:universitytheatre@ncsu.edu
END:VEVENT
BEGIN:VEVENT
DTSTART;TZID=America/New_York:20250529T193000
DTEND;TZID=America/New_York:20250529T213000
DTSTAMP:20260422T013628
CREATED:20250505T194915Z
LAST-MODIFIED:20250505T194915Z
UID:10001661-1748547000-1748554200@unitedarts.org
SUMMARY:Dial M for Murder by Jeffrey Hatcher
DESCRIPTION:Jeffrey Hatcher’s new adaptation of the celebrated murder mystery that inspired Hitchcock’s masterpiece! \nTony is convinced that his wife Margot has been cheating on him. While the affair may be over\, his jealousy is not. Tony spins a web of deception that will tighten around them and ensnare them both in danger\, recrimination and murder. \nFrederick Knott’s Dial M for Murder premiered in London in 1952 before opening on Broadway later that year. The 1954 film adaptation\, directed by Alfred Hitchcock\, starred Ray Milland and Grace Kelly. \nDirected by Mia Self. \nCast — \nTONY………………………………….Gus Allen\nMARGOT…………………………….Alex Bailey Hodson\nMAXINE………………………………Jean Jamison\nLESGATE…………………………….Kevin Aponte\nINSPECTOR HUBBARD…………Michael Parker\nSWING………………………………..Katie Barrett\nSWING………………………………..Brayden S. Hearn \nCommunity Nights are Friday\, May 30 and June 6. All general public seats only $20. \nSupertitles projected May 30\, June 1\, 5\, 13 and 15. \nTheatreFEST is funded in part by the City of Raleigh based on recommendations of the Raleigh Arts Commission.
URL:https://unitedarts.org/calendar/dial-m-for-murder-by-jeffrey-hatcher/2025-05-29/
LOCATION:Kennedy-McIlwee Studio Theatre at Frank Thompson Hall\, 2241 Dunn Avenue\, Raleigh\, 27695
ATTACH;FMTTYPE=image/png:https://unitedarts.org/wp-content/uploads/2025/05/DialM-FB-Event-Cover.png
ORGANIZER;CN="University Theatre at NC State":MAILTO:universitytheatre@ncsu.edu
END:VEVENT
END:VCALENDAR