BEGIN:VCALENDAR
VERSION:2.0
PRODID:-//United Arts Wake County - ECPv6.15.20//NONSGML v1.0//EN
CALSCALE:GREGORIAN
METHOD:PUBLISH
X-WR-CALNAME:United Arts Wake County
X-ORIGINAL-URL:https://unitedarts.org
X-WR-CALDESC:Events for United Arts Wake County
REFRESH-INTERVAL;VALUE=DURATION:PT1H
X-Robots-Tag:noindex
X-PUBLISHED-TTL:PT1H
BEGIN:VTIMEZONE
TZID:America/New_York
BEGIN:DAYLIGHT
TZOFFSETFROM:-0500
TZOFFSETTO:-0400
TZNAME:EDT
DTSTART:20240310T070000
END:DAYLIGHT
BEGIN:STANDARD
TZOFFSETFROM:-0400
TZOFFSETTO:-0500
TZNAME:EST
DTSTART:20241103T060000
END:STANDARD
BEGIN:DAYLIGHT
TZOFFSETFROM:-0500
TZOFFSETTO:-0400
TZNAME:EDT
DTSTART:20250309T070000
END:DAYLIGHT
BEGIN:STANDARD
TZOFFSETFROM:-0400
TZOFFSETTO:-0500
TZNAME:EST
DTSTART:20251102T060000
END:STANDARD
BEGIN:DAYLIGHT
TZOFFSETFROM:-0500
TZOFFSETTO:-0400
TZNAME:EDT
DTSTART:20260308T070000
END:DAYLIGHT
BEGIN:STANDARD
TZOFFSETFROM:-0400
TZOFFSETTO:-0500
TZNAME:EST
DTSTART:20261101T060000
END:STANDARD
END:VTIMEZONE
BEGIN:VEVENT
DTSTART;TZID=America/New_York:20250330T160000
DTEND;TZID=America/New_York:20250330T173000
DTSTAMP:20260422T011246
CREATED:20250321T154628Z
LAST-MODIFIED:20250321T154628Z
UID:10001321-1743350400-1743355800@unitedarts.org
SUMMARY:ADF Showings at Scripps: Big Red Dance Project
DESCRIPTION:ADF Showings at Scripps: Big Red Dance Project\nThe Big Red Dance Project is pleased to invite you to an open showing. \nThe showing will be 4:00-5:30pm on Sunday\, March 30th. \nWe hope you will join us for this special event! This is a FREE event\, but we do ask that you make a reservation in advance. With thanks for your interest and support. \nGerri and the dancers of the Big Red Dance Project \nLocation: \nADF Samuel H. Scripps Studios\n721 Broad Street\nDurham\, NC 27705\nPhoto by Alexa Velez \nDesign by Gerri Houlihan \nThe ADF studio subsidy program is funded by the Robert and Mercedes Eichholz Foundation. \nRegistration is required!\nhttps://docs.google.com/forms/d/e/1FAIpQLSdEy3sk-Ne0GiY4sV36mZF5C7gqhPCsbC31eSQbH0ThAMa2oA/viewform
URL:https://unitedarts.org/calendar/adf-showings-at-scripps-big-red-dance-project/
LOCATION:ADF Scripps Studios\, 721 Broad Street\, Durham\, NC\, 27705
ATTACH;FMTTYPE=image/jpeg:https://unitedarts.org/wp-content/uploads/2025/03/48-scaled.jpg
ORGANIZER;CN="Big Red Dance Project":MAILTO:bigreddanceproject@gmail.com
END:VEVENT
END:VCALENDAR