BEGIN:VCALENDAR
VERSION:2.0
PRODID:-//United Arts Wake County - ECPv6.15.20//NONSGML v1.0//EN
CALSCALE:GREGORIAN
METHOD:PUBLISH
X-WR-CALNAME:United Arts Wake County
X-ORIGINAL-URL:https://unitedarts.org
X-WR-CALDESC:Events for United Arts Wake County
REFRESH-INTERVAL;VALUE=DURATION:PT1H
X-Robots-Tag:noindex
X-PUBLISHED-TTL:PT1H
BEGIN:VTIMEZONE
TZID:America/New_York
BEGIN:DAYLIGHT
TZOFFSETFROM:-0500
TZOFFSETTO:-0400
TZNAME:EDT
DTSTART:20230312T070000
END:DAYLIGHT
BEGIN:STANDARD
TZOFFSETFROM:-0400
TZOFFSETTO:-0500
TZNAME:EST
DTSTART:20231105T060000
END:STANDARD
BEGIN:DAYLIGHT
TZOFFSETFROM:-0500
TZOFFSETTO:-0400
TZNAME:EDT
DTSTART:20240310T070000
END:DAYLIGHT
BEGIN:STANDARD
TZOFFSETFROM:-0400
TZOFFSETTO:-0500
TZNAME:EST
DTSTART:20241103T060000
END:STANDARD
BEGIN:DAYLIGHT
TZOFFSETFROM:-0500
TZOFFSETTO:-0400
TZNAME:EDT
DTSTART:20250309T070000
END:DAYLIGHT
BEGIN:STANDARD
TZOFFSETFROM:-0400
TZOFFSETTO:-0500
TZNAME:EST
DTSTART:20251102T060000
END:STANDARD
END:VTIMEZONE
BEGIN:VEVENT
DTSTART;TZID=America/New_York:20240525T193000
DTEND;TZID=America/New_York:20240525T210000
DTSTAMP:20260420T091806
CREATED:20240514T183922Z
LAST-MODIFIED:20240514T183922Z
UID:10000719-1716665400-1716670800@unitedarts.org
SUMMARY:Blank - a reversal of the typical theater experience
DESCRIPTION:The Justice Theater Project proudly presents BLANK\, an innovative theatrical experience crafted by the creative genius Nassim Soleimanpour. Set to premiere on May 16\, 2024 across multiple venues in the Triangle\, BLANK redefines the boundaries of storytelling and underscores theatre’s strength as a communal endeavor. \nBLANK isn’t just a play—it’s an invitation to participate in the creation of art. As the audience becomes co-authors of the story\, the boundaries between performer and spectator blur\, fostering an immersive experience where laughter\, gasps\, and shared moments of revelation intertwine. Each of these local superstars can only ever perform this once in their lifetime\, so if you’re curious\, don’t miss out! \nMay 16th: 7:30pm at The Justice Theater Project. Actor: Matara Hitchcock. \n**May 17th: 7:30pm at NorthStar Church of the Arts (different venue!). Actor: Thaddaeus Edwards.** \nMay 18th: 7:30pm at The Justice Theater Project. Actor: Brian Westbrook. Partnered with the LGBT Center of Raleigh! \n**May 19th: 2:00pm at The Fuquay-Varina Arts Center (different venue!). Actor: Heather J. Strickland.** \nMay 24th: 7:30pm at The Justice Theater Project. Actor: Byron Jennings. \nMay 25th: 7:30pm at The Justice Theater Project. Actor: David Henderson.
URL:https://unitedarts.org/calendar/blank-a-reversal-of-the-typical-theater-experience/2024-05-25/
LOCATION:The Justice Theater Project\, 8208 Brownleigh Dr\, Raleigh\, NC\, 27617-7411\, United States
ATTACH;FMTTYPE=image/png:https://unitedarts.org/wp-content/uploads/2024/05/blank-image.png
ORGANIZER;CN="The":MAILTO:thejusticetheaterproject@gmail.com
END:VEVENT
BEGIN:VEVENT
DTSTART;TZID=America/New_York:20240524T193000
DTEND;TZID=America/New_York:20240524T210000
DTSTAMP:20260420T091806
CREATED:20240514T183922Z
LAST-MODIFIED:20240514T183922Z
UID:10000718-1716579000-1716584400@unitedarts.org
SUMMARY:Blank - a reversal of the typical theater experience
DESCRIPTION:The Justice Theater Project proudly presents BLANK\, an innovative theatrical experience crafted by the creative genius Nassim Soleimanpour. Set to premiere on May 16\, 2024 across multiple venues in the Triangle\, BLANK redefines the boundaries of storytelling and underscores theatre’s strength as a communal endeavor. \nBLANK isn’t just a play—it’s an invitation to participate in the creation of art. As the audience becomes co-authors of the story\, the boundaries between performer and spectator blur\, fostering an immersive experience where laughter\, gasps\, and shared moments of revelation intertwine. Each of these local superstars can only ever perform this once in their lifetime\, so if you’re curious\, don’t miss out! \nMay 16th: 7:30pm at The Justice Theater Project. Actor: Matara Hitchcock. \n**May 17th: 7:30pm at NorthStar Church of the Arts (different venue!). Actor: Thaddaeus Edwards.** \nMay 18th: 7:30pm at The Justice Theater Project. Actor: Brian Westbrook. Partnered with the LGBT Center of Raleigh! \n**May 19th: 2:00pm at The Fuquay-Varina Arts Center (different venue!). Actor: Heather J. Strickland.** \nMay 24th: 7:30pm at The Justice Theater Project. Actor: Byron Jennings. \nMay 25th: 7:30pm at The Justice Theater Project. Actor: David Henderson.
URL:https://unitedarts.org/calendar/blank-a-reversal-of-the-typical-theater-experience/2024-05-24/
LOCATION:The Justice Theater Project\, 8208 Brownleigh Dr\, Raleigh\, NC\, 27617-7411\, United States
ATTACH;FMTTYPE=image/png:https://unitedarts.org/wp-content/uploads/2024/05/blank-image.png
ORGANIZER;CN="The":MAILTO:thejusticetheaterproject@gmail.com
END:VEVENT
BEGIN:VEVENT
DTSTART;TZID=America/New_York:20240519T140000
DTEND;TZID=America/New_York:20240519T153000
DTSTAMP:20260420T091806
CREATED:20240514T183922Z
LAST-MODIFIED:20240514T183922Z
UID:10000717-1716127200-1716132600@unitedarts.org
SUMMARY:Blank - a reversal of the typical theater experience
DESCRIPTION:The Justice Theater Project proudly presents BLANK\, an innovative theatrical experience crafted by the creative genius Nassim Soleimanpour. Set to premiere on May 16\, 2024 across multiple venues in the Triangle\, BLANK redefines the boundaries of storytelling and underscores theatre’s strength as a communal endeavor. \nBLANK isn’t just a play—it’s an invitation to participate in the creation of art. As the audience becomes co-authors of the story\, the boundaries between performer and spectator blur\, fostering an immersive experience where laughter\, gasps\, and shared moments of revelation intertwine. Each of these local superstars can only ever perform this once in their lifetime\, so if you’re curious\, don’t miss out! \nMay 16th: 7:30pm at The Justice Theater Project. Actor: Matara Hitchcock. \n**May 17th: 7:30pm at NorthStar Church of the Arts (different venue!). Actor: Thaddaeus Edwards.** \nMay 18th: 7:30pm at The Justice Theater Project. Actor: Brian Westbrook. Partnered with the LGBT Center of Raleigh! \n**May 19th: 2:00pm at The Fuquay-Varina Arts Center (different venue!). Actor: Heather J. Strickland.** \nMay 24th: 7:30pm at The Justice Theater Project. Actor: Byron Jennings. \nMay 25th: 7:30pm at The Justice Theater Project. Actor: David Henderson.
URL:https://unitedarts.org/calendar/blank-a-reversal-of-the-typical-theater-experience/2024-05-19/
LOCATION:The Justice Theater Project\, 8208 Brownleigh Dr\, Raleigh\, NC\, 27617-7411\, United States
ATTACH;FMTTYPE=image/png:https://unitedarts.org/wp-content/uploads/2024/05/blank-image.png
ORGANIZER;CN="The":MAILTO:thejusticetheaterproject@gmail.com
END:VEVENT
BEGIN:VEVENT
DTSTART;TZID=America/New_York:20240518T193000
DTEND;TZID=America/New_York:20240518T210000
DTSTAMP:20260420T091806
CREATED:20240514T183922Z
LAST-MODIFIED:20240514T183922Z
UID:10000716-1716060600-1716066000@unitedarts.org
SUMMARY:Blank - a reversal of the typical theater experience
DESCRIPTION:The Justice Theater Project proudly presents BLANK\, an innovative theatrical experience crafted by the creative genius Nassim Soleimanpour. Set to premiere on May 16\, 2024 across multiple venues in the Triangle\, BLANK redefines the boundaries of storytelling and underscores theatre’s strength as a communal endeavor. \nBLANK isn’t just a play—it’s an invitation to participate in the creation of art. As the audience becomes co-authors of the story\, the boundaries between performer and spectator blur\, fostering an immersive experience where laughter\, gasps\, and shared moments of revelation intertwine. Each of these local superstars can only ever perform this once in their lifetime\, so if you’re curious\, don’t miss out! \nMay 16th: 7:30pm at The Justice Theater Project. Actor: Matara Hitchcock. \n**May 17th: 7:30pm at NorthStar Church of the Arts (different venue!). Actor: Thaddaeus Edwards.** \nMay 18th: 7:30pm at The Justice Theater Project. Actor: Brian Westbrook. Partnered with the LGBT Center of Raleigh! \n**May 19th: 2:00pm at The Fuquay-Varina Arts Center (different venue!). Actor: Heather J. Strickland.** \nMay 24th: 7:30pm at The Justice Theater Project. Actor: Byron Jennings. \nMay 25th: 7:30pm at The Justice Theater Project. Actor: David Henderson.
URL:https://unitedarts.org/calendar/blank-a-reversal-of-the-typical-theater-experience/2024-05-18/
LOCATION:The Justice Theater Project\, 8208 Brownleigh Dr\, Raleigh\, NC\, 27617-7411\, United States
ATTACH;FMTTYPE=image/png:https://unitedarts.org/wp-content/uploads/2024/05/blank-image.png
ORGANIZER;CN="The":MAILTO:thejusticetheaterproject@gmail.com
END:VEVENT
BEGIN:VEVENT
DTSTART;TZID=America/New_York:20240517T193000
DTEND;TZID=America/New_York:20240517T210000
DTSTAMP:20260420T091806
CREATED:20240514T183922Z
LAST-MODIFIED:20240514T183922Z
UID:10000715-1715974200-1715979600@unitedarts.org
SUMMARY:Blank - a reversal of the typical theater experience
DESCRIPTION:The Justice Theater Project proudly presents BLANK\, an innovative theatrical experience crafted by the creative genius Nassim Soleimanpour. Set to premiere on May 16\, 2024 across multiple venues in the Triangle\, BLANK redefines the boundaries of storytelling and underscores theatre’s strength as a communal endeavor. \nBLANK isn’t just a play—it’s an invitation to participate in the creation of art. As the audience becomes co-authors of the story\, the boundaries between performer and spectator blur\, fostering an immersive experience where laughter\, gasps\, and shared moments of revelation intertwine. Each of these local superstars can only ever perform this once in their lifetime\, so if you’re curious\, don’t miss out! \nMay 16th: 7:30pm at The Justice Theater Project. Actor: Matara Hitchcock. \n**May 17th: 7:30pm at NorthStar Church of the Arts (different venue!). Actor: Thaddaeus Edwards.** \nMay 18th: 7:30pm at The Justice Theater Project. Actor: Brian Westbrook. Partnered with the LGBT Center of Raleigh! \n**May 19th: 2:00pm at The Fuquay-Varina Arts Center (different venue!). Actor: Heather J. Strickland.** \nMay 24th: 7:30pm at The Justice Theater Project. Actor: Byron Jennings. \nMay 25th: 7:30pm at The Justice Theater Project. Actor: David Henderson.
URL:https://unitedarts.org/calendar/blank-a-reversal-of-the-typical-theater-experience/2024-05-17/
LOCATION:The Justice Theater Project\, 8208 Brownleigh Dr\, Raleigh\, NC\, 27617-7411\, United States
ATTACH;FMTTYPE=image/png:https://unitedarts.org/wp-content/uploads/2024/05/blank-image.png
ORGANIZER;CN="The":MAILTO:thejusticetheaterproject@gmail.com
END:VEVENT
BEGIN:VEVENT
DTSTART;TZID=America/New_York:20240516T193000
DTEND;TZID=America/New_York:20240516T210000
DTSTAMP:20260420T091806
CREATED:20240514T183922Z
LAST-MODIFIED:20240514T183922Z
UID:10000714-1715887800-1715893200@unitedarts.org
SUMMARY:Blank - a reversal of the typical theater experience
DESCRIPTION:The Justice Theater Project proudly presents BLANK\, an innovative theatrical experience crafted by the creative genius Nassim Soleimanpour. Set to premiere on May 16\, 2024 across multiple venues in the Triangle\, BLANK redefines the boundaries of storytelling and underscores theatre’s strength as a communal endeavor. \nBLANK isn’t just a play—it’s an invitation to participate in the creation of art. As the audience becomes co-authors of the story\, the boundaries between performer and spectator blur\, fostering an immersive experience where laughter\, gasps\, and shared moments of revelation intertwine. Each of these local superstars can only ever perform this once in their lifetime\, so if you’re curious\, don’t miss out! \nMay 16th: 7:30pm at The Justice Theater Project. Actor: Matara Hitchcock. \n**May 17th: 7:30pm at NorthStar Church of the Arts (different venue!). Actor: Thaddaeus Edwards.** \nMay 18th: 7:30pm at The Justice Theater Project. Actor: Brian Westbrook. Partnered with the LGBT Center of Raleigh! \n**May 19th: 2:00pm at The Fuquay-Varina Arts Center (different venue!). Actor: Heather J. Strickland.** \nMay 24th: 7:30pm at The Justice Theater Project. Actor: Byron Jennings. \nMay 25th: 7:30pm at The Justice Theater Project. Actor: David Henderson.
URL:https://unitedarts.org/calendar/blank-a-reversal-of-the-typical-theater-experience/2024-05-16/
LOCATION:The Justice Theater Project\, 8208 Brownleigh Dr\, Raleigh\, NC\, 27617-7411\, United States
ATTACH;FMTTYPE=image/png:https://unitedarts.org/wp-content/uploads/2024/05/blank-image.png
ORGANIZER;CN="The":MAILTO:thejusticetheaterproject@gmail.com
END:VEVENT
END:VCALENDAR