BEGIN:VCALENDAR
VERSION:2.0
PRODID:-//United Arts Wake County - ECPv6.15.20//NONSGML v1.0//EN
CALSCALE:GREGORIAN
METHOD:PUBLISH
X-WR-CALNAME:United Arts Wake County
X-ORIGINAL-URL:https://unitedarts.org
X-WR-CALDESC:Events for United Arts Wake County
REFRESH-INTERVAL;VALUE=DURATION:PT1H
X-Robots-Tag:noindex
X-PUBLISHED-TTL:PT1H
BEGIN:VTIMEZONE
TZID:America/New_York
BEGIN:DAYLIGHT
TZOFFSETFROM:-0500
TZOFFSETTO:-0400
TZNAME:EDT
DTSTART:20240310T070000
END:DAYLIGHT
BEGIN:STANDARD
TZOFFSETFROM:-0400
TZOFFSETTO:-0500
TZNAME:EST
DTSTART:20241103T060000
END:STANDARD
BEGIN:DAYLIGHT
TZOFFSETFROM:-0500
TZOFFSETTO:-0400
TZNAME:EDT
DTSTART:20250309T070000
END:DAYLIGHT
BEGIN:STANDARD
TZOFFSETFROM:-0400
TZOFFSETTO:-0500
TZNAME:EST
DTSTART:20251102T060000
END:STANDARD
BEGIN:DAYLIGHT
TZOFFSETFROM:-0500
TZOFFSETTO:-0400
TZNAME:EDT
DTSTART:20260308T070000
END:DAYLIGHT
BEGIN:STANDARD
TZOFFSETFROM:-0400
TZOFFSETTO:-0500
TZNAME:EST
DTSTART:20261101T060000
END:STANDARD
END:VTIMEZONE
BEGIN:VEVENT
DTSTART;TZID=America/New_York:20250624T180000
DTEND;TZID=America/New_York:20250624T200000
DTSTAMP:20260421T233959
CREATED:20250521T152430Z
LAST-MODIFIED:20250522T150524Z
UID:10001681-1750788000-1750795200@unitedarts.org
SUMMARY:Healing Art Circle with Noni
DESCRIPTION:Come and experience a unique event filled with creativity and healing vibes at Junction West. Noni will guide us through a transformative art session where we will explore our emotions and express ourselves through art. No prior art experience is needed – just an open heart and mind! \nA FREE event designed for the community to come together in a safe and supportive space to connect\, heal\, and unleash our creativity. Don’t miss out on this opportunity to nurture your soul and leave feeling refreshed and inspired. See you there! \nPlease note: This is not a clinical therapy session. This is a well-being community session. \nAll art supplies will be provided! \nThis event is FREE but registration is recommended.
URL:https://unitedarts.org/calendar/healing-art-circle-with-noni/
LOCATION:Junction West – 310 S West St Suite 110\, Raleigh\, NC 27603\, 310 S West Street\, Suite 110\, Raleigh\, 27603
CATEGORIES:Workshop
ATTACH;FMTTYPE=image/png:https://unitedarts.org/wp-content/uploads/2025/05/Healing-Art-at-Junction-West.png
ORGANIZER;CN="Artist Ummah":MAILTO:artistummah@gmail.com
END:VEVENT
END:VCALENDAR