BEGIN:VCALENDAR
VERSION:2.0
PRODID:-//United Arts Wake County - ECPv6.15.20//NONSGML v1.0//EN
CALSCALE:GREGORIAN
METHOD:PUBLISH
X-WR-CALNAME:United Arts Wake County
X-ORIGINAL-URL:https://unitedarts.org
X-WR-CALDESC:Events for United Arts Wake County
REFRESH-INTERVAL;VALUE=DURATION:PT1H
X-Robots-Tag:noindex
X-PUBLISHED-TTL:PT1H
BEGIN:VTIMEZONE
TZID:America/New_York
BEGIN:DAYLIGHT
TZOFFSETFROM:-0500
TZOFFSETTO:-0400
TZNAME:EDT
DTSTART:20250309T070000
END:DAYLIGHT
BEGIN:STANDARD
TZOFFSETFROM:-0400
TZOFFSETTO:-0500
TZNAME:EST
DTSTART:20251102T060000
END:STANDARD
BEGIN:DAYLIGHT
TZOFFSETFROM:-0500
TZOFFSETTO:-0400
TZNAME:EDT
DTSTART:20260308T070000
END:DAYLIGHT
BEGIN:STANDARD
TZOFFSETFROM:-0400
TZOFFSETTO:-0500
TZNAME:EST
DTSTART:20261101T060000
END:STANDARD
BEGIN:DAYLIGHT
TZOFFSETFROM:-0500
TZOFFSETTO:-0400
TZNAME:EDT
DTSTART:20270314T070000
END:DAYLIGHT
BEGIN:STANDARD
TZOFFSETFROM:-0400
TZOFFSETTO:-0500
TZNAME:EST
DTSTART:20271107T060000
END:STANDARD
END:VTIMEZONE
BEGIN:VEVENT
DTSTART;TZID=America/New_York:20260522T193000
DTEND;TZID=America/New_York:20260522T220000
DTSTAMP:20260423T220241
CREATED:20260422T211111Z
LAST-MODIFIED:20260423T211113Z
UID:10007480-1779478200-1779487200@unitedarts.org
SUMMARY:2026 Down Home Concert Series: The Secret Sisters
DESCRIPTION:Lobby doors open 6:30 p.m. | Theater doors open 7 p.m. | Showtime 7:30 p.m.\nA.J. Fletcher Opera Theater | Martin Marietta Center for the Performing Arts | Raleigh \nOrchestra: $48.26 members; $53.62 public\nBalcony: $42.90 members; $48.26 public\nRear: $24.67\nTicket prices shown here include facility fee and sales tax.  \nBUY TICKETS ONLINE\, OR CALL OUR BOX OFFICE AT 919-664-8333 TO SAVE ON FEES. \n  \nSince their 2010 self-titled debut\, The Secret Sisters have brought their spellbinding harmonies to songs that untangle the thorniest aspects of life and love and womanhood. Hailing from Florence\, Alabama\, sisters Laura Rogers and Lydia Slagle harmonize on original country-folk songs that evoke a past era while dwelling in the modern world.
URL:https://unitedarts.org/calendar/2026-down-home-concert-series-the-secret-sisters/
LOCATION:A.J. Fletcher Theater\, 2 E. South Street\, Raleigh\, 27601
CATEGORIES:Concert
ATTACH;FMTTYPE=image/png:https://unitedarts.org/wp-content/uploads/2026/04/8-zcRdcN.png
END:VEVENT
END:VCALENDAR