BEGIN:VCALENDAR
VERSION:2.0
PRODID:-//United Arts Wake County - ECPv6.15.20//NONSGML v1.0//EN
CALSCALE:GREGORIAN
METHOD:PUBLISH
X-WR-CALNAME:United Arts Wake County
X-ORIGINAL-URL:https://unitedarts.org
X-WR-CALDESC:Events for United Arts Wake County
REFRESH-INTERVAL;VALUE=DURATION:PT1H
X-Robots-Tag:noindex
X-PUBLISHED-TTL:PT1H
BEGIN:VTIMEZONE
TZID:America/New_York
BEGIN:DAYLIGHT
TZOFFSETFROM:-0500
TZOFFSETTO:-0400
TZNAME:EDT
DTSTART:20250309T070000
END:DAYLIGHT
BEGIN:STANDARD
TZOFFSETFROM:-0400
TZOFFSETTO:-0500
TZNAME:EST
DTSTART:20251102T060000
END:STANDARD
BEGIN:DAYLIGHT
TZOFFSETFROM:-0500
TZOFFSETTO:-0400
TZNAME:EDT
DTSTART:20260308T070000
END:DAYLIGHT
BEGIN:STANDARD
TZOFFSETFROM:-0400
TZOFFSETTO:-0500
TZNAME:EST
DTSTART:20261101T060000
END:STANDARD
BEGIN:DAYLIGHT
TZOFFSETFROM:-0500
TZOFFSETTO:-0400
TZNAME:EDT
DTSTART:20270314T070000
END:DAYLIGHT
BEGIN:STANDARD
TZOFFSETFROM:-0400
TZOFFSETTO:-0500
TZNAME:EST
DTSTART:20271107T060000
END:STANDARD
END:VTIMEZONE
BEGIN:VEVENT
DTSTART;TZID=America/New_York:20260124T080000
DTEND;TZID=America/New_York:20260124T170000
DTSTAMP:20260421T202828
CREATED:20251202T182500Z
LAST-MODIFIED:20251202T182500Z
UID:10006369-1769241600-1769274000@unitedarts.org
SUMMARY:Being The Church One Day Conference  2026
DESCRIPTION:Year’s Conference\nPoverty continues to plague our communities and nation. Unfortunately\, deprivation in certain communities is rooted in systemic oppression and inequitable policies that disproportionately impact underrepresented groups. Churches and their members have a vital role in pursuing justice and equality. This year’s Being the Church One-Day Conference will examine the link between policy and poverty\, equipping congregations to move beyond charity-based responses toward a dual focus – meeting immediate needs while advocating for lasting systemic change.
URL:https://unitedarts.org/calendar/being-the-church-one-day-conference-2026/
LOCATION:Walker Memorial Baptist Church\, 2020 13th St NW\, Washington\, DC\, 20009
CATEGORIES:Workshop
ATTACH;FMTTYPE=image/png:https://unitedarts.org/wp-content/uploads/2025/12/WMBC-BTC-SCR-1-2.png
END:VEVENT
END:VCALENDAR