BEGIN:VCALENDAR
VERSION:2.0
PRODID:-//United Arts Wake County - ECPv6.15.20//NONSGML v1.0//EN
CALSCALE:GREGORIAN
METHOD:PUBLISH
X-ORIGINAL-URL:https://unitedarts.org
X-WR-CALDESC:Events for United Arts Wake County
REFRESH-INTERVAL;VALUE=DURATION:PT1H
X-Robots-Tag:noindex
X-PUBLISHED-TTL:PT1H
BEGIN:VTIMEZONE
TZID:America/New_York
BEGIN:DAYLIGHT
TZOFFSETFROM:-0500
TZOFFSETTO:-0400
TZNAME:EDT
DTSTART:20240310T070000
END:DAYLIGHT
BEGIN:STANDARD
TZOFFSETFROM:-0400
TZOFFSETTO:-0500
TZNAME:EST
DTSTART:20241103T060000
END:STANDARD
BEGIN:DAYLIGHT
TZOFFSETFROM:-0500
TZOFFSETTO:-0400
TZNAME:EDT
DTSTART:20250309T070000
END:DAYLIGHT
BEGIN:STANDARD
TZOFFSETFROM:-0400
TZOFFSETTO:-0500
TZNAME:EST
DTSTART:20251102T060000
END:STANDARD
BEGIN:DAYLIGHT
TZOFFSETFROM:-0500
TZOFFSETTO:-0400
TZNAME:EDT
DTSTART:20260308T070000
END:DAYLIGHT
BEGIN:STANDARD
TZOFFSETFROM:-0400
TZOFFSETTO:-0500
TZNAME:EST
DTSTART:20261101T060000
END:STANDARD
END:VTIMEZONE
BEGIN:VEVENT
DTSTART;TZID=America/New_York:20251104T183000
DTEND;TZID=America/New_York:20251104T210000
DTSTAMP:20260422T011658
CREATED:20251104T061004Z
LAST-MODIFIED:20251104T061004Z
UID:10006354-1762281000-1762290000@unitedarts.org
SUMMARY:Beer and Banjos: The Eastside Ramblers
DESCRIPTION:The Eastside Ramblers\, hosts of a weekly bluegrass jam at Bond Brothers\, will bring the grass to Beer and Banjos this week all the way from Cary. Come sit in on this great time from 6:30-9 p.m. at Bowstring Pizza and Brewyard in Raleigh. \nBeer and Banjos is a free\, family-friendly evening of roots music every Tuesday at Raleigh’s Bowstring Pizza and Brewyard. Hosted by the mighty local musicians known collectively as the Beer and Banjos Allstars\, these weekly concerts feature guest musicians and take place on Bowstring’s spacious patio when the weather allows\, or inside by the bar when rain\, heat\, or cold threaten the vibe. \nTips for the musicians are gratefully accepted (look for a helper walking around with a bucket for cash and QR codes for online tips)\, and don’t forget to check out the merch table. Bowstring serves tasty pizza and other food as well as cold beer and other beverages.
URL:https://unitedarts.org/calendar/beer-and-banjos-the-eastside-ramblers/
LOCATION:Bowstring Pizza and Brewyard\, 1930 Wake Forest Rd\, Raleigh\, NC\, 27608\, United States
CATEGORIES:Beer and Banjos
ATTACH;FMTTYPE=image/png:https://unitedarts.org/wp-content/uploads/2025/11/Eastside-Ramblers-BB-2025-169-for-event-CqR5nj.png
END:VEVENT
END:VCALENDAR