BEGIN:VCALENDAR
VERSION:2.0
PRODID:-//United Arts Wake County - ECPv6.15.20//NONSGML v1.0//EN
CALSCALE:GREGORIAN
METHOD:PUBLISH
X-WR-CALNAME:United Arts Wake County
X-ORIGINAL-URL:https://unitedarts.org
X-WR-CALDESC:Events for United Arts Wake County
REFRESH-INTERVAL;VALUE=DURATION:PT1H
X-Robots-Tag:noindex
X-PUBLISHED-TTL:PT1H
BEGIN:VTIMEZONE
TZID:America/New_York
BEGIN:DAYLIGHT
TZOFFSETFROM:-0500
TZOFFSETTO:-0400
TZNAME:EDT
DTSTART:20240310T070000
END:DAYLIGHT
BEGIN:STANDARD
TZOFFSETFROM:-0400
TZOFFSETTO:-0500
TZNAME:EST
DTSTART:20241103T060000
END:STANDARD
BEGIN:DAYLIGHT
TZOFFSETFROM:-0500
TZOFFSETTO:-0400
TZNAME:EDT
DTSTART:20250309T070000
END:DAYLIGHT
BEGIN:STANDARD
TZOFFSETFROM:-0400
TZOFFSETTO:-0500
TZNAME:EST
DTSTART:20251102T060000
END:STANDARD
BEGIN:DAYLIGHT
TZOFFSETFROM:-0500
TZOFFSETTO:-0400
TZNAME:EDT
DTSTART:20260308T070000
END:DAYLIGHT
BEGIN:STANDARD
TZOFFSETFROM:-0400
TZOFFSETTO:-0500
TZNAME:EST
DTSTART:20261101T060000
END:STANDARD
END:VTIMEZONE
BEGIN:VEVENT
DTSTART;TZID=America/New_York:20251209T193000
DTEND;TZID=America/New_York:20251209T210000
DTSTAMP:20260423T160933
CREATED:20250925T191755Z
LAST-MODIFIED:20250925T191846Z
UID:10005929-1765308600-1765314000@unitedarts.org
SUMMARY:Holiday Pops
DESCRIPTION:Concert Singers of Cary presents Holiday Pops: Timeless Tidings and Festive Firsts! This beloved annual tradition at the bedecked Cary Arts Center is sure to get you in the holiday spirit. A family-friendly fun program of familiar and new holiday tunes complete with guest artists\, this performance will have something for everyone. Come enjoy downtown Cary and spend some time with Concert Singers as we embrace the joy of the holiday season! \nOur guest conductor is Dr. Megan Boyd!
URL:https://unitedarts.org/calendar/holiday-pops/
LOCATION:Cary Arts Center\, 101 Dry Avenue\, Cary\, 27511
CATEGORIES:Concert
ORGANIZER;CN="Concert Singers of Cary":MAILTO:executivedir@concertsingers.org
END:VEVENT
BEGIN:VEVENT
DTSTART;TZID=America/New_York:20251231T140000
DTEND;TZID=America/New_York:20251231T233000
DTSTAMP:20260423T160933
CREATED:20250728T181637Z
LAST-MODIFIED:20250728T181637Z
UID:10003019-1767189600-1767223800@unitedarts.org
SUMMARY:First Night Raleigh
DESCRIPTION:Raleigh’s ultimate New Years Eve party awaits at WRAL First Night – a popular tradition for thousands of NC residents! Festivities begin with the early afternoon City Plaza outdoor musical performances and the Children’s Celebration at 2pm. Performances and activities will continue throughout the evening across multiple indoor venues throughout Downtown Raleigh. The night is capped off with music on the outdoor Main Stage\, the famous Raleigh Acorn Drop\, and a spectacular fireworks show.
URL:https://unitedarts.org/calendar/first-night-raleigh/
LOCATION:Fayetteville Street\, 443 Fayetteville Street\, Raleigh\, 27601
CATEGORIES:Concert
ATTACH;FMTTYPE=image/jpeg:https://unitedarts.org/wp-content/uploads/2025/07/First-Night-Image.jpeg
END:VEVENT
END:VCALENDAR