BEGIN:VCALENDAR
VERSION:2.0
PRODID:-//United Arts Wake County - ECPv6.15.20//NONSGML v1.0//EN
CALSCALE:GREGORIAN
METHOD:PUBLISH
X-WR-CALNAME:United Arts Wake County
X-ORIGINAL-URL:https://unitedarts.org
X-WR-CALDESC:Events for United Arts Wake County
REFRESH-INTERVAL;VALUE=DURATION:PT1H
X-Robots-Tag:noindex
X-PUBLISHED-TTL:PT1H
BEGIN:VTIMEZONE
TZID:America/New_York
BEGIN:DAYLIGHT
TZOFFSETFROM:-0500
TZOFFSETTO:-0400
TZNAME:EDT
DTSTART:20250309T070000
END:DAYLIGHT
BEGIN:STANDARD
TZOFFSETFROM:-0400
TZOFFSETTO:-0500
TZNAME:EST
DTSTART:20251102T060000
END:STANDARD
BEGIN:DAYLIGHT
TZOFFSETFROM:-0500
TZOFFSETTO:-0400
TZNAME:EDT
DTSTART:20260308T070000
END:DAYLIGHT
BEGIN:STANDARD
TZOFFSETFROM:-0400
TZOFFSETTO:-0500
TZNAME:EST
DTSTART:20261101T060000
END:STANDARD
BEGIN:DAYLIGHT
TZOFFSETFROM:-0500
TZOFFSETTO:-0400
TZNAME:EDT
DTSTART:20270314T070000
END:DAYLIGHT
BEGIN:STANDARD
TZOFFSETFROM:-0400
TZOFFSETTO:-0500
TZNAME:EST
DTSTART:20271107T060000
END:STANDARD
END:VTIMEZONE
BEGIN:VEVENT
DTSTART;TZID=America/New_York:20260501T193000
DTEND;TZID=America/New_York:20260501T220000
DTSTAMP:20260421T165930
CREATED:20260401T182029Z
LAST-MODIFIED:20260421T204513Z
UID:10007465-1777663800-1777672800@unitedarts.org
SUMMARY:2026 Down Home Concert Series: Woody Platt and the Bluegrass Gentlemen
DESCRIPTION:Lobby doors open 6:30 p.m. | Theater doors open 7 p.m. | Showtime 7:30 p.m.\nA.J. Fletcher Opera Theater | Martin Marietta Center for the Performing Arts | Raleigh \nOrchestra: $48.26 members; $53.62 public\nBalcony: $42.90 members; $48.26 public\nRear: $24.67\nTicket prices shown here include facility fee and sales tax.  \nBUY TICKETS ONLINE\, OR CALL OUR BOX OFFICE AT 919-664-8333 TO SAVE ON FEES. \n  \nWoody Platt and The Bluegrass Gentlemen bring a fresh\, modern approach to classic bluegrass\, led by Grammy Award-winner Woody Platt. As a founding member of the acclaimed Steep Canyon Rangers and a frequent touring partner of Steve Martin\, Woody’s legacy in bluegrass is well established. The Bluegrass Gentlemen brings together some of the most celebrated talents in bluegrass: Daren Shumaker on mandolin\, Bennett Sullivan on banjo\, Casey Driessen on fiddle\, Buddy Melton on bass\, and Woody on guitar.  \nEach member has a notable career\, recognized for their musicianship and contributions to the genre. Woody’s first solo record\, Far Away with You\, released on Compass Records\, showcases collaborations with his musical heroes\, including Darrell Scott\, Sam Bush\, Del McCoury\, Tim O’Brien\, Jerry Douglas\, and Shannon Whitworth. Together\, Woody Platt and The Bluegrass Gentleman pay homage to bluegrass roots while offering a dynamic\, contemporary edge that resonates with new and seasoned fans alike.
URL:https://unitedarts.org/calendar/2026-down-home-concert-series-woody-platt-and-the-bluegrass-gentlemen/
LOCATION:A.J. Fletcher Theater\, 2 E. South Street\, Raleigh\, 27601
CATEGORIES:Concert
ATTACH;FMTTYPE=image/png:https://unitedarts.org/wp-content/uploads/2026/04/7-OC21fT.png
END:VEVENT
END:VCALENDAR