BEGIN:VCALENDAR
VERSION:2.0
PRODID:-//United Arts Wake County - ECPv6.15.20//NONSGML v1.0//EN
CALSCALE:GREGORIAN
METHOD:PUBLISH
X-ORIGINAL-URL:https://unitedarts.org
X-WR-CALDESC:Events for United Arts Wake County
REFRESH-INTERVAL;VALUE=DURATION:PT1H
X-Robots-Tag:noindex
X-PUBLISHED-TTL:PT1H
BEGIN:VTIMEZONE
TZID:America/New_York
BEGIN:DAYLIGHT
TZOFFSETFROM:-0500
TZOFFSETTO:-0400
TZNAME:EDT
DTSTART:20250309T070000
END:DAYLIGHT
BEGIN:STANDARD
TZOFFSETFROM:-0400
TZOFFSETTO:-0500
TZNAME:EST
DTSTART:20251102T060000
END:STANDARD
BEGIN:DAYLIGHT
TZOFFSETFROM:-0500
TZOFFSETTO:-0400
TZNAME:EDT
DTSTART:20260308T070000
END:DAYLIGHT
BEGIN:STANDARD
TZOFFSETFROM:-0400
TZOFFSETTO:-0500
TZNAME:EST
DTSTART:20261101T060000
END:STANDARD
BEGIN:DAYLIGHT
TZOFFSETFROM:-0500
TZOFFSETTO:-0400
TZNAME:EDT
DTSTART:20270314T070000
END:DAYLIGHT
BEGIN:STANDARD
TZOFFSETFROM:-0400
TZOFFSETTO:-0500
TZNAME:EST
DTSTART:20271107T060000
END:STANDARD
END:VTIMEZONE
BEGIN:VEVENT
DTSTART;TZID=America/New_York:20260802T170000
DTEND;TZID=America/New_York:20260802T183000
DTSTAMP:20260421T214443
CREATED:20250801T220516Z
LAST-MODIFIED:20250801T220516Z
UID:10002935-1785690000-1785695400@unitedarts.org
SUMMARY:Roll\, Release and Reset
DESCRIPTION:Ages 18+\nThis workshop focuses on enhancing strength and stability in the body and pelvic floor region through a combination of exercises and techniques. This class will also provide a self-care component that empowers participants to take control of their health. \nIn addition to targeted exercises\, participants will also learn myofascial release techniques using therapy balls to promote relaxation and release tension in the muscles. Join us to improve your pelvic floor health and overall well-being.
URL:https://unitedarts.org/calendar/roll-release-and-reset/2026-08-02/
LOCATION:Arts Together\, 114 SAINT MARYS ST\, RALEIGH\, NC\, 27605-1809\, United States
CATEGORIES:Workshop
END:VEVENT
BEGIN:VEVENT
DTSTART;TZID=America/New_York:20260803T174500
DTEND;TZID=America/New_York:20260803T184500
DTSTAMP:20260421T214443
CREATED:20250801T220713Z
LAST-MODIFIED:20250801T220713Z
UID:10002820-1785779100-1785782700@unitedarts.org
SUMMARY:Beginning Painting Workshop
DESCRIPTION:Ages 13+ This is a great class for new painters\, as well as existing painters who would like to follow along. We will learn about different paint styles and techniques\, explore color and work on developing our painting skills. Several themed paint projects will be completed in this session.
URL:https://unitedarts.org/calendar/beginning-painting-workshop/2026-08-03/
LOCATION:Arts Together\, 114 SAINT MARYS ST\, RALEIGH\, NC\, 27605-1809\, United States
CATEGORIES:Workshop
END:VEVENT
BEGIN:VEVENT
DTSTART;TZID=America/New_York:20260803T183000
DTEND;TZID=America/New_York:20260803T193000
DTSTAMP:20260421T214443
CREATED:20250801T220459Z
LAST-MODIFIED:20250801T220459Z
UID:10002993-1785781800-1785785400@unitedarts.org
SUMMARY:Beginning Jazz Workshop
DESCRIPTION:Ages 18+\nIn this engaging beginning Jazz class\, participants will delve into a captivating blend of strength-building exercises\, precise body alignment techniques\, and invigorating conditioning routines. \nWith a focus on cultivating musicality and honing individual style\, students will unlock the secrets of this exhilarating dance form\, discovering the joy of movement and self-expression along the way. No prior experience necessary.
URL:https://unitedarts.org/calendar/beginning-jazz-workshop/2026-08-03/
LOCATION:Arts Together\, 114 SAINT MARYS ST\, RALEIGH\, NC\, 27605-1809\, United States
CATEGORIES:Workshop
END:VEVENT
BEGIN:VEVENT
DTSTART;TZID=America/New_York:20260805T110000
DTEND;TZID=America/New_York:20260805T120000
DTSTAMP:20260421T214443
CREATED:20250801T220717Z
LAST-MODIFIED:20250801T220721Z
UID:10002875-1785927600-1785931200@unitedarts.org
SUMMARY:Aging Gracefully Creative Movement Workshop
DESCRIPTION:Ages 50+\nAging Gracefully: Meaningful Movement Explorations – As we age it is important to keep the body moving\, the brain focused\, and the spirit fueled. In this technique/creative dance class\, we will do so in a healthy\, FUN way. We will warm the body\, moving in a way that encourages each dancer to better honor and understand their unique physicality. \nNext\, dancers will explore different ways to generate movement phrases. Inspired by poetry\, visual art\, and personal experience\, we will create dances; accessing the wisdom of the body to express our relationship to the world\, each other\, and ourselves. \nNo prior dance experience needed\, just a willing heart <3
URL:https://unitedarts.org/calendar/aging-gracefully-creative-movement-workshop/2026-08-05/
LOCATION:Arts Together\, 114 SAINT MARYS ST\, RALEIGH\, NC\, 27605-1809\, United States
CATEGORIES:Workshop
END:VEVENT
BEGIN:VEVENT
DTSTART;TZID=America/New_York:20260809T170000
DTEND;TZID=America/New_York:20260809T183000
DTSTAMP:20260421T214443
CREATED:20250801T220516Z
LAST-MODIFIED:20250801T220516Z
UID:10002936-1786294800-1786300200@unitedarts.org
SUMMARY:Roll\, Release and Reset
DESCRIPTION:Ages 18+\nThis workshop focuses on enhancing strength and stability in the body and pelvic floor region through a combination of exercises and techniques. This class will also provide a self-care component that empowers participants to take control of their health. \nIn addition to targeted exercises\, participants will also learn myofascial release techniques using therapy balls to promote relaxation and release tension in the muscles. Join us to improve your pelvic floor health and overall well-being.
URL:https://unitedarts.org/calendar/roll-release-and-reset/2026-08-09/
LOCATION:Arts Together\, 114 SAINT MARYS ST\, RALEIGH\, NC\, 27605-1809\, United States
CATEGORIES:Workshop
END:VEVENT
BEGIN:VEVENT
DTSTART;TZID=America/New_York:20260810T174500
DTEND;TZID=America/New_York:20260810T184500
DTSTAMP:20260421T214443
CREATED:20250801T220713Z
LAST-MODIFIED:20250801T220713Z
UID:10002821-1786383900-1786387500@unitedarts.org
SUMMARY:Beginning Painting Workshop
DESCRIPTION:Ages 13+ This is a great class for new painters\, as well as existing painters who would like to follow along. We will learn about different paint styles and techniques\, explore color and work on developing our painting skills. Several themed paint projects will be completed in this session.
URL:https://unitedarts.org/calendar/beginning-painting-workshop/2026-08-10/
LOCATION:Arts Together\, 114 SAINT MARYS ST\, RALEIGH\, NC\, 27605-1809\, United States
CATEGORIES:Workshop
END:VEVENT
BEGIN:VEVENT
DTSTART;TZID=America/New_York:20260810T183000
DTEND;TZID=America/New_York:20260810T193000
DTSTAMP:20260421T214443
CREATED:20250801T220459Z
LAST-MODIFIED:20250801T220459Z
UID:10002994-1786386600-1786390200@unitedarts.org
SUMMARY:Beginning Jazz Workshop
DESCRIPTION:Ages 18+\nIn this engaging beginning Jazz class\, participants will delve into a captivating blend of strength-building exercises\, precise body alignment techniques\, and invigorating conditioning routines. \nWith a focus on cultivating musicality and honing individual style\, students will unlock the secrets of this exhilarating dance form\, discovering the joy of movement and self-expression along the way. No prior experience necessary.
URL:https://unitedarts.org/calendar/beginning-jazz-workshop/2026-08-10/
LOCATION:Arts Together\, 114 SAINT MARYS ST\, RALEIGH\, NC\, 27605-1809\, United States
CATEGORIES:Workshop
END:VEVENT
BEGIN:VEVENT
DTSTART;TZID=America/New_York:20260812T110000
DTEND;TZID=America/New_York:20260812T120000
DTSTAMP:20260421T214443
CREATED:20250801T220717Z
LAST-MODIFIED:20250801T220721Z
UID:10002876-1786532400-1786536000@unitedarts.org
SUMMARY:Aging Gracefully Creative Movement Workshop
DESCRIPTION:Ages 50+\nAging Gracefully: Meaningful Movement Explorations – As we age it is important to keep the body moving\, the brain focused\, and the spirit fueled. In this technique/creative dance class\, we will do so in a healthy\, FUN way. We will warm the body\, moving in a way that encourages each dancer to better honor and understand their unique physicality. \nNext\, dancers will explore different ways to generate movement phrases. Inspired by poetry\, visual art\, and personal experience\, we will create dances; accessing the wisdom of the body to express our relationship to the world\, each other\, and ourselves. \nNo prior dance experience needed\, just a willing heart <3
URL:https://unitedarts.org/calendar/aging-gracefully-creative-movement-workshop/2026-08-12/
LOCATION:Arts Together\, 114 SAINT MARYS ST\, RALEIGH\, NC\, 27605-1809\, United States
CATEGORIES:Workshop
END:VEVENT
BEGIN:VEVENT
DTSTART;TZID=America/New_York:20260816T170000
DTEND;TZID=America/New_York:20260816T183000
DTSTAMP:20260421T214443
CREATED:20250801T220516Z
LAST-MODIFIED:20250801T220516Z
UID:10002937-1786899600-1786905000@unitedarts.org
SUMMARY:Roll\, Release and Reset
DESCRIPTION:Ages 18+\nThis workshop focuses on enhancing strength and stability in the body and pelvic floor region through a combination of exercises and techniques. This class will also provide a self-care component that empowers participants to take control of their health. \nIn addition to targeted exercises\, participants will also learn myofascial release techniques using therapy balls to promote relaxation and release tension in the muscles. Join us to improve your pelvic floor health and overall well-being.
URL:https://unitedarts.org/calendar/roll-release-and-reset/2026-08-16/
LOCATION:Arts Together\, 114 SAINT MARYS ST\, RALEIGH\, NC\, 27605-1809\, United States
CATEGORIES:Workshop
END:VEVENT
BEGIN:VEVENT
DTSTART;TZID=America/New_York:20260817T174500
DTEND;TZID=America/New_York:20260817T184500
DTSTAMP:20260421T214443
CREATED:20250801T220713Z
LAST-MODIFIED:20250801T220713Z
UID:10002822-1786988700-1786992300@unitedarts.org
SUMMARY:Beginning Painting Workshop
DESCRIPTION:Ages 13+ This is a great class for new painters\, as well as existing painters who would like to follow along. We will learn about different paint styles and techniques\, explore color and work on developing our painting skills. Several themed paint projects will be completed in this session.
URL:https://unitedarts.org/calendar/beginning-painting-workshop/2026-08-17/
LOCATION:Arts Together\, 114 SAINT MARYS ST\, RALEIGH\, NC\, 27605-1809\, United States
CATEGORIES:Workshop
END:VEVENT
BEGIN:VEVENT
DTSTART;TZID=America/New_York:20260817T183000
DTEND;TZID=America/New_York:20260817T193000
DTSTAMP:20260421T214443
CREATED:20250801T220459Z
LAST-MODIFIED:20250801T220459Z
UID:10002995-1786991400-1786995000@unitedarts.org
SUMMARY:Beginning Jazz Workshop
DESCRIPTION:Ages 18+\nIn this engaging beginning Jazz class\, participants will delve into a captivating blend of strength-building exercises\, precise body alignment techniques\, and invigorating conditioning routines. \nWith a focus on cultivating musicality and honing individual style\, students will unlock the secrets of this exhilarating dance form\, discovering the joy of movement and self-expression along the way. No prior experience necessary.
URL:https://unitedarts.org/calendar/beginning-jazz-workshop/2026-08-17/
LOCATION:Arts Together\, 114 SAINT MARYS ST\, RALEIGH\, NC\, 27605-1809\, United States
CATEGORIES:Workshop
END:VEVENT
BEGIN:VEVENT
DTSTART;TZID=America/New_York:20260819T110000
DTEND;TZID=America/New_York:20260819T120000
DTSTAMP:20260421T214443
CREATED:20250801T220717Z
LAST-MODIFIED:20250801T220721Z
UID:10002877-1787137200-1787140800@unitedarts.org
SUMMARY:Aging Gracefully Creative Movement Workshop
DESCRIPTION:Ages 50+\nAging Gracefully: Meaningful Movement Explorations – As we age it is important to keep the body moving\, the brain focused\, and the spirit fueled. In this technique/creative dance class\, we will do so in a healthy\, FUN way. We will warm the body\, moving in a way that encourages each dancer to better honor and understand their unique physicality. \nNext\, dancers will explore different ways to generate movement phrases. Inspired by poetry\, visual art\, and personal experience\, we will create dances; accessing the wisdom of the body to express our relationship to the world\, each other\, and ourselves. \nNo prior dance experience needed\, just a willing heart <3
URL:https://unitedarts.org/calendar/aging-gracefully-creative-movement-workshop/2026-08-19/
LOCATION:Arts Together\, 114 SAINT MARYS ST\, RALEIGH\, NC\, 27605-1809\, United States
CATEGORIES:Workshop
END:VEVENT
BEGIN:VEVENT
DTSTART;TZID=America/New_York:20260820T143000
DTEND;TZID=America/New_York:20260820T153000
DTSTAMP:20260421T214443
CREATED:20260121T221406Z
LAST-MODIFIED:20260121T221406Z
UID:10006536-1787236200-1787239800@unitedarts.org
SUMMARY:The Write Stuff! Creative Writing Group
DESCRIPTION:If you enjoy creative writing or would like to try it for the first time\, then this Creative Writing Workshop may be just the place for you. Everyone will work together to explore creative writing in a safe\, open\, and encouraging environment. You may bring a short story or chapter from a larger body of work for peer feedback. 18+ only.
URL:https://unitedarts.org/calendar/the-write-stuff-creative-writing-group/2026-08-20/
LOCATION:Southeast Regional Library\, 908 7th Avenue\, Garner\, 27529
CATEGORIES:Workshop
ATTACH;FMTTYPE=image/jpeg:https://unitedarts.org/wp-content/uploads/2026/01/https___cdn.evbuc_.com_images_1172768000_2759378653911_1_original.jpg
ORGANIZER;CN="Southeast Regional Library":MAILTO:dillon.heath@wake.gov
END:VEVENT
BEGIN:VEVENT
DTSTART;TZID=America/New_York:20260823T170000
DTEND;TZID=America/New_York:20260823T183000
DTSTAMP:20260421T214443
CREATED:20250801T220516Z
LAST-MODIFIED:20250801T220516Z
UID:10002938-1787504400-1787509800@unitedarts.org
SUMMARY:Roll\, Release and Reset
DESCRIPTION:Ages 18+\nThis workshop focuses on enhancing strength and stability in the body and pelvic floor region through a combination of exercises and techniques. This class will also provide a self-care component that empowers participants to take control of their health. \nIn addition to targeted exercises\, participants will also learn myofascial release techniques using therapy balls to promote relaxation and release tension in the muscles. Join us to improve your pelvic floor health and overall well-being.
URL:https://unitedarts.org/calendar/roll-release-and-reset/2026-08-23/
LOCATION:Arts Together\, 114 SAINT MARYS ST\, RALEIGH\, NC\, 27605-1809\, United States
CATEGORIES:Workshop
END:VEVENT
BEGIN:VEVENT
DTSTART;TZID=America/New_York:20260824T174500
DTEND;TZID=America/New_York:20260824T184500
DTSTAMP:20260421T214443
CREATED:20250801T220713Z
LAST-MODIFIED:20250801T220713Z
UID:10002823-1787593500-1787597100@unitedarts.org
SUMMARY:Beginning Painting Workshop
DESCRIPTION:Ages 13+ This is a great class for new painters\, as well as existing painters who would like to follow along. We will learn about different paint styles and techniques\, explore color and work on developing our painting skills. Several themed paint projects will be completed in this session.
URL:https://unitedarts.org/calendar/beginning-painting-workshop/2026-08-24/
LOCATION:Arts Together\, 114 SAINT MARYS ST\, RALEIGH\, NC\, 27605-1809\, United States
CATEGORIES:Workshop
END:VEVENT
BEGIN:VEVENT
DTSTART;TZID=America/New_York:20260824T183000
DTEND;TZID=America/New_York:20260824T193000
DTSTAMP:20260421T214443
CREATED:20250801T220459Z
LAST-MODIFIED:20250801T220459Z
UID:10002996-1787596200-1787599800@unitedarts.org
SUMMARY:Beginning Jazz Workshop
DESCRIPTION:Ages 18+\nIn this engaging beginning Jazz class\, participants will delve into a captivating blend of strength-building exercises\, precise body alignment techniques\, and invigorating conditioning routines. \nWith a focus on cultivating musicality and honing individual style\, students will unlock the secrets of this exhilarating dance form\, discovering the joy of movement and self-expression along the way. No prior experience necessary.
URL:https://unitedarts.org/calendar/beginning-jazz-workshop/2026-08-24/
LOCATION:Arts Together\, 114 SAINT MARYS ST\, RALEIGH\, NC\, 27605-1809\, United States
CATEGORIES:Workshop
END:VEVENT
BEGIN:VEVENT
DTSTART;TZID=America/New_York:20260826T110000
DTEND;TZID=America/New_York:20260826T120000
DTSTAMP:20260421T214443
CREATED:20250801T220717Z
LAST-MODIFIED:20250801T220721Z
UID:10002878-1787742000-1787745600@unitedarts.org
SUMMARY:Aging Gracefully Creative Movement Workshop
DESCRIPTION:Ages 50+\nAging Gracefully: Meaningful Movement Explorations – As we age it is important to keep the body moving\, the brain focused\, and the spirit fueled. In this technique/creative dance class\, we will do so in a healthy\, FUN way. We will warm the body\, moving in a way that encourages each dancer to better honor and understand their unique physicality. \nNext\, dancers will explore different ways to generate movement phrases. Inspired by poetry\, visual art\, and personal experience\, we will create dances; accessing the wisdom of the body to express our relationship to the world\, each other\, and ourselves. \nNo prior dance experience needed\, just a willing heart <3
URL:https://unitedarts.org/calendar/aging-gracefully-creative-movement-workshop/2026-08-26/
LOCATION:Arts Together\, 114 SAINT MARYS ST\, RALEIGH\, NC\, 27605-1809\, United States
CATEGORIES:Workshop
END:VEVENT
BEGIN:VEVENT
DTSTART;TZID=America/New_York:20260826T183000
DTEND;TZID=America/New_York:20260826T200000
DTSTAMP:20260421T214443
CREATED:20260215T050542Z
LAST-MODIFIED:20260215T050542Z
UID:10007062-1787769000-1787774400@unitedarts.org
SUMMARY:Wake Forest Writers' Group
DESCRIPTION:Discuss the craft of storytelling\, exchange feedback\, and engage in writing prompts that spark creativity in a welcoming environment. Find great resources here: guides.wake.gov/writinggroups For ages 17+
URL:https://unitedarts.org/calendar/wake-forest-writers-group/2026-08-26/
LOCATION:Wake Forest Community Library\, 400 E Holding Ave\, Wake Forest\, 27587
CATEGORIES:Workshop
ATTACH;FMTTYPE=image/jpeg:https://unitedarts.org/wp-content/uploads/2026/02/writers.jpg
ORGANIZER;CN="Wake Forest Community Library":MAILTO:amanda.gawthorpe@wake.gov
END:VEVENT
BEGIN:VEVENT
DTSTART;TZID=America/New_York:20260830T170000
DTEND;TZID=America/New_York:20260830T183000
DTSTAMP:20260421T214443
CREATED:20250801T220516Z
LAST-MODIFIED:20250801T220516Z
UID:10002939-1788109200-1788114600@unitedarts.org
SUMMARY:Roll\, Release and Reset
DESCRIPTION:Ages 18+\nThis workshop focuses on enhancing strength and stability in the body and pelvic floor region through a combination of exercises and techniques. This class will also provide a self-care component that empowers participants to take control of their health. \nIn addition to targeted exercises\, participants will also learn myofascial release techniques using therapy balls to promote relaxation and release tension in the muscles. Join us to improve your pelvic floor health and overall well-being.
URL:https://unitedarts.org/calendar/roll-release-and-reset/2026-08-30/
LOCATION:Arts Together\, 114 SAINT MARYS ST\, RALEIGH\, NC\, 27605-1809\, United States
CATEGORIES:Workshop
END:VEVENT
BEGIN:VEVENT
DTSTART;TZID=America/New_York:20260831T174500
DTEND;TZID=America/New_York:20260831T184500
DTSTAMP:20260421T214443
CREATED:20250801T220713Z
LAST-MODIFIED:20250801T220713Z
UID:10002824-1788198300-1788201900@unitedarts.org
SUMMARY:Beginning Painting Workshop
DESCRIPTION:Ages 13+ This is a great class for new painters\, as well as existing painters who would like to follow along. We will learn about different paint styles and techniques\, explore color and work on developing our painting skills. Several themed paint projects will be completed in this session.
URL:https://unitedarts.org/calendar/beginning-painting-workshop/2026-08-31/
LOCATION:Arts Together\, 114 SAINT MARYS ST\, RALEIGH\, NC\, 27605-1809\, United States
CATEGORIES:Workshop
END:VEVENT
BEGIN:VEVENT
DTSTART;TZID=America/New_York:20260831T183000
DTEND;TZID=America/New_York:20260831T193000
DTSTAMP:20260421T214443
CREATED:20250801T220459Z
LAST-MODIFIED:20250801T220459Z
UID:10002997-1788201000-1788204600@unitedarts.org
SUMMARY:Beginning Jazz Workshop
DESCRIPTION:Ages 18+\nIn this engaging beginning Jazz class\, participants will delve into a captivating blend of strength-building exercises\, precise body alignment techniques\, and invigorating conditioning routines. \nWith a focus on cultivating musicality and honing individual style\, students will unlock the secrets of this exhilarating dance form\, discovering the joy of movement and self-expression along the way. No prior experience necessary.
URL:https://unitedarts.org/calendar/beginning-jazz-workshop/2026-08-31/
LOCATION:Arts Together\, 114 SAINT MARYS ST\, RALEIGH\, NC\, 27605-1809\, United States
CATEGORIES:Workshop
END:VEVENT
END:VCALENDAR