BEGIN:VCALENDAR
VERSION:2.0
PRODID:-//United Arts Wake County - ECPv6.15.20//NONSGML v1.0//EN
CALSCALE:GREGORIAN
METHOD:PUBLISH
X-ORIGINAL-URL:https://unitedarts.org
X-WR-CALDESC:Events for United Arts Wake County
REFRESH-INTERVAL;VALUE=DURATION:PT1H
X-Robots-Tag:noindex
X-PUBLISHED-TTL:PT1H
BEGIN:VTIMEZONE
TZID:America/New_York
BEGIN:DAYLIGHT
TZOFFSETFROM:-0500
TZOFFSETTO:-0400
TZNAME:EDT
DTSTART:20250309T070000
END:DAYLIGHT
BEGIN:STANDARD
TZOFFSETFROM:-0400
TZOFFSETTO:-0500
TZNAME:EST
DTSTART:20251102T060000
END:STANDARD
BEGIN:DAYLIGHT
TZOFFSETFROM:-0500
TZOFFSETTO:-0400
TZNAME:EDT
DTSTART:20260308T070000
END:DAYLIGHT
BEGIN:STANDARD
TZOFFSETFROM:-0400
TZOFFSETTO:-0500
TZNAME:EST
DTSTART:20261101T060000
END:STANDARD
BEGIN:DAYLIGHT
TZOFFSETFROM:-0500
TZOFFSETTO:-0400
TZNAME:EDT
DTSTART:20270314T070000
END:DAYLIGHT
BEGIN:STANDARD
TZOFFSETFROM:-0400
TZOFFSETTO:-0500
TZNAME:EST
DTSTART:20271107T060000
END:STANDARD
END:VTIMEZONE
BEGIN:VEVENT
DTSTART;TZID=America/New_York:20260701T110000
DTEND;TZID=America/New_York:20260701T120000
DTSTAMP:20260421T200411
CREATED:20250801T220717Z
LAST-MODIFIED:20250801T220721Z
UID:10002870-1782903600-1782907200@unitedarts.org
SUMMARY:Aging Gracefully Creative Movement Workshop
DESCRIPTION:Ages 50+\nAging Gracefully: Meaningful Movement Explorations – As we age it is important to keep the body moving\, the brain focused\, and the spirit fueled. In this technique/creative dance class\, we will do so in a healthy\, FUN way. We will warm the body\, moving in a way that encourages each dancer to better honor and understand their unique physicality. \nNext\, dancers will explore different ways to generate movement phrases. Inspired by poetry\, visual art\, and personal experience\, we will create dances; accessing the wisdom of the body to express our relationship to the world\, each other\, and ourselves. \nNo prior dance experience needed\, just a willing heart <3
URL:https://unitedarts.org/calendar/aging-gracefully-creative-movement-workshop/2026-07-01/
LOCATION:Arts Together\, 114 SAINT MARYS ST\, RALEIGH\, NC\, 27605-1809\, United States
CATEGORIES:Workshop
END:VEVENT
BEGIN:VEVENT
DTSTART;TZID=America/New_York:20260705T170000
DTEND;TZID=America/New_York:20260705T183000
DTSTAMP:20260421T200411
CREATED:20250801T220516Z
LAST-MODIFIED:20250801T220516Z
UID:10002931-1783270800-1783276200@unitedarts.org
SUMMARY:Roll\, Release and Reset
DESCRIPTION:Ages 18+\nThis workshop focuses on enhancing strength and stability in the body and pelvic floor region through a combination of exercises and techniques. This class will also provide a self-care component that empowers participants to take control of their health. \nIn addition to targeted exercises\, participants will also learn myofascial release techniques using therapy balls to promote relaxation and release tension in the muscles. Join us to improve your pelvic floor health and overall well-being.
URL:https://unitedarts.org/calendar/roll-release-and-reset/2026-07-05/
LOCATION:Arts Together\, 114 SAINT MARYS ST\, RALEIGH\, NC\, 27605-1809\, United States
CATEGORIES:Workshop
END:VEVENT
BEGIN:VEVENT
DTSTART;TZID=America/New_York:20260706T174500
DTEND;TZID=America/New_York:20260706T184500
DTSTAMP:20260421T200411
CREATED:20250801T220713Z
LAST-MODIFIED:20250801T220713Z
UID:10002816-1783359900-1783363500@unitedarts.org
SUMMARY:Beginning Painting Workshop
DESCRIPTION:Ages 13+ This is a great class for new painters\, as well as existing painters who would like to follow along. We will learn about different paint styles and techniques\, explore color and work on developing our painting skills. Several themed paint projects will be completed in this session.
URL:https://unitedarts.org/calendar/beginning-painting-workshop/2026-07-06/
LOCATION:Arts Together\, 114 SAINT MARYS ST\, RALEIGH\, NC\, 27605-1809\, United States
CATEGORIES:Workshop
END:VEVENT
BEGIN:VEVENT
DTSTART;TZID=America/New_York:20260706T183000
DTEND;TZID=America/New_York:20260706T193000
DTSTAMP:20260421T200411
CREATED:20250801T220459Z
LAST-MODIFIED:20250801T220459Z
UID:10002989-1783362600-1783366200@unitedarts.org
SUMMARY:Beginning Jazz Workshop
DESCRIPTION:Ages 18+\nIn this engaging beginning Jazz class\, participants will delve into a captivating blend of strength-building exercises\, precise body alignment techniques\, and invigorating conditioning routines. \nWith a focus on cultivating musicality and honing individual style\, students will unlock the secrets of this exhilarating dance form\, discovering the joy of movement and self-expression along the way. No prior experience necessary.
URL:https://unitedarts.org/calendar/beginning-jazz-workshop/2026-07-06/
LOCATION:Arts Together\, 114 SAINT MARYS ST\, RALEIGH\, NC\, 27605-1809\, United States
CATEGORIES:Workshop
END:VEVENT
BEGIN:VEVENT
DTSTART;TZID=America/New_York:20260708T110000
DTEND;TZID=America/New_York:20260708T120000
DTSTAMP:20260421T200411
CREATED:20250801T220717Z
LAST-MODIFIED:20250801T220721Z
UID:10002871-1783508400-1783512000@unitedarts.org
SUMMARY:Aging Gracefully Creative Movement Workshop
DESCRIPTION:Ages 50+\nAging Gracefully: Meaningful Movement Explorations – As we age it is important to keep the body moving\, the brain focused\, and the spirit fueled. In this technique/creative dance class\, we will do so in a healthy\, FUN way. We will warm the body\, moving in a way that encourages each dancer to better honor and understand their unique physicality. \nNext\, dancers will explore different ways to generate movement phrases. Inspired by poetry\, visual art\, and personal experience\, we will create dances; accessing the wisdom of the body to express our relationship to the world\, each other\, and ourselves. \nNo prior dance experience needed\, just a willing heart <3
URL:https://unitedarts.org/calendar/aging-gracefully-creative-movement-workshop/2026-07-08/
LOCATION:Arts Together\, 114 SAINT MARYS ST\, RALEIGH\, NC\, 27605-1809\, United States
CATEGORIES:Workshop
END:VEVENT
BEGIN:VEVENT
DTSTART;TZID=America/New_York:20260712T170000
DTEND;TZID=America/New_York:20260712T183000
DTSTAMP:20260421T200411
CREATED:20250801T220516Z
LAST-MODIFIED:20250801T220516Z
UID:10002932-1783875600-1783881000@unitedarts.org
SUMMARY:Roll\, Release and Reset
DESCRIPTION:Ages 18+\nThis workshop focuses on enhancing strength and stability in the body and pelvic floor region through a combination of exercises and techniques. This class will also provide a self-care component that empowers participants to take control of their health. \nIn addition to targeted exercises\, participants will also learn myofascial release techniques using therapy balls to promote relaxation and release tension in the muscles. Join us to improve your pelvic floor health and overall well-being.
URL:https://unitedarts.org/calendar/roll-release-and-reset/2026-07-12/
LOCATION:Arts Together\, 114 SAINT MARYS ST\, RALEIGH\, NC\, 27605-1809\, United States
CATEGORIES:Workshop
END:VEVENT
BEGIN:VEVENT
DTSTART;TZID=America/New_York:20260713T174500
DTEND;TZID=America/New_York:20260713T184500
DTSTAMP:20260421T200411
CREATED:20250801T220713Z
LAST-MODIFIED:20250801T220713Z
UID:10002817-1783964700-1783968300@unitedarts.org
SUMMARY:Beginning Painting Workshop
DESCRIPTION:Ages 13+ This is a great class for new painters\, as well as existing painters who would like to follow along. We will learn about different paint styles and techniques\, explore color and work on developing our painting skills. Several themed paint projects will be completed in this session.
URL:https://unitedarts.org/calendar/beginning-painting-workshop/2026-07-13/
LOCATION:Arts Together\, 114 SAINT MARYS ST\, RALEIGH\, NC\, 27605-1809\, United States
CATEGORIES:Workshop
END:VEVENT
BEGIN:VEVENT
DTSTART;TZID=America/New_York:20260713T183000
DTEND;TZID=America/New_York:20260713T193000
DTSTAMP:20260421T200411
CREATED:20250801T220459Z
LAST-MODIFIED:20250801T220459Z
UID:10002990-1783967400-1783971000@unitedarts.org
SUMMARY:Beginning Jazz Workshop
DESCRIPTION:Ages 18+\nIn this engaging beginning Jazz class\, participants will delve into a captivating blend of strength-building exercises\, precise body alignment techniques\, and invigorating conditioning routines. \nWith a focus on cultivating musicality and honing individual style\, students will unlock the secrets of this exhilarating dance form\, discovering the joy of movement and self-expression along the way. No prior experience necessary.
URL:https://unitedarts.org/calendar/beginning-jazz-workshop/2026-07-13/
LOCATION:Arts Together\, 114 SAINT MARYS ST\, RALEIGH\, NC\, 27605-1809\, United States
CATEGORIES:Workshop
END:VEVENT
BEGIN:VEVENT
DTSTART;TZID=America/New_York:20260715T110000
DTEND;TZID=America/New_York:20260715T120000
DTSTAMP:20260421T200411
CREATED:20250801T220717Z
LAST-MODIFIED:20250801T220721Z
UID:10002872-1784113200-1784116800@unitedarts.org
SUMMARY:Aging Gracefully Creative Movement Workshop
DESCRIPTION:Ages 50+\nAging Gracefully: Meaningful Movement Explorations – As we age it is important to keep the body moving\, the brain focused\, and the spirit fueled. In this technique/creative dance class\, we will do so in a healthy\, FUN way. We will warm the body\, moving in a way that encourages each dancer to better honor and understand their unique physicality. \nNext\, dancers will explore different ways to generate movement phrases. Inspired by poetry\, visual art\, and personal experience\, we will create dances; accessing the wisdom of the body to express our relationship to the world\, each other\, and ourselves. \nNo prior dance experience needed\, just a willing heart <3
URL:https://unitedarts.org/calendar/aging-gracefully-creative-movement-workshop/2026-07-15/
LOCATION:Arts Together\, 114 SAINT MARYS ST\, RALEIGH\, NC\, 27605-1809\, United States
CATEGORIES:Workshop
END:VEVENT
BEGIN:VEVENT
DTSTART;TZID=America/New_York:20260716T143000
DTEND;TZID=America/New_York:20260716T153000
DTSTAMP:20260421T200411
CREATED:20260121T221406Z
LAST-MODIFIED:20260121T221406Z
UID:10006535-1784212200-1784215800@unitedarts.org
SUMMARY:The Write Stuff! Creative Writing Group
DESCRIPTION:If you enjoy creative writing or would like to try it for the first time\, then this Creative Writing Workshop may be just the place for you. Everyone will work together to explore creative writing in a safe\, open\, and encouraging environment. You may bring a short story or chapter from a larger body of work for peer feedback. 18+ only.
URL:https://unitedarts.org/calendar/the-write-stuff-creative-writing-group/2026-07-16/
LOCATION:Southeast Regional Library\, 908 7th Avenue\, Garner\, 27529
CATEGORIES:Workshop
ATTACH;FMTTYPE=image/jpeg:https://unitedarts.org/wp-content/uploads/2026/01/https___cdn.evbuc_.com_images_1172768000_2759378653911_1_original.jpg
ORGANIZER;CN="Southeast Regional Library":MAILTO:dillon.heath@wake.gov
END:VEVENT
BEGIN:VEVENT
DTSTART;TZID=America/New_York:20260719T170000
DTEND;TZID=America/New_York:20260719T183000
DTSTAMP:20260421T200411
CREATED:20250801T220516Z
LAST-MODIFIED:20250801T220516Z
UID:10002933-1784480400-1784485800@unitedarts.org
SUMMARY:Roll\, Release and Reset
DESCRIPTION:Ages 18+\nThis workshop focuses on enhancing strength and stability in the body and pelvic floor region through a combination of exercises and techniques. This class will also provide a self-care component that empowers participants to take control of their health. \nIn addition to targeted exercises\, participants will also learn myofascial release techniques using therapy balls to promote relaxation and release tension in the muscles. Join us to improve your pelvic floor health and overall well-being.
URL:https://unitedarts.org/calendar/roll-release-and-reset/2026-07-19/
LOCATION:Arts Together\, 114 SAINT MARYS ST\, RALEIGH\, NC\, 27605-1809\, United States
CATEGORIES:Workshop
END:VEVENT
BEGIN:VEVENT
DTSTART;TZID=America/New_York:20260720T174500
DTEND;TZID=America/New_York:20260720T184500
DTSTAMP:20260421T200411
CREATED:20250801T220713Z
LAST-MODIFIED:20250801T220713Z
UID:10002818-1784569500-1784573100@unitedarts.org
SUMMARY:Beginning Painting Workshop
DESCRIPTION:Ages 13+ This is a great class for new painters\, as well as existing painters who would like to follow along. We will learn about different paint styles and techniques\, explore color and work on developing our painting skills. Several themed paint projects will be completed in this session.
URL:https://unitedarts.org/calendar/beginning-painting-workshop/2026-07-20/
LOCATION:Arts Together\, 114 SAINT MARYS ST\, RALEIGH\, NC\, 27605-1809\, United States
CATEGORIES:Workshop
END:VEVENT
BEGIN:VEVENT
DTSTART;TZID=America/New_York:20260720T183000
DTEND;TZID=America/New_York:20260720T193000
DTSTAMP:20260421T200411
CREATED:20250801T220459Z
LAST-MODIFIED:20250801T220459Z
UID:10002991-1784572200-1784575800@unitedarts.org
SUMMARY:Beginning Jazz Workshop
DESCRIPTION:Ages 18+\nIn this engaging beginning Jazz class\, participants will delve into a captivating blend of strength-building exercises\, precise body alignment techniques\, and invigorating conditioning routines. \nWith a focus on cultivating musicality and honing individual style\, students will unlock the secrets of this exhilarating dance form\, discovering the joy of movement and self-expression along the way. No prior experience necessary.
URL:https://unitedarts.org/calendar/beginning-jazz-workshop/2026-07-20/
LOCATION:Arts Together\, 114 SAINT MARYS ST\, RALEIGH\, NC\, 27605-1809\, United States
CATEGORIES:Workshop
END:VEVENT
BEGIN:VEVENT
DTSTART;TZID=America/New_York:20260722T110000
DTEND;TZID=America/New_York:20260722T120000
DTSTAMP:20260421T200411
CREATED:20250801T220717Z
LAST-MODIFIED:20250801T220721Z
UID:10002873-1784718000-1784721600@unitedarts.org
SUMMARY:Aging Gracefully Creative Movement Workshop
DESCRIPTION:Ages 50+\nAging Gracefully: Meaningful Movement Explorations – As we age it is important to keep the body moving\, the brain focused\, and the spirit fueled. In this technique/creative dance class\, we will do so in a healthy\, FUN way. We will warm the body\, moving in a way that encourages each dancer to better honor and understand their unique physicality. \nNext\, dancers will explore different ways to generate movement phrases. Inspired by poetry\, visual art\, and personal experience\, we will create dances; accessing the wisdom of the body to express our relationship to the world\, each other\, and ourselves. \nNo prior dance experience needed\, just a willing heart <3
URL:https://unitedarts.org/calendar/aging-gracefully-creative-movement-workshop/2026-07-22/
LOCATION:Arts Together\, 114 SAINT MARYS ST\, RALEIGH\, NC\, 27605-1809\, United States
CATEGORIES:Workshop
END:VEVENT
BEGIN:VEVENT
DTSTART;TZID=America/New_York:20260722T183000
DTEND;TZID=America/New_York:20260722T200000
DTSTAMP:20260421T200411
CREATED:20260215T050542Z
LAST-MODIFIED:20260215T050542Z
UID:10007061-1784745000-1784750400@unitedarts.org
SUMMARY:Wake Forest Writers' Group
DESCRIPTION:Discuss the craft of storytelling\, exchange feedback\, and engage in writing prompts that spark creativity in a welcoming environment. Find great resources here: guides.wake.gov/writinggroups For ages 17+
URL:https://unitedarts.org/calendar/wake-forest-writers-group/2026-07-22/
LOCATION:Wake Forest Community Library\, 400 E Holding Ave\, Wake Forest\, 27587
CATEGORIES:Workshop
ATTACH;FMTTYPE=image/jpeg:https://unitedarts.org/wp-content/uploads/2026/02/writers.jpg
ORGANIZER;CN="Wake Forest Community Library":MAILTO:amanda.gawthorpe@wake.gov
END:VEVENT
BEGIN:VEVENT
DTSTART;TZID=America/New_York:20260726T170000
DTEND;TZID=America/New_York:20260726T183000
DTSTAMP:20260421T200411
CREATED:20250801T220516Z
LAST-MODIFIED:20250801T220516Z
UID:10002934-1785085200-1785090600@unitedarts.org
SUMMARY:Roll\, Release and Reset
DESCRIPTION:Ages 18+\nThis workshop focuses on enhancing strength and stability in the body and pelvic floor region through a combination of exercises and techniques. This class will also provide a self-care component that empowers participants to take control of their health. \nIn addition to targeted exercises\, participants will also learn myofascial release techniques using therapy balls to promote relaxation and release tension in the muscles. Join us to improve your pelvic floor health and overall well-being.
URL:https://unitedarts.org/calendar/roll-release-and-reset/2026-07-26/
LOCATION:Arts Together\, 114 SAINT MARYS ST\, RALEIGH\, NC\, 27605-1809\, United States
CATEGORIES:Workshop
END:VEVENT
BEGIN:VEVENT
DTSTART;TZID=America/New_York:20260727T174500
DTEND;TZID=America/New_York:20260727T184500
DTSTAMP:20260421T200411
CREATED:20250801T220713Z
LAST-MODIFIED:20250801T220713Z
UID:10002819-1785174300-1785177900@unitedarts.org
SUMMARY:Beginning Painting Workshop
DESCRIPTION:Ages 13+ This is a great class for new painters\, as well as existing painters who would like to follow along. We will learn about different paint styles and techniques\, explore color and work on developing our painting skills. Several themed paint projects will be completed in this session.
URL:https://unitedarts.org/calendar/beginning-painting-workshop/2026-07-27/
LOCATION:Arts Together\, 114 SAINT MARYS ST\, RALEIGH\, NC\, 27605-1809\, United States
CATEGORIES:Workshop
END:VEVENT
BEGIN:VEVENT
DTSTART;TZID=America/New_York:20260727T183000
DTEND;TZID=America/New_York:20260727T193000
DTSTAMP:20260421T200411
CREATED:20250801T220459Z
LAST-MODIFIED:20250801T220459Z
UID:10002992-1785177000-1785180600@unitedarts.org
SUMMARY:Beginning Jazz Workshop
DESCRIPTION:Ages 18+\nIn this engaging beginning Jazz class\, participants will delve into a captivating blend of strength-building exercises\, precise body alignment techniques\, and invigorating conditioning routines. \nWith a focus on cultivating musicality and honing individual style\, students will unlock the secrets of this exhilarating dance form\, discovering the joy of movement and self-expression along the way. No prior experience necessary.
URL:https://unitedarts.org/calendar/beginning-jazz-workshop/2026-07-27/
LOCATION:Arts Together\, 114 SAINT MARYS ST\, RALEIGH\, NC\, 27605-1809\, United States
CATEGORIES:Workshop
END:VEVENT
BEGIN:VEVENT
DTSTART;TZID=America/New_York:20260729T110000
DTEND;TZID=America/New_York:20260729T120000
DTSTAMP:20260421T200411
CREATED:20250801T220717Z
LAST-MODIFIED:20250801T220721Z
UID:10002874-1785322800-1785326400@unitedarts.org
SUMMARY:Aging Gracefully Creative Movement Workshop
DESCRIPTION:Ages 50+\nAging Gracefully: Meaningful Movement Explorations – As we age it is important to keep the body moving\, the brain focused\, and the spirit fueled. In this technique/creative dance class\, we will do so in a healthy\, FUN way. We will warm the body\, moving in a way that encourages each dancer to better honor and understand their unique physicality. \nNext\, dancers will explore different ways to generate movement phrases. Inspired by poetry\, visual art\, and personal experience\, we will create dances; accessing the wisdom of the body to express our relationship to the world\, each other\, and ourselves. \nNo prior dance experience needed\, just a willing heart <3
URL:https://unitedarts.org/calendar/aging-gracefully-creative-movement-workshop/2026-07-29/
LOCATION:Arts Together\, 114 SAINT MARYS ST\, RALEIGH\, NC\, 27605-1809\, United States
CATEGORIES:Workshop
END:VEVENT
END:VCALENDAR