BEGIN:VCALENDAR
VERSION:2.0
PRODID:-//United Arts Wake County - ECPv6.15.20//NONSGML v1.0//EN
CALSCALE:GREGORIAN
METHOD:PUBLISH
X-ORIGINAL-URL:https://unitedarts.org
X-WR-CALDESC:Events for United Arts Wake County
REFRESH-INTERVAL;VALUE=DURATION:PT1H
X-Robots-Tag:noindex
X-PUBLISHED-TTL:PT1H
BEGIN:VTIMEZONE
TZID:America/New_York
BEGIN:DAYLIGHT
TZOFFSETFROM:-0500
TZOFFSETTO:-0400
TZNAME:EDT
DTSTART:20250309T070000
END:DAYLIGHT
BEGIN:STANDARD
TZOFFSETFROM:-0400
TZOFFSETTO:-0500
TZNAME:EST
DTSTART:20251102T060000
END:STANDARD
BEGIN:DAYLIGHT
TZOFFSETFROM:-0500
TZOFFSETTO:-0400
TZNAME:EDT
DTSTART:20260308T070000
END:DAYLIGHT
BEGIN:STANDARD
TZOFFSETFROM:-0400
TZOFFSETTO:-0500
TZNAME:EST
DTSTART:20261101T060000
END:STANDARD
BEGIN:DAYLIGHT
TZOFFSETFROM:-0500
TZOFFSETTO:-0400
TZNAME:EDT
DTSTART:20270314T070000
END:DAYLIGHT
BEGIN:STANDARD
TZOFFSETFROM:-0400
TZOFFSETTO:-0500
TZNAME:EST
DTSTART:20271107T060000
END:STANDARD
END:VTIMEZONE
BEGIN:VEVENT
DTSTART;TZID=America/New_York:20260312T190000
DTEND;TZID=America/New_York:20260312T210000
DTSTAMP:20260420T092808
CREATED:20260210T154007Z
LAST-MODIFIED:20260312T171005Z
UID:10007040-1773342000-1773349200@unitedarts.org
SUMMARY:PineCone Old Time Jam at Riparian
DESCRIPTION:Held on the 2nd Thursday of each month from 7-9 pm at the Riparian Provision Company (1408 South Saunders Street\, Raleigh). This is an up to speed\, gather in a circle kind of jam. It’s led by great players who work to make sure there’s space for everyone in the tunes. \n \nThe leader picks a key (D\, A and G are popular) and calls tunes in that key until it feels right to pick a new key and retune. The fiddlers traditionally call the tunes\, but not always the jam leader. If you’re playing fiddle you should expect to be asked\, “Hey\, you got a good D tune?” While “no” is an acceptable answer\, it’s good to have a tune in each key that you’d feel comfortable calling and kicking off. \n \nWhether you’re a first-time jammer or a veteran\, you’re welcome to learn the tunes and play along\, or just listen and observe! However\, please note that this is not a “learning” or “slow” jam. Please remember – every jam is different! This jam tends to draw a good crowd\, and it is open to musicians of all skill levels. Please help us make sure that newer players feel welcome. Also\, big\, mixed level jams can be challenging. Patience and kindness are appreciated! \nRecent tunes include: \nFly Around (D) \nSoldier’s Joy (D) \nWhiskey Before Breakfast (D) \nYellow Rose of Texas (D) \nBooth (A) \nJohn Brown’s Dream (A) \nKitchen Girl (A) \nJune Apple (A) \nNail That Catfish to the Tree (G) \nBig Scotia (G) \nElk River Blues (G) \nJenny Run Away in the Mud in the Night (G)
URL:https://unitedarts.org/calendar/pinecone-old-time-jam-at-riparian-12/
LOCATION:Riparian Provision Company\, 1408 S. Saunders St.\, Raleigh\, NC\, 27603\, United States
CATEGORIES:Jam Session
ATTACH;FMTTYPE=image/jpeg:https://unitedarts.org/wp-content/uploads/2025/03/PLAY_WOB22_TomBeck_Busking2-scaled-e1729080541275-nzKCnR.tmp_-e1759510066927.jpg
END:VEVENT
BEGIN:VEVENT
DTSTART;TZID=America/New_York:20260316T190000
DTEND;TZID=America/New_York:20260316T210000
DTSTAMP:20260420T092808
CREATED:20260214T155506Z
LAST-MODIFIED:20260316T172504Z
UID:10007055-1773687600-1773694800@unitedarts.org
SUMMARY:PineCone Beginners’ Bluegrass Jam
DESCRIPTION:This jam is open to all musicians\, not only beginners! It is a learning jam\, though\, to help those who are still learning the basics of bluegrass music and playing with other musicians. It is open to participants of all ages and abilities. This is a great opportunity for participants to learn basic jam etiquette before jumping into a traditional jam. We’ll spend the first hour playing together in a single large group\, stopping frequently to discuss the songs. The second hour\, we like to break off into two smaller groups and put our new jam skills into practice! \nFacilitator Jef Walter is a local musician who plays with Hank Smith & the Beer & Banjos All-Stars (every Tuesday at The Raleigh Times Bar) and other groups; he also mentors The Loblollies youth bluegrass band.
URL:https://unitedarts.org/calendar/pinecone-beginners-bluegrass-jam-11/
LOCATION:Harry’s Guitar Shop\, 556 Pylon Dr\, Raleigh\, 27606
CATEGORIES:Jam Session
ATTACH;FMTTYPE=image/jpeg:https://unitedarts.org/wp-content/uploads/2025/03/Beginners_Jam_Harrys_06_2022a-scaled-jjySFU.tmp_.jpg
END:VEVENT
BEGIN:VEVENT
DTSTART;TZID=America/New_York:20260323T190000
DTEND;TZID=America/New_York:20260323T210000
DTSTAMP:20260420T092808
CREATED:20260221T164006Z
LAST-MODIFIED:20260323T174007Z
UID:10007387-1774292400-1774299600@unitedarts.org
SUMMARY:PineCone Open Bluegrass Jam
DESCRIPTION:The monthly PineCone Bluegrass Jam is a “circle jam\,” where musicians gather in a circle and play together. Tunes are played up to speed and everyone interested in playing bluegrass instruments is  welcome. \n \nThis jam will be held outdoors when weather permits. TransferCo has a beautiful patio\, with lots of room for pickers and spectators alike. There’s also a spacious ballroom just off the Food Hall that’s got room for a nice sized circle. \nJam leader Ron Raxter is pictured far left playing the upright bass. (photo by Tom Beck)\nFacilitated Ron Raxter\, the repertoire includes both instrumentals and vocal songs. Ron is one of PineCone’s founding members and is active in a number of local jams. He’s a retired attorney\, bass player and was part of the local organizing committee that helped recruit IBMA’s World of Bluegrass to Raleigh. \nIn the colder months the jam is held in the TransferCo Ballroom. (photo by Maurice Melvin)\nWhether you’re a first-time jammer or a veteran\, you’re welcome to learn the tunes and play along\, or just listen and observe! However\, please note that this is not a “learning” or “slow” jam. If you want to play at a slower tempo you might want to check out our monthly “Beginners’ Jam” at Harry’s Guitar Shop.  Regardless\, this is a great place to meet other musicians who share your enthusiasm for bluegrass. \nPlease remember – every jam is different! This jam tends to draw a big crowd\, and it is open to musicians of all skill levels. Please help us make sure that newer players feel welcome! Also\, big\, mixed level jams can be challenging. Patience and kindness are appreciated! \nThe PineCone Bluegrass Jam meets on the fourth Monday of each month at Transfer Co. Food Hall in downtown Raleigh.
URL:https://unitedarts.org/calendar/pinecone-open-bluegrass-jam-14/
LOCATION:TransferCo Food Hall\, 500 E Davie St\, Raleigh\, 27601
CATEGORIES:Jam Session
ATTACH;FMTTYPE=image/jpeg:https://unitedarts.org/wp-content/uploads/2025/03/BEK5285-scaled-rC7DUX.tmp_.jpg
END:VEVENT
END:VCALENDAR