BEGIN:VCALENDAR
VERSION:2.0
PRODID:-//United Arts Wake County - ECPv6.15.20//NONSGML v1.0//EN
CALSCALE:GREGORIAN
METHOD:PUBLISH
X-WR-CALNAME:United Arts Wake County
X-ORIGINAL-URL:https://unitedarts.org
X-WR-CALDESC:Events for United Arts Wake County
REFRESH-INTERVAL;VALUE=DURATION:PT1H
X-Robots-Tag:noindex
X-PUBLISHED-TTL:PT1H
BEGIN:VTIMEZONE
TZID:America/New_York
BEGIN:DAYLIGHT
TZOFFSETFROM:-0500
TZOFFSETTO:-0400
TZNAME:EDT
DTSTART:20250309T070000
END:DAYLIGHT
BEGIN:STANDARD
TZOFFSETFROM:-0400
TZOFFSETTO:-0500
TZNAME:EST
DTSTART:20251102T060000
END:STANDARD
BEGIN:DAYLIGHT
TZOFFSETFROM:-0500
TZOFFSETTO:-0400
TZNAME:EDT
DTSTART:20260308T070000
END:DAYLIGHT
BEGIN:STANDARD
TZOFFSETFROM:-0400
TZOFFSETTO:-0500
TZNAME:EST
DTSTART:20261101T060000
END:STANDARD
BEGIN:DAYLIGHT
TZOFFSETFROM:-0500
TZOFFSETTO:-0400
TZNAME:EDT
DTSTART:20270314T070000
END:DAYLIGHT
BEGIN:STANDARD
TZOFFSETFROM:-0400
TZOFFSETTO:-0500
TZNAME:EST
DTSTART:20271107T060000
END:STANDARD
END:VTIMEZONE
BEGIN:VEVENT
DTSTART;TZID=America/New_York:20260509T110000
DTEND;TZID=America/New_York:20260509T180000
DTSTAMP:20260421T153540
CREATED:20260313T164029Z
LAST-MODIFIED:20260313T164029Z
UID:10007430-1778324400-1778349600@unitedarts.org
SUMMARY:Ritmo Latino Festival
DESCRIPTION:The Diamante Arts & Cultural Center presents the 22nd annual Ritmo Latino Festival\, a free outdoor event in Downtown Cary on N. Academy Street. This festival celebrates many Latino/Hispanic cultures from the Americas and the Caribbean. \nEnjoy live music\, dance\, a great food court\, KidZone with children’s activities\, and more. \nAdmission is free!
URL:https://unitedarts.org/calendar/ritmo-latino-festival/
LOCATION:N. Academy Street\, Cary\, NC\, 1312 Annapolis Drive\, Suite 204\, Raleigh\, NC\, 27608\, United States
CATEGORIES:Festival
ATTACH;FMTTYPE=image/png:https://unitedarts.org/wp-content/uploads/2026/03/2026RitmoFestival-Post-45.png
ORGANIZER;CN="Diamante":MAILTO:contact@diamanteacc.org
END:VEVENT
BEGIN:VEVENT
DTSTART;TZID=America/New_York:20260512T183000
DTEND;TZID=America/New_York:20260512T210000
DTSTAMP:20260421T153540
CREATED:20260412T192511Z
LAST-MODIFIED:20260420T202612Z
UID:10007471-1778610600-1778619600@unitedarts.org
SUMMARY:Raleigh Wide Open Lineup Announcement … Live!
DESCRIPTION:Wanna be first to hear who’s playing the 2026 Raleigh Wide Open Music Festival? Come to our free Lineup Announcement live event on May 12\, part of our weekly Beer and Banjos concert at Bowstring Pizza and Brewyard in Raleigh. From 6:30-9 p.m.\, you’ll hear music from the Beer and Banjos All-Stars and a guest band\, and we’ve got some extra fun in store as we unveil the festival lineup. \nIt’ll also be the first opportunity to buy our brand-new 2026 festival merch — yes\, our beloved banjo-hoisting squirrel will be prominently featured!
URL:https://unitedarts.org/calendar/raleigh-wide-open-lineup-announcement-live/
LOCATION:Bowstring Pizza and Brewyard\, 1930 Wake Forest Rd\, Raleigh\, NC\, 27608\, United States
CATEGORIES:Festival
ATTACH;FMTTYPE=image/png:https://unitedarts.org/wp-content/uploads/2026/04/RWO-Lineup-Announcement-169-WP9h6A.png
END:VEVENT
END:VCALENDAR