BEGIN:VCALENDAR
VERSION:2.0
PRODID:-//United Arts Wake County - ECPv6.15.20//NONSGML v1.0//EN
CALSCALE:GREGORIAN
METHOD:PUBLISH
X-ORIGINAL-URL:https://unitedarts.org
X-WR-CALDESC:Events for United Arts Wake County
REFRESH-INTERVAL;VALUE=DURATION:PT1H
X-Robots-Tag:noindex
X-PUBLISHED-TTL:PT1H
BEGIN:VTIMEZONE
TZID:America/New_York
BEGIN:DAYLIGHT
TZOFFSETFROM:-0500
TZOFFSETTO:-0400
TZNAME:EDT
DTSTART:20250309T070000
END:DAYLIGHT
BEGIN:STANDARD
TZOFFSETFROM:-0400
TZOFFSETTO:-0500
TZNAME:EST
DTSTART:20251102T060000
END:STANDARD
BEGIN:DAYLIGHT
TZOFFSETFROM:-0500
TZOFFSETTO:-0400
TZNAME:EDT
DTSTART:20260308T070000
END:DAYLIGHT
BEGIN:STANDARD
TZOFFSETFROM:-0400
TZOFFSETTO:-0500
TZNAME:EST
DTSTART:20261101T060000
END:STANDARD
BEGIN:DAYLIGHT
TZOFFSETFROM:-0500
TZOFFSETTO:-0400
TZNAME:EDT
DTSTART:20270314T070000
END:DAYLIGHT
BEGIN:STANDARD
TZOFFSETFROM:-0400
TZOFFSETTO:-0500
TZNAME:EST
DTSTART:20271107T060000
END:STANDARD
END:VTIMEZONE
BEGIN:VEVENT
DTSTART;TZID=America/New_York:20260410T193000
DTEND;TZID=America/New_York:20260410T220000
DTSTAMP:20260423T050723
CREATED:20260311T171002Z
LAST-MODIFIED:20260410T192513Z
UID:10007426-1775849400-1775858400@unitedarts.org
SUMMARY:2026 Down Home Concert Series: Well\, I Declare: America at 250
DESCRIPTION:Lobby doors open 6:30 p.m. | Theater doors open 7 p.m. | Showtime 7:30 p.m.\nA.J. Fletcher Opera Theater | Martin Marietta Center for the Performing Arts | Raleigh \nOrchestra: $42.90-$48.26 members; $48.26-$53.62 public\nRear: $24.67\nTicket prices shown here include facility fee and sales tax.  \nBUY TICKETS ONLINE\, OR CALL OUR BOX OFFICE AT 919-664-8333 TO SAVE ON FEES. \n \nTwo hundred and fifty years after its birth\, does America live up to its founding ideals? “Well\, I Declare: America at 250” examines this question through songs that contend with the nation’s history\, often as a call for change. North Carolina musicians Dawn Landes\, Rissi Palmer\, Jacob Sharp (Mipso) and Django Haskins (The Old Ceremony) will present songs new and old that speak to generations of struggle alongside a live reading of the Declaration of Independence by actor Mike Wiley.
URL:https://unitedarts.org/calendar/2026-down-home-concert-series-well-i-declare-america-at-250/
LOCATION:A.J. Fletcher Theater\, 2 E. South Street\, Raleigh\, 27601
CATEGORIES:Concert
ATTACH;FMTTYPE=image/png:https://unitedarts.org/wp-content/uploads/2026/03/Well-I-Declare-for-website-event-E7OZfI.png
END:VEVENT
END:VCALENDAR