BEGIN:VCALENDAR
VERSION:2.0
PRODID:-//United Arts Wake County - ECPv6.15.20//NONSGML v1.0//EN
CALSCALE:GREGORIAN
METHOD:PUBLISH
X-WR-CALNAME:United Arts Wake County
X-ORIGINAL-URL:https://unitedarts.org
X-WR-CALDESC:Events for United Arts Wake County
REFRESH-INTERVAL;VALUE=DURATION:PT1H
X-Robots-Tag:noindex
X-PUBLISHED-TTL:PT1H
BEGIN:VTIMEZONE
TZID:America/New_York
BEGIN:DAYLIGHT
TZOFFSETFROM:-0500
TZOFFSETTO:-0400
TZNAME:EDT
DTSTART:20250309T070000
END:DAYLIGHT
BEGIN:STANDARD
TZOFFSETFROM:-0400
TZOFFSETTO:-0500
TZNAME:EST
DTSTART:20251102T060000
END:STANDARD
BEGIN:DAYLIGHT
TZOFFSETFROM:-0500
TZOFFSETTO:-0400
TZNAME:EDT
DTSTART:20260308T070000
END:DAYLIGHT
BEGIN:STANDARD
TZOFFSETFROM:-0400
TZOFFSETTO:-0500
TZNAME:EST
DTSTART:20261101T060000
END:STANDARD
BEGIN:DAYLIGHT
TZOFFSETFROM:-0500
TZOFFSETTO:-0400
TZNAME:EDT
DTSTART:20270314T070000
END:DAYLIGHT
BEGIN:STANDARD
TZOFFSETFROM:-0400
TZOFFSETTO:-0500
TZNAME:EST
DTSTART:20271107T060000
END:STANDARD
END:VTIMEZONE
BEGIN:VEVENT
DTSTART;TZID=America/New_York:20260317T183000
DTEND;TZID=America/New_York:20260317T210000
DTSTAMP:20260423T191128
CREATED:20260315T171003Z
LAST-MODIFIED:20260317T172502Z
UID:10007431-1773772200-1773781200@unitedarts.org
SUMMARY:It’s Always Sunny at Beer and Banjos: St. Paddy’s Day Special
DESCRIPTION:If you’re a fan of the TV show It’s Always Sunny in Philadelphia\, then this is the B&B for you! If you’re not a fan of It’s Always Sunny in Philadelphia\, or don’t know what that is\, then it’s EVEN MORE the B&B for you! Come dressed as your favorite character! Bring leprechaun traps! Scheme and plot! Celebrate the best Irish bar in Philly! Brought to you by Frank’s Fluids\, with music from the Beer and Banjos All-Stars. \nBeer and Banjos is a free\, family-friendly evening of roots music every Tuesday at Raleigh’s Bowstring Pizza and Brewyard. Hosted by the mighty local musicians known collectively as the Beer and Banjos Allstars\, these weekly concerts feature guest musicians and take place on Bowstring’s spacious patio when the weather allows\, or inside by the bar when rain\, heat\, or cold threaten the vibe. \nTips for the musicians are gratefully accepted (look for a helper walking around with a bucket for cash and QR codes for online tips)\, and don’t forget to check out the merch table. Bowstring serves tasty pizza and other food as well as cold beer and other beverages. \nLearn more about Beer and Banjos events statewide here.
URL:https://unitedarts.org/calendar/its-always-sunny-at-beer-and-banjos-st-paddys-day-special/
LOCATION:Bowstring Pizza and Brewyard\, 1930 Wake Forest Rd\, Raleigh\, NC\, 27608\, United States
CATEGORIES:Beer and Banjos
ATTACH;FMTTYPE=image/png:https://unitedarts.org/wp-content/uploads/2026/03/ALways-SUnny-BB-2026-169-for-event-X9ptSn.png
END:VEVENT
BEGIN:VEVENT
DTSTART;TZID=America/New_York:20260324T183000
DTEND;TZID=America/New_York:20260324T210000
DTSTAMP:20260423T191128
CREATED:20260316T172505Z
LAST-MODIFIED:20260324T174004Z
UID:10007432-1774377000-1774386000@unitedarts.org
SUMMARY:Beer and Banjos: Bowed Dylan
DESCRIPTION:Join us this week for a good time with Bowed Dylan\, North Carolina’s Bob Dylan tribute. If you’re asking “How does it feeeeeel\,” we’d say it feels pretty great! \nBeer and Banjos is a free\, family-friendly evening of roots music every Tuesday at Raleigh’s Bowstring Pizza and Brewyard. Hosted by the mighty local musicians known collectively as the Beer and Banjos Allstars\, these weekly concerts feature guest musicians and take place on Bowstring’s spacious patio when the weather allows\, or inside by the bar when rain\, heat\, or cold threaten the vibe. \nTips for the musicians are gratefully accepted (look for a helper walking around with a bucket for cash and QR codes for online tips)\, and don’t forget to check out the merch table. Bowstring serves tasty pizza and other food as well as cold beer and other beverages. \nLearn more about Beer and Banjos events statewide here.
URL:https://unitedarts.org/calendar/beer-and-banjos-bowed-dylan-2/
LOCATION:Bowstring Pizza and Brewyard\, 1930 Wake Forest Rd\, Raleigh\, NC\, 27608\, United States
CATEGORIES:Beer and Banjos
ATTACH;FMTTYPE=image/png:https://unitedarts.org/wp-content/uploads/2026/03/Bowed-Dylan-BB-MARCH-2026-169-for-event-t6YLjO.png
END:VEVENT
BEGIN:VEVENT
DTSTART;TZID=America/New_York:20260331T183000
DTEND;TZID=America/New_York:20260331T210000
DTSTAMP:20260423T191128
CREATED:20260316T172518Z
LAST-MODIFIED:20260331T181049Z
UID:10007433-1774981800-1774990800@unitedarts.org
SUMMARY:Beer and Banjos: Tanner Bingaman
DESCRIPTION:Join us for an evening of music with Appalachian multi-instrumentalist\, poet\, and songwriter Tanner Bingaman. Learn more about Tanner here. \nBeer and Banjos is a free\, family-friendly evening of roots music every Tuesday at Raleigh’s Bowstring Pizza and Brewyard. Hosted by the mighty local musicians known collectively as the Beer and Banjos Allstars\, these weekly concerts feature guest musicians and take place on Bowstring’s spacious patio when the weather allows\, or inside by the bar when rain\, heat\, or cold threaten the vibe. \nTips for the musicians are gratefully accepted (look for a helper walking around with a bucket for cash and QR codes for online tips)\, and don’t forget to check out the merch table. Bowstring serves tasty pizza and other food as well as cold beer and other beverages. \nLearn more about Beer and Banjos events statewide here.
URL:https://unitedarts.org/calendar/beer-and-banjos-tanner-bingaman/
LOCATION:Bowstring Pizza and Brewyard\, 1930 Wake Forest Rd\, Raleigh\, NC\, 27608\, United States
CATEGORIES:Beer and Banjos
ATTACH;FMTTYPE=image/png:https://unitedarts.org/wp-content/uploads/2026/03/Tanner-Bingaman-BB-2026-169-for-event-D7Yh5g.png
END:VEVENT
BEGIN:VEVENT
DTSTART;TZID=America/New_York:20260407T183000
DTEND;TZID=America/New_York:20260407T210000
DTSTAMP:20260423T191128
CREATED:20260401T182034Z
LAST-MODIFIED:20260407T192523Z
UID:10007466-1775586600-1775595600@unitedarts.org
SUMMARY:Beer and Banjos: The Holland Brothers
DESCRIPTION:From the Piedmont region of North Carolina\, the Holland Brothers play a style of music rooted in old-school country and country blues\, with close harmonies and blues harmonica. Drawing inspiration from Charlie Poole to Charlie Patton\, from Muddy Waters to the Memphis Jug Band\, from the country gospel sounds of Flatt and Scruggs and the Louvin Brothers\, from the high lonesome sound of Bill Monroe\, or from the pairing of Woody Guthrie and Cisco Houston\, the brothers have appeared in publications and events such as No Depression\, Our State\, the North Carolina State Fair\, Billboard Magazine\, and the New York Times and continue to garner praise and gain new fans daily. Learn more about the Holland Brothers here. \nBeer and Banjos is a free\, family-friendly evening of roots music every Tuesday at Raleigh’s Bowstring Pizza and Brewyard. Hosted by the mighty local musicians known collectively as the Beer and Banjos Allstars\, these weekly concerts feature guest musicians and take place on Bowstring’s spacious patio when the weather allows\, or inside by the bar when rain\, heat\, or cold threaten the vibe. \nTips for the musicians are gratefully accepted (look for a helper walking around with a bucket for cash and QR codes for online tips)\, and don’t forget to check out the merch table. Bowstring serves tasty pizza and other food as well as cold beer and other beverages. \nLearn more about Beer and Banjos events statewide here.
URL:https://unitedarts.org/calendar/beer-and-banjos-the-holland-brothers-3/
LOCATION:Bowstring Pizza and Brewyard\, 1930 Wake Forest Rd\, Raleigh\, NC\, 27608\, United States
CATEGORIES:Beer and Banjos
ATTACH;FMTTYPE=image/png:https://unitedarts.org/wp-content/uploads/2026/04/Holland-Bros-BB-2026-169-for-event-DLOefn.png
END:VEVENT
BEGIN:VEVENT
DTSTART;TZID=America/New_York:20260414T183000
DTEND;TZID=America/New_York:20260414T210000
DTSTAMP:20260423T191128
CREATED:20260406T192527Z
LAST-MODIFIED:20260414T194014Z
UID:10007469-1776191400-1776200400@unitedarts.org
SUMMARY:Beer and Banjos: The Stillhouse Junkies
DESCRIPTION:You loved the Stillhouse Junkies at the 2025 Raleigh Wide Open Music Festival (they kicked off our Kickoff Celebration AND played the festival itself)\, and we’re thrilled to have them back in town! Colorado-based acoustic adventurers Stillhouse Junkies explore the worlds between roots\, bluegrass\, Texas swing\, blues\, and rock. Their free-flowing musical interplay and improvisation make every show unique as the trio weave through high-energy\, intricately composed original songs\, never taking the same path twice. Formed in 2017\, the band consists of Fred Kosak (guitar\, mandolin)\, Alissa Wolf (fiddle)\, and Jeanette Adams (bass). Learn more about the Stillhouse Junkies here. \nBeer and Banjos is a free\, family-friendly evening of roots music every Tuesday at Raleigh’s Bowstring Pizza and Brewyard. Hosted by the mighty local musicians known collectively as the Beer and Banjos Allstars\, these weekly concerts feature guest musicians and take place on Bowstring’s spacious patio when the weather allows\, or inside by the bar when rain\, heat\, or cold threaten the vibe. \nTips for the musicians are gratefully accepted (look for a helper walking around with a bucket for cash and QR codes for online tips)\, and don’t forget to check out the merch table. Bowstring serves tasty pizza and other food as well as cold beer and other beverages. \nLearn more about Beer and Banjos events statewide here.
URL:https://unitedarts.org/calendar/beer-and-banjos-the-stillhouse-junkies/
LOCATION:Bowstring Pizza and Brewyard\, 1930 Wake Forest Rd\, Raleigh\, NC\, 27608\, United States
CATEGORIES:Beer and Banjos
ATTACH;FMTTYPE=image/png:https://unitedarts.org/wp-content/uploads/2026/04/Stillhouse-Junkies-BB-2026-169-for-event-UaN9EP.png
END:VEVENT
BEGIN:VEVENT
DTSTART;TZID=America/New_York:20260421T183000
DTEND;TZID=America/New_York:20260421T210000
DTSTAMP:20260423T191128
CREATED:20260420T202612Z
LAST-MODIFIED:20260421T204513Z
UID:10007477-1776796200-1776805200@unitedarts.org
SUMMARY:Beer and Banjos: Derek Lane’s Kitchen Sink
DESCRIPTION:Mix it up with some jamgrass from Derek Lane’s Kitchen Sink at this week’s Beer and Banjos! Derek Lane (of Into the Fog) blends bluegrass\, rock\, and funk into an improvisational frenzy that’s a joy to behold. \nBeer and Banjos is a free\, family-friendly evening of roots music every Tuesday at Raleigh’s Bowstring Pizza and Brewyard. Hosted by the mighty local musicians known collectively as the Beer and Banjos Allstars\, these weekly concerts feature guest musicians and take place on Bowstring’s spacious patio when the weather allows\, or inside by the bar when rain\, heat\, or cold threaten the vibe. \nTips for the musicians are gratefully accepted (look for a helper walking around with a bucket for cash and QR codes for online tips)\, and don’t forget to check out the merch table. Bowstring serves tasty pizza and other food as well as cold beer and other beverages. \nLearn more about Beer and Banjos events statewide here.
URL:https://unitedarts.org/calendar/beer-and-banjos-derek-lanes-kitchen-sink/
LOCATION:Bowstring Pizza and Brewyard\, 1930 Wake Forest Rd\, Raleigh\, NC\, 27608\, United States
CATEGORIES:Beer and Banjos
ATTACH;FMTTYPE=image/png:https://unitedarts.org/wp-content/uploads/2026/04/Derek-Lanes-Kitchen-Sink-BB-2026-169-for-event-3acvAT.png
END:VEVENT
BEGIN:VEVENT
DTSTART;TZID=America/New_York:20260428T183000
DTEND;TZID=America/New_York:20260428T210000
DTSTAMP:20260423T191128
CREATED:20260422T211113Z
LAST-MODIFIED:20260423T211113Z
UID:10007481-1777401000-1777410000@unitedarts.org
SUMMARY:Beer and Banjos: Eastside Ramblers
DESCRIPTION:This week\, the Eastside Ramblers will venture out of their homebase of Cary\, where they appear every Sunday afternoon at Bond Brothers\, to bring bluegrass to the good people of Raleigh. \nBeer and Banjos is a free\, family-friendly evening of roots music every Tuesday at Raleigh’s Bowstring Pizza and Brewyard. Hosted by the mighty local musicians known collectively as the Beer and Banjos Allstars\, these weekly concerts feature guest musicians and take place on Bowstring’s spacious patio when the weather allows\, or inside by the bar when rain\, heat\, or cold threaten the vibe. \nTips for the musicians are gratefully accepted (look for a helper walking around with a bucket for cash and QR codes for online tips)\, and don’t forget to check out the merch table. Bowstring serves tasty pizza and other food as well as cold beer and other beverages. \nLearn more about Beer and Banjos events statewide here.
URL:https://unitedarts.org/calendar/beer-and-banjos-eastside-ramblers/
LOCATION:Bowstring Pizza and Brewyard\, 1930 Wake Forest Rd\, Raleigh\, NC\, 27608\, United States
CATEGORIES:Beer and Banjos
ATTACH;FMTTYPE=image/png:https://unitedarts.org/wp-content/uploads/2026/04/Eastside-Ramblers-BB-2026-169-for-event-H52IM3.png
END:VEVENT
END:VCALENDAR