BEGIN:VCALENDAR
VERSION:2.0
PRODID:-//United Arts Wake County - ECPv6.15.20//NONSGML v1.0//EN
CALSCALE:GREGORIAN
METHOD:PUBLISH
X-ORIGINAL-URL:https://unitedarts.org
X-WR-CALDESC:Events for United Arts Wake County
REFRESH-INTERVAL;VALUE=DURATION:PT1H
X-Robots-Tag:noindex
X-PUBLISHED-TTL:PT1H
BEGIN:VTIMEZONE
TZID:America/New_York
BEGIN:DAYLIGHT
TZOFFSETFROM:-0500
TZOFFSETTO:-0400
TZNAME:EDT
DTSTART:20250309T070000
END:DAYLIGHT
BEGIN:STANDARD
TZOFFSETFROM:-0400
TZOFFSETTO:-0500
TZNAME:EST
DTSTART:20251102T060000
END:STANDARD
BEGIN:DAYLIGHT
TZOFFSETFROM:-0500
TZOFFSETTO:-0400
TZNAME:EDT
DTSTART:20260308T070000
END:DAYLIGHT
BEGIN:STANDARD
TZOFFSETFROM:-0400
TZOFFSETTO:-0500
TZNAME:EST
DTSTART:20261101T060000
END:STANDARD
BEGIN:DAYLIGHT
TZOFFSETFROM:-0500
TZOFFSETTO:-0400
TZNAME:EDT
DTSTART:20270314T070000
END:DAYLIGHT
BEGIN:STANDARD
TZOFFSETFROM:-0400
TZOFFSETTO:-0500
TZNAME:EST
DTSTART:20271107T060000
END:STANDARD
END:VTIMEZONE
BEGIN:VEVENT
DTSTART;TZID=America/New_York:20260203T183000
DTEND;TZID=America/New_York:20260203T210000
DTSTAMP:20260419T092904
CREATED:20260129T144012Z
LAST-MODIFIED:20260203T145508Z
UID:10006601-1770143400-1770152400@unitedarts.org
SUMMARY:Beer and Banjos: Yakamashii
DESCRIPTION:This week’s featured band is Yakamashii\, a Chapel Hill-based group that describes their sound as Southern Gothic Y’allternative. Come join us to find out just how fun that particular blend can be! \nBeer and Banjos is a free\, family-friendly evening of roots music every Tuesday at Raleigh’s Bowstring Pizza and Brewyard. Hosted by the mighty local musicians known collectively as the Beer and Banjos Allstars\, these weekly concerts feature guest musicians and take place on Bowstring’s spacious patio when the weather allows\, or inside by the bar when rain\, heat\, or cold threaten the vibe. \nTips for the musicians are gratefully accepted (look for a helper walking around with a bucket for cash and QR codes for online tips)\, and don’t forget to check out the merch table. Bowstring serves tasty pizza and other food as well as cold beer and other beverages. \nLearn more about Beer and Banjos events statewide here.
URL:https://unitedarts.org/calendar/beer-and-banjos-yakamashii-3/
LOCATION:Bowstring Pizza and Brewyard\, 1930 Wake Forest Rd\, Raleigh\, NC\, 27608\, United States
CATEGORIES:Beer and Banjos
ATTACH;FMTTYPE=image/png:https://unitedarts.org/wp-content/uploads/2026/01/Yakamashii-BB-2026-169-for-event-Usr5Pn.png
END:VEVENT
BEGIN:VEVENT
DTSTART;TZID=America/New_York:20260210T183000
DTEND;TZID=America/New_York:20260210T210000
DTSTAMP:20260419T092904
CREATED:20260129T144032Z
LAST-MODIFIED:20260210T154008Z
UID:10006602-1770748200-1770757200@unitedarts.org
SUMMARY:Beer and Banjos: Laika’s Lost
DESCRIPTION:Explore the outer reaches of the bluegrass universe with the electric fusion of Laika’s Lost\, a band inspired by Bela Fleck and the Flecktones. \nBeer and Banjos is a free\, family-friendly evening of roots music every Tuesday at Raleigh’s Bowstring Pizza and Brewyard. Hosted by the mighty local musicians known collectively as the Beer and Banjos Allstars\, these weekly concerts feature guest musicians and take place on Bowstring’s spacious patio when the weather allows\, or inside by the bar when rain\, heat\, or cold threaten the vibe. \nTips for the musicians are gratefully accepted (look for a helper walking around with a bucket for cash and QR codes for online tips)\, and don’t forget to check out the merch table. Bowstring serves tasty pizza and other food as well as cold beer and other beverages. \nLearn more about Beer and Banjos events statewide here.
URL:https://unitedarts.org/calendar/beer-and-banjos-laikas-lost-4/
LOCATION:Bowstring Pizza and Brewyard\, 1930 Wake Forest Rd\, Raleigh\, NC\, 27608\, United States
CATEGORIES:Beer and Banjos
ATTACH;FMTTYPE=image/png:https://unitedarts.org/wp-content/uploads/2026/01/Laikas-Lost-BB-2026-169-for-event-Eq44d2.png
END:VEVENT
BEGIN:VEVENT
DTSTART;TZID=America/New_York:20260217T183000
DTEND;TZID=America/New_York:20260217T210000
DTSTAMP:20260419T092904
CREATED:20260216T161005Z
LAST-MODIFIED:20260217T161003Z
UID:10007114-1771353000-1771362000@unitedarts.org
SUMMARY:Beer and Banjos: Nixon\, Williams and Gage
DESCRIPTION:Join us this week for local acoustic trio Nixon\, Williams and Gage. Loosely based in bluegrass\, they present the thumb-picking\, early country music popularized by Doc Watson and Merle Travis. You might recognize Larry Nixon’s voice from his hosting duties with the long-running PineCone Bluegrass Radio Show\, airing Sunday evenings on WQDR.\n\nBeer and Banjos is a free\, family-friendly evening of roots music every Tuesday at Raleigh’s Bowstring Pizza and Brewyard. Hosted by the mighty local musicians known collectively as the Beer and Banjos Allstars\, these weekly concerts feature guest musicians and take place on Bowstring’s spacious patio when the weather allows\, or inside by the bar when rain\, heat\, or cold threaten the vibe. \nTips for the musicians are gratefully accepted (look for a helper walking around with a bucket for cash and QR codes for online tips)\, and don’t forget to check out the merch table. Bowstring serves tasty pizza and other food as well as cold beer and other beverages. \nLearn more about Beer and Banjos events statewide here.
URL:https://unitedarts.org/calendar/beer-and-banjos-nixon-williams-and-gage-2/
LOCATION:Bowstring Pizza and Brewyard\, 1930 Wake Forest Rd\, Raleigh\, NC\, 27608\, United States
CATEGORIES:Beer and Banjos
ATTACH;FMTTYPE=image/png:https://unitedarts.org/wp-content/uploads/2026/02/Nixon-Williams-and-Gage-BB-2026-1080sq-rb7rRB.png
END:VEVENT
BEGIN:VEVENT
DTSTART;TZID=America/New_York:20260224T183000
DTEND;TZID=America/New_York:20260224T210000
DTSTAMP:20260419T092904
CREATED:20260130T144003Z
LAST-MODIFIED:20260224T165507Z
UID:10006603-1771957800-1771966800@unitedarts.org
SUMMARY:Beer and Banjos: Barefoot Manner
DESCRIPTION:Barefoot Manner\, Raleigh’s original newgrass band (circa 2000!)\, comes dancing into Beer and Banjos with sophisticated string music and ramble aplenty. \nBeer and Banjos is a free\, family-friendly evening of roots music every Tuesday at Raleigh’s Bowstring Pizza and Brewyard. Hosted by the mighty local musicians known collectively as the Beer and Banjos Allstars\, these weekly concerts feature guest musicians and take place on Bowstring’s spacious patio when the weather allows\, or inside by the bar when rain\, heat\, or cold threaten the vibe. \nTips for the musicians are gratefully accepted (look for a helper walking around with a bucket for cash and QR codes for online tips)\, and don’t forget to check out the merch table. Bowstring serves tasty pizza and other food as well as cold beer and other beverages. \nLearn more about Beer and Banjos events statewide here.
URL:https://unitedarts.org/calendar/beer-and-banjos-barefoot-manner-2/
LOCATION:Bowstring Pizza and Brewyard\, 1930 Wake Forest Rd\, Raleigh\, NC\, 27608\, United States
CATEGORIES:Beer and Banjos
ATTACH;FMTTYPE=image/png:https://unitedarts.org/wp-content/uploads/2026/01/Barefoot-Manner-BB-2026-169-for-event-1HWvDi.png
END:VEVENT
BEGIN:VEVENT
DTSTART;TZID=America/New_York:20260224T183000
DTEND;TZID=America/New_York:20260224T210000
DTSTAMP:20260419T092905
CREATED:20260223T164001Z
LAST-MODIFIED:20260224T165508Z
UID:10007388-1771957800-1771966800@unitedarts.org
SUMMARY:Beer and Banjos: Barefoot Manner
DESCRIPTION:Raleigh’s original newgrass band (c. 2000!)\, Barefoot Manner\, is back on the Beer and Banjos stage\, fresh from a sweet opening spot with Jupiter Coyote at Lincoln Theater last weekend. Learn more about the band here. \nBeer and Banjos is a free\, family-friendly evening of roots music every Tuesday at Raleigh’s Bowstring Pizza and Brewyard. Hosted by the mighty local musicians known collectively as the Beer and Banjos Allstars\, these weekly concerts feature guest musicians and take place on Bowstring’s spacious patio when the weather allows\, or inside by the bar when rain\, heat\, or cold threaten the vibe. \nTips for the musicians are gratefully accepted (look for a helper walking around with a bucket for cash and QR codes for online tips)\, and don’t forget to check out the merch table. Bowstring serves tasty pizza and other food as well as cold beer and other beverages. \nLearn more about Beer and Banjos events statewide here.
URL:https://unitedarts.org/calendar/beer-and-banjos-barefoot-manner-3/
LOCATION:Bowstring Pizza and Brewyard\, 1930 Wake Forest Rd\, Raleigh\, NC\, 27608\, United States
CATEGORIES:Beer and Banjos
ATTACH;FMTTYPE=image/png:https://unitedarts.org/wp-content/uploads/2026/02/Barefoot-Manner-BB-2026-169-for-event-yZRUHc.png
END:VEVENT
END:VCALENDAR