BEGIN:VCALENDAR
VERSION:2.0
PRODID:-//United Arts Wake County - ECPv6.15.20//NONSGML v1.0//EN
CALSCALE:GREGORIAN
METHOD:PUBLISH
X-ORIGINAL-URL:https://unitedarts.org
X-WR-CALDESC:Events for United Arts Wake County
REFRESH-INTERVAL;VALUE=DURATION:PT1H
X-Robots-Tag:noindex
X-PUBLISHED-TTL:PT1H
BEGIN:VTIMEZONE
TZID:America/New_York
BEGIN:DAYLIGHT
TZOFFSETFROM:-0500
TZOFFSETTO:-0400
TZNAME:EDT
DTSTART:20250309T070000
END:DAYLIGHT
BEGIN:STANDARD
TZOFFSETFROM:-0400
TZOFFSETTO:-0500
TZNAME:EST
DTSTART:20251102T060000
END:STANDARD
BEGIN:DAYLIGHT
TZOFFSETFROM:-0500
TZOFFSETTO:-0400
TZNAME:EDT
DTSTART:20260308T070000
END:DAYLIGHT
BEGIN:STANDARD
TZOFFSETFROM:-0400
TZOFFSETTO:-0500
TZNAME:EST
DTSTART:20261101T060000
END:STANDARD
BEGIN:DAYLIGHT
TZOFFSETFROM:-0500
TZOFFSETTO:-0400
TZNAME:EDT
DTSTART:20270314T070000
END:DAYLIGHT
BEGIN:STANDARD
TZOFFSETFROM:-0400
TZOFFSETTO:-0500
TZNAME:EST
DTSTART:20271107T060000
END:STANDARD
END:VTIMEZONE
BEGIN:VEVENT
DTSTART;TZID=America/New_York:20260404T090000
DTEND;TZID=America/New_York:20260404T220000
DTSTAMP:20260423T125414
CREATED:20260120T155524Z
LAST-MODIFIED:20260120T155524Z
UID:10006508-1775293200-1775340000@unitedarts.org
SUMMARY:The Road Through “Don’t Ask\, Don’t Tell”
DESCRIPTION:The Road Through Don’t Ask\, Don’t Tell by photographer\, oral historian\, and U.S. Marine Corps veteran Theresa Scott. This deeply personal documentary exhibition explores the lived experiences of LGBTQIA+ veterans who served under restrictive military policies. \nThrough intimate portrait photography paired with first-person oral histories\, Scott brings forward stories long silenced by institutional policy and cultural pressure. Drawing on her own service\, she offers viewers an unflinching look at the realities faced by service members who were expected to serve with honor while hiding essential parts of who they were. \nExhibition Dates: February 1 – April 26\, 2026\nArtist Talk & Reception: March 26\, 5:30–7:00 p.m.
URL:https://unitedarts.org/calendar/the-road-through-dont-ask-dont-tell/2026-04-04/
LOCATION:Pullen Arts Center
ATTACH;FMTTYPE=image/jpeg:https://unitedarts.org/wp-content/uploads/2026/01/DADT-24.jpg
ORGANIZER;CN="Pullen Arts Center":MAILTO:pullenartscenter@raleighnc.gov
END:VEVENT
BEGIN:VEVENT
DTSTART;TZID=America/New_York:20260404T140000
DTEND;TZID=America/New_York:20260404T153000
DTSTAMP:20260423T125414
CREATED:20260303T011019Z
LAST-MODIFIED:20260404T174032Z
UID:10007398-1775311200-1775316600@unitedarts.org
SUMMARY:Artist Talk with Rowena Federico Finn
DESCRIPTION:Join Virginia-based artist Rowena Federico Finn for a discussion of her solo exhibition on view at Artspace.\n\n\nJoin artist Rowena Federico Finn for a discussion on migration\, memory\, identity\, colonization\, and more related to her solo exhibition Inventing a Homeland on view at Artspace until April 4. \n \nAbout Rowena Federico Finn \nROWENA FEDERICO FINN’s work combines Philippine Indigenous materials with American crafting traditions to create what she calls Filipina-Futurism: intricate\, tactile pieces that form a new visual and cultural language—one that speaks to the experience of being neither fully from one place nor the other\, while imagining futures in which those in-between spaces are sources of power. Her practice is rooted in her lived experiences as an artist\, mother\, educator\, and community activist shaped by colonialism\, patriarchy\, and other forces that define belonging. Through these lenses\, Rowena creates work that holds space for viewers to reflect on their own identities\, inheritances\, and the environments that have shaped them; the personal becomes a point of connection\, inviting others to see their own stories mirrored in the tension and resilience embedded in each piece. She has won numerous awards and exhibited throughout the country\, and her work was recently acquired by the Chrysler Museum of Art in Norfolk\, VA. Rowena lives in Virginia with her husband and three children. \n \nAbout Artspace \nArtspace is a non-profit visual arts center located in Downtown Raleigh. Visit Artspace to explore exhibitions featuring national and community artists\, engage with more than 35 artists working in their studios\, and enjoy art classes and community events for all ages and abilities. To learn more about Artspace\, visit artspacenc.org \n \nParking and Accessibility \nFree street parking is available on Davie Street. Free parking is available at the following parking decks: \n\nCity Center Deck\, 429 S. Wilmington St.\nMoore Square Deck\, 233 S. Wilmington St.\nMunicipal Complex Deck\, 201 W. Morgan St.\nWilmington Street Station Deck\, 117 S. Wilmington St.\n\nThere are also several pay lots nearby: City Market parking lot and several Secure P lots for night + weekend parking (314 E Davie St\, 415 S Person St\, 417 S Person St). \nExplore accessibility information with our Know Before You Go Guide.
URL:https://unitedarts.org/calendar/artist-talk-with-rowena-federico-finn/
LOCATION:Artspace\, 201 East Davie Street\, Raleigh\, NC\, 27601\, United States
ATTACH;FMTTYPE=image/jpeg:https://unitedarts.org/wp-content/uploads/2026/03/e6e8ecc21feef9fc60c7ae2cad6226f5.jpg
END:VEVENT
BEGIN:VEVENT
DTSTART;TZID=America/New_York:20260404T200000
DTEND;TZID=America/New_York:20260404T223000
DTSTAMP:20260423T125414
CREATED:20250702T182303Z
LAST-MODIFIED:20250702T182303Z
UID:10002125-1775332800-1775341800@unitedarts.org
SUMMARY:1776
DESCRIPTION:It’s the summer of 1776\, and the nation is ready to declare independence… if only our founding fathers can agree to do it! 1776 follows John Adams of Massachusetts\, Benjamin Franklin of Pennsylvania and Thomas Jefferson of Virginia as they attempt to convince the members of the Second Continental Congress to vote for independence from the shackles of the British monarchy by signing the Declaration of Independence. \nThe seminal event in American history blazes to vivid life in this most unconventional of Broadway hits. Celebrate the semiquincentennial of the United States at 1776! \nMusic and Lyrics by Sherman Edwards\nBook by Peter Stone\nBased on a concept by Sherman Edwards\nOriginal Production Directed by Peter Hunt\nOriginally Produced on the Broadway Stage by Stuart Ostrow \n1776 is presented through special arrangement with Music Theatre International (MTI). All authorized performance materials are also supplied by MTI. www.mtishows.com
URL:https://unitedarts.org/calendar/1776/2026-04-04/
LOCATION:Raleigh Little Theatre\, 301 Pogue St\, Raleigh\, 27607
ORGANIZER;CN="Raleigh Little Theatre":MAILTO:boxoffice@raleighlittletheatre.org
END:VEVENT
END:VCALENDAR