BEGIN:VCALENDAR
VERSION:2.0
PRODID:-//United Arts Wake County - ECPv6.15.20//NONSGML v1.0//EN
CALSCALE:GREGORIAN
METHOD:PUBLISH
X-WR-CALNAME:United Arts Wake County
X-ORIGINAL-URL:https://unitedarts.org
X-WR-CALDESC:Events for United Arts Wake County
REFRESH-INTERVAL;VALUE=DURATION:PT1H
X-Robots-Tag:noindex
X-PUBLISHED-TTL:PT1H
BEGIN:VTIMEZONE
TZID:America/New_York
BEGIN:DAYLIGHT
TZOFFSETFROM:-0500
TZOFFSETTO:-0400
TZNAME:EDT
DTSTART:20250309T070000
END:DAYLIGHT
BEGIN:STANDARD
TZOFFSETFROM:-0400
TZOFFSETTO:-0500
TZNAME:EST
DTSTART:20251102T060000
END:STANDARD
BEGIN:DAYLIGHT
TZOFFSETFROM:-0500
TZOFFSETTO:-0400
TZNAME:EDT
DTSTART:20260308T070000
END:DAYLIGHT
BEGIN:STANDARD
TZOFFSETFROM:-0400
TZOFFSETTO:-0500
TZNAME:EST
DTSTART:20261101T060000
END:STANDARD
BEGIN:DAYLIGHT
TZOFFSETFROM:-0500
TZOFFSETTO:-0400
TZNAME:EDT
DTSTART:20270314T070000
END:DAYLIGHT
BEGIN:STANDARD
TZOFFSETFROM:-0400
TZOFFSETTO:-0500
TZNAME:EST
DTSTART:20271107T060000
END:STANDARD
END:VTIMEZONE
BEGIN:VEVENT
DTSTART;TZID=America/New_York:20260329T090000
DTEND;TZID=America/New_York:20260329T220000
DTSTAMP:20260421T194348
CREATED:20260120T155524Z
LAST-MODIFIED:20260120T155524Z
UID:10006503-1774774800-1774821600@unitedarts.org
SUMMARY:The Road Through “Don’t Ask\, Don’t Tell”
DESCRIPTION:The Road Through Don’t Ask\, Don’t Tell by photographer\, oral historian\, and U.S. Marine Corps veteran Theresa Scott. This deeply personal documentary exhibition explores the lived experiences of LGBTQIA+ veterans who served under restrictive military policies. \nThrough intimate portrait photography paired with first-person oral histories\, Scott brings forward stories long silenced by institutional policy and cultural pressure. Drawing on her own service\, she offers viewers an unflinching look at the realities faced by service members who were expected to serve with honor while hiding essential parts of who they were. \nExhibition Dates: February 1 – April 26\, 2026\nArtist Talk & Reception: March 26\, 5:30–7:00 p.m.
URL:https://unitedarts.org/calendar/the-road-through-dont-ask-dont-tell/2026-03-29/
LOCATION:Pullen Arts Center
ATTACH;FMTTYPE=image/jpeg:https://unitedarts.org/wp-content/uploads/2026/01/DADT-24.jpg
ORGANIZER;CN="Pullen Arts Center":MAILTO:pullenartscenter@raleighnc.gov
END:VEVENT
BEGIN:VEVENT
DTSTART;TZID=America/New_York:20260329T133000
DTEND;TZID=America/New_York:20260329T153000
DTSTAMP:20260421T194348
CREATED:20250801T112539Z
LAST-MODIFIED:20260327T184055Z
UID:10003104-1774791000-1774798200@unitedarts.org
SUMMARY:Artspace Open Studio
DESCRIPTION:Let your imagination soar in Artspace’s Open Studio and enjoy a free self-guided art making activity for ages 5 and up
URL:https://unitedarts.org/calendar/artspace-open-studio-39/
LOCATION:Artspace\, 201 East Davie Street\, Raleigh\, NC\, 27601\, United States
ATTACH;FMTTYPE=image/jpeg:https://unitedarts.org/wp-content/uploads/2025/03/693fd9124d6761b448fbe808c90a03fe.jpg
END:VEVENT
BEGIN:VEVENT
DTSTART;TZID=America/New_York:20260329T140000
DTEND;TZID=America/New_York:20260329T163000
DTSTAMP:20260421T194348
CREATED:20260201T122042Z
LAST-MODIFIED:20260201T122042Z
UID:10006612-1774792800-1774801800@unitedarts.org
SUMMARY:A New Brain
DESCRIPTION:By the Tony Award-winning authors of Falsettos\, here is an energetic\, sardonic\, often comical musical about a composer during a medical emergency. Gordon collapses into his lunch and awakes in the hospital\, surrounded by his maritime-enthusiast lover\, his mother\, a co-worker\, the doctor\, and the nurses. Reluctantly\, he had been composing a song for a children’s television show that features a frog — Mr. Bungee — and the specter of this large green character and the unfinished work haunts him throughout his medical ordeal. What was thought to be a tumor turns out to be something more operable\, and Gordon recovers\, grateful for a chance to compose the songs he yearns to produce. \n*Please note this production is intended for mature audiences only (14+) \nDirected by Matthew Hager\nMusic Directed by Alex Thompson\nChoreographed by Alli Mae Carnes \nFeaturing performances from Alli Mae Carnes\, Andrew Goins\, Devin Lackey\, DJ Brinson\, Dylan Bailey\, Jordan Monadjemi\, Margaret-Ellen Christensen\, Micaela Bundy\, Susan Shank\, and Ty Spencer
URL:https://unitedarts.org/calendar/a-new-brain/2026-03-29/
LOCATION:William Peace Historic Leggett Theatre\, 15 East Peace Street\, Raleigh\, 27604
ATTACH;FMTTYPE=image/jpeg:https://unitedarts.org/wp-content/uploads/2026/01/ANB-Poster.jpg
ORGANIZER;CN="Aggregate Theatre Company":MAILTO:aggregatetheatre@gmail.com
END:VEVENT
BEGIN:VEVENT
DTSTART;TZID=America/New_York:20260329T150000
DTEND;TZID=America/New_York:20260329T173000
DTSTAMP:20260421T194348
CREATED:20250702T182303Z
LAST-MODIFIED:20250702T182303Z
UID:10002122-1774796400-1774805400@unitedarts.org
SUMMARY:1776
DESCRIPTION:It’s the summer of 1776\, and the nation is ready to declare independence… if only our founding fathers can agree to do it! 1776 follows John Adams of Massachusetts\, Benjamin Franklin of Pennsylvania and Thomas Jefferson of Virginia as they attempt to convince the members of the Second Continental Congress to vote for independence from the shackles of the British monarchy by signing the Declaration of Independence. \nThe seminal event in American history blazes to vivid life in this most unconventional of Broadway hits. Celebrate the semiquincentennial of the United States at 1776! \nMusic and Lyrics by Sherman Edwards\nBook by Peter Stone\nBased on a concept by Sherman Edwards\nOriginal Production Directed by Peter Hunt\nOriginally Produced on the Broadway Stage by Stuart Ostrow \n1776 is presented through special arrangement with Music Theatre International (MTI). All authorized performance materials are also supplied by MTI. www.mtishows.com
URL:https://unitedarts.org/calendar/1776/2026-03-29/
LOCATION:Raleigh Little Theatre\, 301 Pogue St\, Raleigh\, 27607
ORGANIZER;CN="Raleigh Little Theatre":MAILTO:boxoffice@raleighlittletheatre.org
END:VEVENT
BEGIN:VEVENT
DTSTART;TZID=America/New_York:20260329T170000
DTEND;TZID=America/New_York:20260329T183000
DTSTAMP:20260421T194348
CREATED:20250801T220516Z
LAST-MODIFIED:20250801T220516Z
UID:10002917-1774803600-1774809000@unitedarts.org
SUMMARY:Roll\, Release and Reset
DESCRIPTION:Ages 18+\nThis workshop focuses on enhancing strength and stability in the body and pelvic floor region through a combination of exercises and techniques. This class will also provide a self-care component that empowers participants to take control of their health. \nIn addition to targeted exercises\, participants will also learn myofascial release techniques using therapy balls to promote relaxation and release tension in the muscles. Join us to improve your pelvic floor health and overall well-being.
URL:https://unitedarts.org/calendar/roll-release-and-reset/2026-03-29/
LOCATION:Arts Together\, 114 SAINT MARYS ST\, RALEIGH\, NC\, 27605-1809\, United States
CATEGORIES:Workshop
END:VEVENT
END:VCALENDAR