BEGIN:VCALENDAR
VERSION:2.0
PRODID:-//United Arts Wake County - ECPv6.15.20//NONSGML v1.0//EN
CALSCALE:GREGORIAN
METHOD:PUBLISH
X-WR-CALNAME:United Arts Wake County
X-ORIGINAL-URL:https://unitedarts.org
X-WR-CALDESC:Events for United Arts Wake County
REFRESH-INTERVAL;VALUE=DURATION:PT1H
X-Robots-Tag:noindex
X-PUBLISHED-TTL:PT1H
BEGIN:VTIMEZONE
TZID:America/New_York
BEGIN:DAYLIGHT
TZOFFSETFROM:-0500
TZOFFSETTO:-0400
TZNAME:EDT
DTSTART:20250309T070000
END:DAYLIGHT
BEGIN:STANDARD
TZOFFSETFROM:-0400
TZOFFSETTO:-0500
TZNAME:EST
DTSTART:20251102T060000
END:STANDARD
BEGIN:DAYLIGHT
TZOFFSETFROM:-0500
TZOFFSETTO:-0400
TZNAME:EDT
DTSTART:20260308T070000
END:DAYLIGHT
BEGIN:STANDARD
TZOFFSETFROM:-0400
TZOFFSETTO:-0500
TZNAME:EST
DTSTART:20261101T060000
END:STANDARD
BEGIN:DAYLIGHT
TZOFFSETFROM:-0500
TZOFFSETTO:-0400
TZNAME:EDT
DTSTART:20270314T070000
END:DAYLIGHT
BEGIN:STANDARD
TZOFFSETFROM:-0400
TZOFFSETTO:-0500
TZNAME:EST
DTSTART:20271107T060000
END:STANDARD
END:VTIMEZONE
BEGIN:VEVENT
DTSTART;TZID=America/New_York:20260323T090000
DTEND;TZID=America/New_York:20260323T220000
DTSTAMP:20260421T202731
CREATED:20260120T155524Z
LAST-MODIFIED:20260120T155524Z
UID:10006498-1774256400-1774303200@unitedarts.org
SUMMARY:The Road Through “Don’t Ask\, Don’t Tell”
DESCRIPTION:The Road Through Don’t Ask\, Don’t Tell by photographer\, oral historian\, and U.S. Marine Corps veteran Theresa Scott. This deeply personal documentary exhibition explores the lived experiences of LGBTQIA+ veterans who served under restrictive military policies. \nThrough intimate portrait photography paired with first-person oral histories\, Scott brings forward stories long silenced by institutional policy and cultural pressure. Drawing on her own service\, she offers viewers an unflinching look at the realities faced by service members who were expected to serve with honor while hiding essential parts of who they were. \nExhibition Dates: February 1 – April 26\, 2026\nArtist Talk & Reception: March 26\, 5:30–7:00 p.m.
URL:https://unitedarts.org/calendar/the-road-through-dont-ask-dont-tell/2026-03-23/
LOCATION:Pullen Arts Center
ATTACH;FMTTYPE=image/jpeg:https://unitedarts.org/wp-content/uploads/2026/01/DADT-24.jpg
ORGANIZER;CN="Pullen Arts Center":MAILTO:pullenartscenter@raleighnc.gov
END:VEVENT
BEGIN:VEVENT
DTSTART;TZID=America/New_York:20260323T100000
DTEND;TZID=America/New_York:20260323T230000
DTSTAMP:20260421T202731
CREATED:20250801T220708Z
LAST-MODIFIED:20250801T220708Z
UID:10002738-1774260000-1774306800@unitedarts.org
SUMMARY:Moving with Parent & Tot
DESCRIPTION:Walking – 5 Years Old: Move\, stretch\, sing\, & bond with your tot in this creative movement course designed to introduce our youngest students to basic dance skills. \nYoung dancers must be accompanied by a parent\, grandparent\, or guardian.
URL:https://unitedarts.org/calendar/moving-with-parent-tot/2026-03-23/
LOCATION:Arts Together\, 114 SAINT MARYS ST\, RALEIGH\, NC\, 27605-1809\, United States
END:VEVENT
BEGIN:VEVENT
DTSTART;TZID=America/New_York:20260323T130000
DTEND;TZID=America/New_York:20260323T160000
DTSTAMP:20260421T202731
CREATED:20260210T194039Z
LAST-MODIFIED:20260210T194039Z
UID:10006920-1774270800-1774281600@unitedarts.org
SUMMARY:Women's Only Needle Felting: Sculpting & Painting with Wool
DESCRIPTION:When: Mondays\, 1:00pm – 4:00pm \nDates: Mon: 3/9; 3/16; 3/23 \nPlease Note: All classes and workshops are for Military Connected Individuals who are 18 years or older. This particular class is for military-connected women over 18 years or older. \nWool can be used as a medium to paint a landscape or a portrait or be sculpted into a 3-dimensional piece of art! This unique art has been used to illustrate children’s books and in stop-motion animation. Artists have begun to truly appreciate the practicality of using this inexpensive natural resource in ornaments\, pin cushions\, pillows\, hanging art\, and much\, much more! \nIn this class\, students will learn the techniques to make both a flat\, 2-dimensional picture and a 3-dimensional sculpture piece. Students will develop self-expression through manipulation of colors and textures of wool. \nWe offer scholarships for those who cannot afford the registration fee. Email the Operation ART Program Manager at isabella@thejoelfund.org to receive the scholarship promo code with your name and email address.
URL:https://unitedarts.org/calendar/womens-only-needle-felting-sculpting-painting-with-wool/2026-03-23/
LOCATION:The Joel Fund\, 822 S White Street\, Wake Forest\, 27587
ORGANIZER;CN="The Joel Fund":MAILTO:isabella@thejoelfund.org
END:VEVENT
BEGIN:VEVENT
DTSTART;TZID=America/New_York:20260323T174500
DTEND;TZID=America/New_York:20260323T184500
DTSTAMP:20260421T202731
CREATED:20250801T220713Z
LAST-MODIFIED:20250801T220713Z
UID:10002801-1774287900-1774291500@unitedarts.org
SUMMARY:Beginning Painting Workshop
DESCRIPTION:Ages 13+ This is a great class for new painters\, as well as existing painters who would like to follow along. We will learn about different paint styles and techniques\, explore color and work on developing our painting skills. Several themed paint projects will be completed in this session.
URL:https://unitedarts.org/calendar/beginning-painting-workshop/2026-03-23/
LOCATION:Arts Together\, 114 SAINT MARYS ST\, RALEIGH\, NC\, 27605-1809\, United States
CATEGORIES:Workshop
END:VEVENT
BEGIN:VEVENT
DTSTART;TZID=America/New_York:20260323T183000
DTEND;TZID=America/New_York:20260323T193000
DTSTAMP:20260421T202731
CREATED:20250801T220459Z
LAST-MODIFIED:20250801T220459Z
UID:10002974-1774290600-1774294200@unitedarts.org
SUMMARY:Beginning Jazz Workshop
DESCRIPTION:Ages 18+\nIn this engaging beginning Jazz class\, participants will delve into a captivating blend of strength-building exercises\, precise body alignment techniques\, and invigorating conditioning routines. \nWith a focus on cultivating musicality and honing individual style\, students will unlock the secrets of this exhilarating dance form\, discovering the joy of movement and self-expression along the way. No prior experience necessary.
URL:https://unitedarts.org/calendar/beginning-jazz-workshop/2026-03-23/
LOCATION:Arts Together\, 114 SAINT MARYS ST\, RALEIGH\, NC\, 27605-1809\, United States
CATEGORIES:Workshop
END:VEVENT
BEGIN:VEVENT
DTSTART;TZID=America/New_York:20260323T190000
DTEND;TZID=America/New_York:20260323T210000
DTSTAMP:20260421T202731
CREATED:20260221T164006Z
LAST-MODIFIED:20260323T174007Z
UID:10007387-1774292400-1774299600@unitedarts.org
SUMMARY:PineCone Open Bluegrass Jam
DESCRIPTION:The monthly PineCone Bluegrass Jam is a “circle jam\,” where musicians gather in a circle and play together. Tunes are played up to speed and everyone interested in playing bluegrass instruments is  welcome. \n \nThis jam will be held outdoors when weather permits. TransferCo has a beautiful patio\, with lots of room for pickers and spectators alike. There’s also a spacious ballroom just off the Food Hall that’s got room for a nice sized circle. \nJam leader Ron Raxter is pictured far left playing the upright bass. (photo by Tom Beck)\nFacilitated Ron Raxter\, the repertoire includes both instrumentals and vocal songs. Ron is one of PineCone’s founding members and is active in a number of local jams. He’s a retired attorney\, bass player and was part of the local organizing committee that helped recruit IBMA’s World of Bluegrass to Raleigh. \nIn the colder months the jam is held in the TransferCo Ballroom. (photo by Maurice Melvin)\nWhether you’re a first-time jammer or a veteran\, you’re welcome to learn the tunes and play along\, or just listen and observe! However\, please note that this is not a “learning” or “slow” jam. If you want to play at a slower tempo you might want to check out our monthly “Beginners’ Jam” at Harry’s Guitar Shop.  Regardless\, this is a great place to meet other musicians who share your enthusiasm for bluegrass. \nPlease remember – every jam is different! This jam tends to draw a big crowd\, and it is open to musicians of all skill levels. Please help us make sure that newer players feel welcome! Also\, big\, mixed level jams can be challenging. Patience and kindness are appreciated! \nThe PineCone Bluegrass Jam meets on the fourth Monday of each month at Transfer Co. Food Hall in downtown Raleigh.
URL:https://unitedarts.org/calendar/pinecone-open-bluegrass-jam-14/
LOCATION:TransferCo Food Hall\, 500 E Davie St\, Raleigh\, 27601
CATEGORIES:Jam Session
ATTACH;FMTTYPE=image/jpeg:https://unitedarts.org/wp-content/uploads/2025/03/BEK5285-scaled-rC7DUX.tmp_.jpg
END:VEVENT
END:VCALENDAR