BEGIN:VCALENDAR
VERSION:2.0
PRODID:-//United Arts Wake County - ECPv6.15.20//NONSGML v1.0//EN
CALSCALE:GREGORIAN
METHOD:PUBLISH
X-WR-CALNAME:United Arts Wake County
X-ORIGINAL-URL:https://unitedarts.org
X-WR-CALDESC:Events for United Arts Wake County
REFRESH-INTERVAL;VALUE=DURATION:PT1H
X-Robots-Tag:noindex
X-PUBLISHED-TTL:PT1H
BEGIN:VTIMEZONE
TZID:America/New_York
BEGIN:DAYLIGHT
TZOFFSETFROM:-0500
TZOFFSETTO:-0400
TZNAME:EDT
DTSTART:20250309T070000
END:DAYLIGHT
BEGIN:STANDARD
TZOFFSETFROM:-0400
TZOFFSETTO:-0500
TZNAME:EST
DTSTART:20251102T060000
END:STANDARD
BEGIN:DAYLIGHT
TZOFFSETFROM:-0500
TZOFFSETTO:-0400
TZNAME:EDT
DTSTART:20260308T070000
END:DAYLIGHT
BEGIN:STANDARD
TZOFFSETFROM:-0400
TZOFFSETTO:-0500
TZNAME:EST
DTSTART:20261101T060000
END:STANDARD
BEGIN:DAYLIGHT
TZOFFSETFROM:-0500
TZOFFSETTO:-0400
TZNAME:EDT
DTSTART:20270314T070000
END:DAYLIGHT
BEGIN:STANDARD
TZOFFSETFROM:-0400
TZOFFSETTO:-0500
TZNAME:EST
DTSTART:20271107T060000
END:STANDARD
END:VTIMEZONE
BEGIN:VEVENT
DTSTART;TZID=America/New_York:20260321T090000
DTEND;TZID=America/New_York:20260321T220000
DTSTAMP:20260421T181406
CREATED:20260120T155524Z
LAST-MODIFIED:20260120T155524Z
UID:10006496-1774083600-1774130400@unitedarts.org
SUMMARY:The Road Through “Don’t Ask\, Don’t Tell”
DESCRIPTION:The Road Through Don’t Ask\, Don’t Tell by photographer\, oral historian\, and U.S. Marine Corps veteran Theresa Scott. This deeply personal documentary exhibition explores the lived experiences of LGBTQIA+ veterans who served under restrictive military policies. \nThrough intimate portrait photography paired with first-person oral histories\, Scott brings forward stories long silenced by institutional policy and cultural pressure. Drawing on her own service\, she offers viewers an unflinching look at the realities faced by service members who were expected to serve with honor while hiding essential parts of who they were. \nExhibition Dates: February 1 – April 26\, 2026\nArtist Talk & Reception: March 26\, 5:30–7:00 p.m.
URL:https://unitedarts.org/calendar/the-road-through-dont-ask-dont-tell/2026-03-21/
LOCATION:Pullen Arts Center
ATTACH;FMTTYPE=image/jpeg:https://unitedarts.org/wp-content/uploads/2026/01/DADT-24.jpg
ORGANIZER;CN="Pullen Arts Center":MAILTO:pullenartscenter@raleighnc.gov
END:VEVENT
BEGIN:VEVENT
DTSTART;TZID=America/New_York:20260321T100000
DTEND;TZID=America/New_York:20260321T120000
DTSTAMP:20260421T181406
CREATED:20260225T012559Z
LAST-MODIFIED:20260225T012559Z
UID:10007391-1774087200-1774094400@unitedarts.org
SUMMARY:The Basics of Brush Lettering
DESCRIPTION:Local Cary\, NC Artist Ann Erickson teaches the Basics of Brush Lettering on March 21\, 2026 from 10AM – 12PM at Trinity Park Church. You’ll enjoy the benefits of small-group teaching\, light refreshments\, and included supplies. This free event is appropriate for ages 10+ (please accompany your child). \nAnn will cover the basics of lines and strokes\, and by the end of the class\, participants will leave with their own creation. You’ll be able to take home your brush and a small gift.
URL:https://unitedarts.org/calendar/the-basics-of-brush-lettering/
LOCATION:NC
ATTACH;FMTTYPE=image/jpeg:https://unitedarts.org/wp-content/uploads/2026/02/510997307_23987574207575301_3084384965015410420_n.jpg
END:VEVENT
BEGIN:VEVENT
DTSTART;TZID=America/New_York:20260321T190000
DTEND;TZID=America/New_York:20260321T210000
DTSTAMP:20260421T181406
CREATED:20260310T121818Z
LAST-MODIFIED:20260310T121818Z
UID:10007424-1774119600-1774126800@unitedarts.org
SUMMARY:Symphonic Favorites - Triangle Pride Symphonic Band Spring 2026 Concert
DESCRIPTION:Join the Triangle Pride Band in celebrating the art of symphonic band music that has helped define the genre. From classrooms to rehearsal halls\, these influential composers and works have shaped the concert band tradition over the last century. This program features music by acclaimed composers such as Eric Whitacre and Leonard Bernstein\, alongside enduring wind ensemble staples like Arabesque. \nFree admission for children four and under.
URL:https://unitedarts.org/calendar/symphonic-favorites-triangle-pride-symphonic-band-spring-2026-concert/
LOCATION:Garner Magnet High School\, 2101 Spring Dr\, Garner\, 27529
CATEGORIES:Concert
ATTACH;FMTTYPE=image/png:https://unitedarts.org/wp-content/uploads/2026/03/unnamed.png
ORGANIZER;CN="triangle pride band":MAILTO:info@triangleprideband.com
END:VEVENT
BEGIN:VEVENT
DTSTART;TZID=America/New_York:20260321T193000
DTEND;TZID=America/New_York:20260321T220000
DTSTAMP:20260421T181406
CREATED:20260201T122042Z
LAST-MODIFIED:20260201T122042Z
UID:10006608-1774121400-1774130400@unitedarts.org
SUMMARY:A New Brain
DESCRIPTION:By the Tony Award-winning authors of Falsettos\, here is an energetic\, sardonic\, often comical musical about a composer during a medical emergency. Gordon collapses into his lunch and awakes in the hospital\, surrounded by his maritime-enthusiast lover\, his mother\, a co-worker\, the doctor\, and the nurses. Reluctantly\, he had been composing a song for a children’s television show that features a frog — Mr. Bungee — and the specter of this large green character and the unfinished work haunts him throughout his medical ordeal. What was thought to be a tumor turns out to be something more operable\, and Gordon recovers\, grateful for a chance to compose the songs he yearns to produce. \n*Please note this production is intended for mature audiences only (14+) \nDirected by Matthew Hager\nMusic Directed by Alex Thompson\nChoreographed by Alli Mae Carnes \nFeaturing performances from Alli Mae Carnes\, Andrew Goins\, Devin Lackey\, DJ Brinson\, Dylan Bailey\, Jordan Monadjemi\, Margaret-Ellen Christensen\, Micaela Bundy\, Susan Shank\, and Ty Spencer
URL:https://unitedarts.org/calendar/a-new-brain/2026-03-21/
LOCATION:William Peace Historic Leggett Theatre\, 15 East Peace Street\, Raleigh\, 27604
ATTACH;FMTTYPE=image/jpeg:https://unitedarts.org/wp-content/uploads/2026/01/ANB-Poster.jpg
ORGANIZER;CN="Aggregate Theatre Company":MAILTO:aggregatetheatre@gmail.com
END:VEVENT
END:VCALENDAR