BEGIN:VCALENDAR
VERSION:2.0
PRODID:-//United Arts Wake County - ECPv6.15.20//NONSGML v1.0//EN
CALSCALE:GREGORIAN
METHOD:PUBLISH
X-ORIGINAL-URL:https://unitedarts.org
X-WR-CALDESC:Events for United Arts Wake County
REFRESH-INTERVAL;VALUE=DURATION:PT1H
X-Robots-Tag:noindex
X-PUBLISHED-TTL:PT1H
BEGIN:VTIMEZONE
TZID:America/New_York
BEGIN:DAYLIGHT
TZOFFSETFROM:-0500
TZOFFSETTO:-0400
TZNAME:EDT
DTSTART:20250309T070000
END:DAYLIGHT
BEGIN:STANDARD
TZOFFSETFROM:-0400
TZOFFSETTO:-0500
TZNAME:EST
DTSTART:20251102T060000
END:STANDARD
BEGIN:DAYLIGHT
TZOFFSETFROM:-0500
TZOFFSETTO:-0400
TZNAME:EDT
DTSTART:20260308T070000
END:DAYLIGHT
BEGIN:STANDARD
TZOFFSETFROM:-0400
TZOFFSETTO:-0500
TZNAME:EST
DTSTART:20261101T060000
END:STANDARD
BEGIN:DAYLIGHT
TZOFFSETFROM:-0500
TZOFFSETTO:-0400
TZNAME:EDT
DTSTART:20270314T070000
END:DAYLIGHT
BEGIN:STANDARD
TZOFFSETFROM:-0400
TZOFFSETTO:-0500
TZNAME:EST
DTSTART:20271107T060000
END:STANDARD
END:VTIMEZONE
BEGIN:VEVENT
DTSTART;TZID=America/New_York:20260317T080000
DTEND;TZID=America/New_York:20260317T170000
DTSTAMP:20260421T210942
CREATED:20260317T175033Z
LAST-MODIFIED:20260317T175033Z
UID:10007434-1773734400-1773766800@unitedarts.org
SUMMARY:Wake County Library Visit
DESCRIPTION:  \n  \n\nhttps://www.wake.gov/events/3rd-5th-special-author-event
URL:https://unitedarts.org/calendar/wake-county-library-visit/
LOCATION:NC
END:VEVENT
BEGIN:VEVENT
DTSTART;TZID=America/New_York:20260317T080000
DTEND;TZID=America/New_York:20260317T170000
DTSTAMP:20260421T210942
CREATED:20260317T175212Z
LAST-MODIFIED:20260317T175212Z
UID:10007435-1773734400-1773766800@unitedarts.org
SUMMARY:Library Visit
DESCRIPTION:Join author Tomeko Brown for a special school-age program at Eva Perry Regional Library! \nChildren in grades 3–5 will: \n\nMeet the author of An Instrument for Florenda\nExplore themes of perseverance and community\nLearn how stories connect to real life\nCreate a fun Perler bead instrument craft\n\nThis interactive program encourages creativity\, resilience\, and collaboration. \n Location: Eva Perry Regional Library\n2100 Shepherd’s Vineyard Drive\nApex\, NC 27502 \n Free event. No registration required. \nCome ready to imagine\, create\, and be inspired! \n View Library Event Details \nhttps://www.wake.gov/events/3rd-5th-special-author-event
URL:https://unitedarts.org/calendar/library-visit/
LOCATION:NC
END:VEVENT
BEGIN:VEVENT
DTSTART;TZID=America/New_York:20260317T090000
DTEND;TZID=America/New_York:20260317T220000
DTSTAMP:20260421T210942
CREATED:20260120T155524Z
LAST-MODIFIED:20260120T155524Z
UID:10006493-1773738000-1773784800@unitedarts.org
SUMMARY:The Road Through “Don’t Ask\, Don’t Tell”
DESCRIPTION:The Road Through Don’t Ask\, Don’t Tell by photographer\, oral historian\, and U.S. Marine Corps veteran Theresa Scott. This deeply personal documentary exhibition explores the lived experiences of LGBTQIA+ veterans who served under restrictive military policies. \nThrough intimate portrait photography paired with first-person oral histories\, Scott brings forward stories long silenced by institutional policy and cultural pressure. Drawing on her own service\, she offers viewers an unflinching look at the realities faced by service members who were expected to serve with honor while hiding essential parts of who they were. \nExhibition Dates: February 1 – April 26\, 2026\nArtist Talk & Reception: March 26\, 5:30–7:00 p.m.
URL:https://unitedarts.org/calendar/the-road-through-dont-ask-dont-tell/2026-03-17/
LOCATION:Pullen Arts Center
ATTACH;FMTTYPE=image/jpeg:https://unitedarts.org/wp-content/uploads/2026/01/DADT-24.jpg
ORGANIZER;CN="Pullen Arts Center":MAILTO:pullenartscenter@raleighnc.gov
END:VEVENT
BEGIN:VEVENT
DTSTART;TZID=America/New_York:20260317T183000
DTEND;TZID=America/New_York:20260317T200000
DTSTAMP:20260421T210942
CREATED:20260226T182549Z
LAST-MODIFIED:20260226T182549Z
UID:10007395-1773772200-1773777600@unitedarts.org
SUMMARY:Oberlin Writers' Group: Cafe Compositions
DESCRIPTION:Many people enjoy cafes\, and writers are no exception. They offer atmosphere\, company\, and inspiration\, all of which are helpful for the writing process. Join us for a writing exercise where we’ll make use of cafe-themed ideas and imagery. \nRegistration is requested. If you signed up for the Sunday session\, please do not sign up for this session.
URL:https://unitedarts.org/calendar/oberlin-writers-group-cafe-compositions-2/
LOCATION:Oberlin Regional Library\, 1930 Clark Ave\, Raleigh\, 27605
CATEGORIES:Workshop
ATTACH;FMTTYPE=image/png:https://unitedarts.org/wp-content/uploads/2026/02/oberlin_writers_group_event_image-1.png
END:VEVENT
BEGIN:VEVENT
DTSTART;TZID=America/New_York:20260317T183000
DTEND;TZID=America/New_York:20260317T210000
DTSTAMP:20260421T210942
CREATED:20260315T171003Z
LAST-MODIFIED:20260317T172502Z
UID:10007431-1773772200-1773781200@unitedarts.org
SUMMARY:It’s Always Sunny at Beer and Banjos: St. Paddy’s Day Special
DESCRIPTION:If you’re a fan of the TV show It’s Always Sunny in Philadelphia\, then this is the B&B for you! If you’re not a fan of It’s Always Sunny in Philadelphia\, or don’t know what that is\, then it’s EVEN MORE the B&B for you! Come dressed as your favorite character! Bring leprechaun traps! Scheme and plot! Celebrate the best Irish bar in Philly! Brought to you by Frank’s Fluids\, with music from the Beer and Banjos All-Stars. \nBeer and Banjos is a free\, family-friendly evening of roots music every Tuesday at Raleigh’s Bowstring Pizza and Brewyard. Hosted by the mighty local musicians known collectively as the Beer and Banjos Allstars\, these weekly concerts feature guest musicians and take place on Bowstring’s spacious patio when the weather allows\, or inside by the bar when rain\, heat\, or cold threaten the vibe. \nTips for the musicians are gratefully accepted (look for a helper walking around with a bucket for cash and QR codes for online tips)\, and don’t forget to check out the merch table. Bowstring serves tasty pizza and other food as well as cold beer and other beverages. \nLearn more about Beer and Banjos events statewide here.
URL:https://unitedarts.org/calendar/its-always-sunny-at-beer-and-banjos-st-paddys-day-special/
LOCATION:Bowstring Pizza and Brewyard\, 1930 Wake Forest Rd\, Raleigh\, NC\, 27608\, United States
CATEGORIES:Beer and Banjos
ATTACH;FMTTYPE=image/png:https://unitedarts.org/wp-content/uploads/2026/03/ALways-SUnny-BB-2026-169-for-event-X9ptSn.png
END:VEVENT
END:VCALENDAR