BEGIN:VCALENDAR
VERSION:2.0
PRODID:-//United Arts Wake County - ECPv6.15.20//NONSGML v1.0//EN
CALSCALE:GREGORIAN
METHOD:PUBLISH
X-WR-CALNAME:United Arts Wake County
X-ORIGINAL-URL:https://unitedarts.org
X-WR-CALDESC:Events for United Arts Wake County
REFRESH-INTERVAL;VALUE=DURATION:PT1H
X-Robots-Tag:noindex
X-PUBLISHED-TTL:PT1H
BEGIN:VTIMEZONE
TZID:America/New_York
BEGIN:DAYLIGHT
TZOFFSETFROM:-0500
TZOFFSETTO:-0400
TZNAME:EDT
DTSTART:20250309T070000
END:DAYLIGHT
BEGIN:STANDARD
TZOFFSETFROM:-0400
TZOFFSETTO:-0500
TZNAME:EST
DTSTART:20251102T060000
END:STANDARD
BEGIN:DAYLIGHT
TZOFFSETFROM:-0500
TZOFFSETTO:-0400
TZNAME:EDT
DTSTART:20260308T070000
END:DAYLIGHT
BEGIN:STANDARD
TZOFFSETFROM:-0400
TZOFFSETTO:-0500
TZNAME:EST
DTSTART:20261101T060000
END:STANDARD
BEGIN:DAYLIGHT
TZOFFSETFROM:-0500
TZOFFSETTO:-0400
TZNAME:EDT
DTSTART:20270314T070000
END:DAYLIGHT
BEGIN:STANDARD
TZOFFSETFROM:-0400
TZOFFSETTO:-0500
TZNAME:EST
DTSTART:20271107T060000
END:STANDARD
END:VTIMEZONE
BEGIN:VEVENT
DTSTART;TZID=America/New_York:20260209T090000
DTEND;TZID=America/New_York:20260209T220000
DTSTAMP:20260423T155825
CREATED:20260120T155524Z
LAST-MODIFIED:20260120T155524Z
UID:10006462-1770627600-1770674400@unitedarts.org
SUMMARY:The Road Through “Don’t Ask\, Don’t Tell”
DESCRIPTION:The Road Through Don’t Ask\, Don’t Tell by photographer\, oral historian\, and U.S. Marine Corps veteran Theresa Scott. This deeply personal documentary exhibition explores the lived experiences of LGBTQIA+ veterans who served under restrictive military policies. \nThrough intimate portrait photography paired with first-person oral histories\, Scott brings forward stories long silenced by institutional policy and cultural pressure. Drawing on her own service\, she offers viewers an unflinching look at the realities faced by service members who were expected to serve with honor while hiding essential parts of who they were. \nExhibition Dates: February 1 – April 26\, 2026\nArtist Talk & Reception: March 26\, 5:30–7:00 p.m.
URL:https://unitedarts.org/calendar/the-road-through-dont-ask-dont-tell/2026-02-09/
LOCATION:Pullen Arts Center
ATTACH;FMTTYPE=image/jpeg:https://unitedarts.org/wp-content/uploads/2026/01/DADT-24.jpg
ORGANIZER;CN="Pullen Arts Center":MAILTO:pullenartscenter@raleighnc.gov
END:VEVENT
BEGIN:VEVENT
DTSTART;TZID=America/New_York:20260209T100000
DTEND;TZID=America/New_York:20260209T230000
DTSTAMP:20260423T155825
CREATED:20250801T220708Z
LAST-MODIFIED:20250801T220708Z
UID:10002732-1770631200-1770678000@unitedarts.org
SUMMARY:Moving with Parent & Tot
DESCRIPTION:Walking – 5 Years Old: Move\, stretch\, sing\, & bond with your tot in this creative movement course designed to introduce our youngest students to basic dance skills. \nYoung dancers must be accompanied by a parent\, grandparent\, or guardian.
URL:https://unitedarts.org/calendar/moving-with-parent-tot/2026-02-09/
LOCATION:Arts Together\, 114 SAINT MARYS ST\, RALEIGH\, NC\, 27605-1809\, United States
END:VEVENT
BEGIN:VEVENT
DTSTART;TZID=America/New_York:20260209T140000
DTEND;TZID=America/New_York:20260214T150000
DTSTAMP:20260423T155825
CREATED:20260122T170849Z
LAST-MODIFIED:20260122T170849Z
UID:10006590-1770645600-1771081200@unitedarts.org
SUMMARY:The Music Man Sr.
DESCRIPTION:RALEIGH\, NC — July 23\, 2025 — Dancing Man Productions\, a Raleigh-based theatre company\ncreated for performers aged 55 and up\, proudly announces its second production\, The Music Man SR.—a\njoyful\, 60-minute adaptation of the beloved Broadway classic. Presented in partnership with Raleigh\nLittle Theatre\, all rehearsals and performances will take place at Raleigh Little Theatre’s fully accessible\ncampus.\nBased on Meredith Willson’s six-time Tony Award–winning musical comedy\, The Music Man SR.\nfeatures some of musical theatre’s most iconic songs and a story filled with wit\, warmth\, and good\nold-fashioned romance. Family entertainment at its best\, this bold and brassy production is a toe-tapping\ncrowd-pleaser sure to have the whole town atwitter.\nMaster showman Harold Hill arrives in River City\, Iowa\, with “seventy-six trombones” in tow. The\nfast-talking traveling salesman convinces the townspeople to buy instruments and uniforms for a boys’\nband he vows to organize—despite not knowing a trombone from a treble clef. His plans to skip town\nwith the cash are complicated when he falls for Marian\, the town’s upright and uptight librarian\, whose\nbelief in Harold’s potential just might help him succeed in spite of himself.\nThis vibrant production continues Dancing Man Productions’ mission to reimagine senior participation in\nthe arts by offering daytime rehearsals and matinee performances—eliminating the challenges of\nnighttime travel while fostering a strong\, inclusive creative community.\nAudiences can expect a heartwarming\, high-energy musical experience filled with humor\, nostalgia\, and\ntimeless songs\, performed by a cast of seasoned artists who prove that creativity thrives at every stage of\nlife.
URL:https://unitedarts.org/calendar/the-music-man-sr/2026-02-09/
LOCATION:Raleigh Little Theatre\, 301 Pogue St\, Raleigh\, 27607
ATTACH;FMTTYPE=image/jpeg:https://unitedarts.org/wp-content/uploads/2026/01/000679_hero.jpg
ORGANIZER;CN="Raleigh Little Theatre":MAILTO:boxoffice@raleighlittletheatre.org
END:VEVENT
BEGIN:VEVENT
DTSTART;TZID=America/New_York:20260209T174500
DTEND;TZID=America/New_York:20260209T184500
DTSTAMP:20260423T155825
CREATED:20250801T220713Z
LAST-MODIFIED:20250801T220713Z
UID:10002795-1770659100-1770662700@unitedarts.org
SUMMARY:Beginning Painting Workshop
DESCRIPTION:Ages 13+ This is a great class for new painters\, as well as existing painters who would like to follow along. We will learn about different paint styles and techniques\, explore color and work on developing our painting skills. Several themed paint projects will be completed in this session.
URL:https://unitedarts.org/calendar/beginning-painting-workshop/2026-02-09/
LOCATION:Arts Together\, 114 SAINT MARYS ST\, RALEIGH\, NC\, 27605-1809\, United States
CATEGORIES:Workshop
END:VEVENT
BEGIN:VEVENT
DTSTART;TZID=America/New_York:20260209T183000
DTEND;TZID=America/New_York:20260209T193000
DTSTAMP:20260423T155825
CREATED:20250801T220459Z
LAST-MODIFIED:20250801T220459Z
UID:10002968-1770661800-1770665400@unitedarts.org
SUMMARY:Beginning Jazz Workshop
DESCRIPTION:Ages 18+\nIn this engaging beginning Jazz class\, participants will delve into a captivating blend of strength-building exercises\, precise body alignment techniques\, and invigorating conditioning routines. \nWith a focus on cultivating musicality and honing individual style\, students will unlock the secrets of this exhilarating dance form\, discovering the joy of movement and self-expression along the way. No prior experience necessary.
URL:https://unitedarts.org/calendar/beginning-jazz-workshop/2026-02-09/
LOCATION:Arts Together\, 114 SAINT MARYS ST\, RALEIGH\, NC\, 27605-1809\, United States
CATEGORIES:Workshop
END:VEVENT
END:VCALENDAR