BEGIN:VCALENDAR
VERSION:2.0
PRODID:-//United Arts Wake County - ECPv6.15.20//NONSGML v1.0//EN
CALSCALE:GREGORIAN
METHOD:PUBLISH
X-WR-CALNAME:United Arts Wake County
X-ORIGINAL-URL:https://unitedarts.org
X-WR-CALDESC:Events for United Arts Wake County
REFRESH-INTERVAL;VALUE=DURATION:PT1H
X-Robots-Tag:noindex
X-PUBLISHED-TTL:PT1H
BEGIN:VTIMEZONE
TZID:America/New_York
BEGIN:DAYLIGHT
TZOFFSETFROM:-0500
TZOFFSETTO:-0400
TZNAME:EDT
DTSTART:20250309T070000
END:DAYLIGHT
BEGIN:STANDARD
TZOFFSETFROM:-0400
TZOFFSETTO:-0500
TZNAME:EST
DTSTART:20251102T060000
END:STANDARD
BEGIN:DAYLIGHT
TZOFFSETFROM:-0500
TZOFFSETTO:-0400
TZNAME:EDT
DTSTART:20260308T070000
END:DAYLIGHT
BEGIN:STANDARD
TZOFFSETFROM:-0400
TZOFFSETTO:-0500
TZNAME:EST
DTSTART:20261101T060000
END:STANDARD
BEGIN:DAYLIGHT
TZOFFSETFROM:-0500
TZOFFSETTO:-0400
TZNAME:EDT
DTSTART:20270314T070000
END:DAYLIGHT
BEGIN:STANDARD
TZOFFSETFROM:-0400
TZOFFSETTO:-0500
TZNAME:EST
DTSTART:20271107T060000
END:STANDARD
END:VTIMEZONE
BEGIN:VEVENT
DTSTART;TZID=America/New_York:20260208T090000
DTEND;TZID=America/New_York:20260208T220000
DTSTAMP:20260423T174258
CREATED:20260120T155524Z
LAST-MODIFIED:20260120T155524Z
UID:10006461-1770541200-1770588000@unitedarts.org
SUMMARY:The Road Through “Don’t Ask\, Don’t Tell”
DESCRIPTION:The Road Through Don’t Ask\, Don’t Tell by photographer\, oral historian\, and U.S. Marine Corps veteran Theresa Scott. This deeply personal documentary exhibition explores the lived experiences of LGBTQIA+ veterans who served under restrictive military policies. \nThrough intimate portrait photography paired with first-person oral histories\, Scott brings forward stories long silenced by institutional policy and cultural pressure. Drawing on her own service\, she offers viewers an unflinching look at the realities faced by service members who were expected to serve with honor while hiding essential parts of who they were. \nExhibition Dates: February 1 – April 26\, 2026\nArtist Talk & Reception: March 26\, 5:30–7:00 p.m.
URL:https://unitedarts.org/calendar/the-road-through-dont-ask-dont-tell/2026-02-08/
LOCATION:Pullen Arts Center
ATTACH;FMTTYPE=image/jpeg:https://unitedarts.org/wp-content/uploads/2026/01/DADT-24.jpg
ORGANIZER;CN="Pullen Arts Center":MAILTO:pullenartscenter@raleighnc.gov
END:VEVENT
BEGIN:VEVENT
DTSTART;TZID=America/New_York:20260208T133000
DTEND;TZID=America/New_York:20260208T153000
DTSTAMP:20260423T174258
CREATED:20250801T112538Z
LAST-MODIFIED:20260208T091023Z
UID:10003097-1770557400-1770564600@unitedarts.org
SUMMARY:Artspace Open Studio
DESCRIPTION:Let your imagination soar in Artspace’s Open Studio and enjoy a free self-guided art making activity for ages 5 and up
URL:https://unitedarts.org/calendar/artspace-open-studio-32/
LOCATION:Artspace\, 201 East Davie Street\, Raleigh\, NC\, 27601\, United States
ATTACH;FMTTYPE=image/jpeg:https://unitedarts.org/wp-content/uploads/2025/03/693fd9124d6761b448fbe808c90a03fe.jpg
END:VEVENT
BEGIN:VEVENT
DTSTART;TZID=America/New_York:20260208T140000
DTEND;TZID=America/New_York:20260208T170000
DTSTAMP:20260423T174258
CREATED:20250711T174040Z
LAST-MODIFIED:20250711T174040Z
UID:10002631-1770559200-1770570000@unitedarts.org
SUMMARY:Red Pitch
DESCRIPTION:The US premiere of a red-hot play about futbol\, friendship\, and coming of age in a constantly shifting world. This critically acclaimed play originated at London’s Bush Theatre before transferring to the West End in April 2024.\n(NOTE: This production runs from February 5th through February 22nd\, with showings on Thursdays\, Fridays\, and Saturdays at 7:30 pm and showings on Sundays at 2:00 pm.)
URL:https://unitedarts.org/calendar/red-pitch/2026-02-08/
LOCATION:Burning Coal Theatre\, 224 Polk St\, Raleigh\, 27604
ATTACH;FMTTYPE=image/jpeg:https://unitedarts.org/wp-content/uploads/2025/07/Red-Pitch-Insta-Square.jpg
ORGANIZER;CN="Burning Coal Theatre":MAILTO:info@burningcoal.org
END:VEVENT
BEGIN:VEVENT
DTSTART;TZID=America/New_York:20260208T150000
DTEND;TZID=America/New_York:20260208T173000
DTSTAMP:20260423T174258
CREATED:20250702T181752Z
LAST-MODIFIED:20250702T181752Z
UID:10002111-1770562800-1770571800@unitedarts.org
SUMMARY:Moonlight and Magnolias
DESCRIPTION:1939 Hollywood is abuzz. Legendary producer David O. Selznick has shut down production of his new epic\, Gone with the Wind\, because something’s not right with the script. Summoning both famed screenwriter Ben Hecht and formidable director Victor Fleming\, he locks the doors\, closes the shades\, and on a diet of bananas and peanuts\, the three men labor over five days to fashion a screenplay that will become the blueprint for one of the most successful and beloved films of all time. \nBy Ron Hutchinson \nDirected by Paul Messinger \nMOONLIGHT AND MAGNOLIAS is presented by special arrangement with Broadway Licensing\, LLC\, servicing the Dramatists Play Service collection. (www.dramatists.com)
URL:https://unitedarts.org/calendar/moonlight-and-magnolias/2026-02-08/
LOCATION:Raleigh Little Theatre\, 301 Pogue St\, Raleigh\, 27607
ORGANIZER;CN="Raleigh Little Theatre":MAILTO:boxoffice@raleighlittletheatre.org
END:VEVENT
BEGIN:VEVENT
DTSTART;TZID=America/New_York:20260208T170000
DTEND;TZID=America/New_York:20260208T183000
DTSTAMP:20260423T174258
CREATED:20250801T220516Z
LAST-MODIFIED:20250801T220516Z
UID:10002910-1770570000-1770575400@unitedarts.org
SUMMARY:Roll\, Release and Reset
DESCRIPTION:Ages 18+\nThis workshop focuses on enhancing strength and stability in the body and pelvic floor region through a combination of exercises and techniques. This class will also provide a self-care component that empowers participants to take control of their health. \nIn addition to targeted exercises\, participants will also learn myofascial release techniques using therapy balls to promote relaxation and release tension in the muscles. Join us to improve your pelvic floor health and overall well-being.
URL:https://unitedarts.org/calendar/roll-release-and-reset/2026-02-08/
LOCATION:Arts Together\, 114 SAINT MARYS ST\, RALEIGH\, NC\, 27605-1809\, United States
CATEGORIES:Workshop
END:VEVENT
END:VCALENDAR