BEGIN:VCALENDAR
VERSION:2.0
PRODID:-//United Arts Wake County - ECPv6.15.20//NONSGML v1.0//EN
CALSCALE:GREGORIAN
METHOD:PUBLISH
X-WR-CALNAME:United Arts Wake County
X-ORIGINAL-URL:https://unitedarts.org
X-WR-CALDESC:Events for United Arts Wake County
REFRESH-INTERVAL;VALUE=DURATION:PT1H
X-Robots-Tag:noindex
X-PUBLISHED-TTL:PT1H
BEGIN:VTIMEZONE
TZID:America/New_York
BEGIN:DAYLIGHT
TZOFFSETFROM:-0500
TZOFFSETTO:-0400
TZNAME:EDT
DTSTART:20240310T070000
END:DAYLIGHT
BEGIN:STANDARD
TZOFFSETFROM:-0400
TZOFFSETTO:-0500
TZNAME:EST
DTSTART:20241103T060000
END:STANDARD
BEGIN:DAYLIGHT
TZOFFSETFROM:-0500
TZOFFSETTO:-0400
TZNAME:EDT
DTSTART:20250309T070000
END:DAYLIGHT
BEGIN:STANDARD
TZOFFSETFROM:-0400
TZOFFSETTO:-0500
TZNAME:EST
DTSTART:20251102T060000
END:STANDARD
BEGIN:DAYLIGHT
TZOFFSETFROM:-0500
TZOFFSETTO:-0400
TZNAME:EDT
DTSTART:20260308T070000
END:DAYLIGHT
BEGIN:STANDARD
TZOFFSETFROM:-0400
TZOFFSETTO:-0500
TZNAME:EST
DTSTART:20261101T060000
END:STANDARD
BEGIN:DAYLIGHT
TZOFFSETFROM:-0500
TZOFFSETTO:-0400
TZNAME:EDT
DTSTART:20270314T070000
END:DAYLIGHT
BEGIN:STANDARD
TZOFFSETFROM:-0400
TZOFFSETTO:-0500
TZNAME:EST
DTSTART:20271107T060000
END:STANDARD
END:VTIMEZONE
BEGIN:VEVENT
DTSTART;TZID=America/New_York:20251015T140000
DTEND;TZID=America/New_York:20251128T163000
DTSTAMP:20260421T102702
CREATED:20250820T185157Z
LAST-MODIFIED:20251015T221828Z
UID:10002026-1760536800-1764347400@unitedarts.org
SUMMARY:Neo-Soulism
DESCRIPTION:Art Exhibition  \nFeaturing Neo-soulism paintings by artist Donovan Woods \nGPAC Gallery\nMonday-Friday 2 pm – 4:30 pm and Event Performances
URL:https://unitedarts.org/calendar/neo-soulism/
LOCATION:Garner Performing Arts Center\, 742 W Garner Rd\, Garner\, 27529
ATTACH;FMTTYPE=image/jpeg:https://unitedarts.org/wp-content/uploads/2025/06/Duet-in-Minor-D-dewoods2024.jpg
END:VEVENT
BEGIN:VEVENT
DTSTART;VALUE=DATE:20251101
DTEND;VALUE=DATE:20260126
DTSTAMP:20260421T102702
CREATED:20251024T134931Z
LAST-MODIFIED:20251024T134931Z
UID:10006317-1761955200-1769385599@unitedarts.org
SUMMARY:Then & Now: A History of the Pullen Arts Community
DESCRIPTION:Then & Now: A History of the Pullen Arts Community\, is an exhibition that explores Pullen’s history and celebrates the art that’s created by members\, instructors\, and staff. The exhibition includes photos and artifacts from when Pullen first opened in 1961 until present day. The work from members\, instructors\, and staff spans across multiple mediums\, including pottery\, painting\, photography\, drawing\, and printmaking.
URL:https://unitedarts.org/calendar/then-now-a-history-of-the-pullen-arts-community/
LOCATION:Pullen Arts Center
ATTACH;FMTTYPE=image/jpeg:https://unitedarts.org/wp-content/uploads/2025/10/Pullen-Arts-1961-30.jpg
END:VEVENT
BEGIN:VEVENT
DTSTART;TZID=America/New_York:20251112T073000
DTEND;TZID=America/New_York:20251123T230000
DTSTAMP:20260421T102702
CREATED:20250826T204404Z
LAST-MODIFIED:20251202T185041Z
UID:10004636-1762932600-1763938800@unitedarts.org
SUMMARY:Once On This Island
DESCRIPTION:This is a highly original and theatrical Caribbean adaptation of the popular fairy tale The Little Mermaid. Once on a Caribbean island\, a little girl is rescued from a disastrous storm by four gods—Asaka\, Mother of the Earth; Agwé\, god of Water; Erzulie\, goddess of Love; and Papa Ge\, demon of Death. So starts the myth told in this breathtaking story of joy\, sorrow and the triumph of love against all forces. Told with Caribbean rhythms and instruments\, this Tony Award-winning musical is a testament that a beautiful story simply told has the power to inspire and heal all. \nNov 12-23\nWed-Sat at 7:30 PM\nSat at 2:00 PM\nSun at 3:00 PM
URL:https://unitedarts.org/calendar/once-on-this-island/2025-11-12/
LOCATION:Theatre Raleigh Arts Center\, 6638 Old Wake Forest Road\, Raleigh\, 27616
ORGANIZER;CN="Theatre Raleigh":MAILTO:info@theatreraleigh.com
END:VEVENT
BEGIN:VEVENT
DTSTART;TZID=America/New_York:20251113T073000
DTEND;TZID=America/New_York:20251124T230000
DTSTAMP:20260421T102702
CREATED:20250826T204404Z
LAST-MODIFIED:20251202T185041Z
UID:10004637-1763019000-1764025200@unitedarts.org
SUMMARY:Once On This Island
DESCRIPTION:This is a highly original and theatrical Caribbean adaptation of the popular fairy tale The Little Mermaid. Once on a Caribbean island\, a little girl is rescued from a disastrous storm by four gods—Asaka\, Mother of the Earth; Agwé\, god of Water; Erzulie\, goddess of Love; and Papa Ge\, demon of Death. So starts the myth told in this breathtaking story of joy\, sorrow and the triumph of love against all forces. Told with Caribbean rhythms and instruments\, this Tony Award-winning musical is a testament that a beautiful story simply told has the power to inspire and heal all. \nNov 12-23\nWed-Sat at 7:30 PM\nSat at 2:00 PM\nSun at 3:00 PM
URL:https://unitedarts.org/calendar/once-on-this-island/2025-11-13/
LOCATION:Theatre Raleigh Arts Center\, 6638 Old Wake Forest Road\, Raleigh\, 27616
ORGANIZER;CN="Theatre Raleigh":MAILTO:info@theatreraleigh.com
END:VEVENT
BEGIN:VEVENT
DTSTART;TZID=America/New_York:20251114T073000
DTEND;TZID=America/New_York:20251125T230000
DTSTAMP:20260421T102702
CREATED:20250826T204404Z
LAST-MODIFIED:20251202T185041Z
UID:10004638-1763105400-1764111600@unitedarts.org
SUMMARY:Once On This Island
DESCRIPTION:This is a highly original and theatrical Caribbean adaptation of the popular fairy tale The Little Mermaid. Once on a Caribbean island\, a little girl is rescued from a disastrous storm by four gods—Asaka\, Mother of the Earth; Agwé\, god of Water; Erzulie\, goddess of Love; and Papa Ge\, demon of Death. So starts the myth told in this breathtaking story of joy\, sorrow and the triumph of love against all forces. Told with Caribbean rhythms and instruments\, this Tony Award-winning musical is a testament that a beautiful story simply told has the power to inspire and heal all. \nNov 12-23\nWed-Sat at 7:30 PM\nSat at 2:00 PM\nSun at 3:00 PM
URL:https://unitedarts.org/calendar/once-on-this-island/2025-11-14/
LOCATION:Theatre Raleigh Arts Center\, 6638 Old Wake Forest Road\, Raleigh\, 27616
ORGANIZER;CN="Theatre Raleigh":MAILTO:info@theatreraleigh.com
END:VEVENT
BEGIN:VEVENT
DTSTART;TZID=America/New_York:20251115T073000
DTEND;TZID=America/New_York:20251126T230000
DTSTAMP:20260421T102702
CREATED:20250826T204404Z
LAST-MODIFIED:20251202T185041Z
UID:10004639-1763191800-1764198000@unitedarts.org
SUMMARY:Once On This Island
DESCRIPTION:This is a highly original and theatrical Caribbean adaptation of the popular fairy tale The Little Mermaid. Once on a Caribbean island\, a little girl is rescued from a disastrous storm by four gods—Asaka\, Mother of the Earth; Agwé\, god of Water; Erzulie\, goddess of Love; and Papa Ge\, demon of Death. So starts the myth told in this breathtaking story of joy\, sorrow and the triumph of love against all forces. Told with Caribbean rhythms and instruments\, this Tony Award-winning musical is a testament that a beautiful story simply told has the power to inspire and heal all. \nNov 12-23\nWed-Sat at 7:30 PM\nSat at 2:00 PM\nSun at 3:00 PM
URL:https://unitedarts.org/calendar/once-on-this-island/2025-11-15/
LOCATION:Theatre Raleigh Arts Center\, 6638 Old Wake Forest Road\, Raleigh\, 27616
ORGANIZER;CN="Theatre Raleigh":MAILTO:info@theatreraleigh.com
END:VEVENT
BEGIN:VEVENT
DTSTART;TZID=America/New_York:20251116T073000
DTEND;TZID=America/New_York:20251127T230000
DTSTAMP:20260421T102702
CREATED:20250826T204404Z
LAST-MODIFIED:20251202T185041Z
UID:10004640-1763278200-1764284400@unitedarts.org
SUMMARY:Once On This Island
DESCRIPTION:This is a highly original and theatrical Caribbean adaptation of the popular fairy tale The Little Mermaid. Once on a Caribbean island\, a little girl is rescued from a disastrous storm by four gods—Asaka\, Mother of the Earth; Agwé\, god of Water; Erzulie\, goddess of Love; and Papa Ge\, demon of Death. So starts the myth told in this breathtaking story of joy\, sorrow and the triumph of love against all forces. Told with Caribbean rhythms and instruments\, this Tony Award-winning musical is a testament that a beautiful story simply told has the power to inspire and heal all. \nNov 12-23\nWed-Sat at 7:30 PM\nSat at 2:00 PM\nSun at 3:00 PM
URL:https://unitedarts.org/calendar/once-on-this-island/2025-11-16/
LOCATION:Theatre Raleigh Arts Center\, 6638 Old Wake Forest Road\, Raleigh\, 27616
ORGANIZER;CN="Theatre Raleigh":MAILTO:info@theatreraleigh.com
END:VEVENT
BEGIN:VEVENT
DTSTART;TZID=America/New_York:20251117T073000
DTEND;TZID=America/New_York:20251128T230000
DTSTAMP:20260421T102702
CREATED:20250826T204404Z
LAST-MODIFIED:20251202T185041Z
UID:10006370-1763364600-1764370800@unitedarts.org
SUMMARY:Once On This Island
DESCRIPTION:This is a highly original and theatrical Caribbean adaptation of the popular fairy tale The Little Mermaid. Once on a Caribbean island\, a little girl is rescued from a disastrous storm by four gods—Asaka\, Mother of the Earth; Agwé\, god of Water; Erzulie\, goddess of Love; and Papa Ge\, demon of Death. So starts the myth told in this breathtaking story of joy\, sorrow and the triumph of love against all forces. Told with Caribbean rhythms and instruments\, this Tony Award-winning musical is a testament that a beautiful story simply told has the power to inspire and heal all. \nNov 12-23\nWed-Sat at 7:30 PM\nSat at 2:00 PM\nSun at 3:00 PM
URL:https://unitedarts.org/calendar/once-on-this-island/2025-11-17/
LOCATION:Theatre Raleigh Arts Center\, 6638 Old Wake Forest Road\, Raleigh\, 27616
ORGANIZER;CN="Theatre Raleigh":MAILTO:info@theatreraleigh.com
END:VEVENT
BEGIN:VEVENT
DTSTART;TZID=America/New_York:20251118T073000
DTEND;TZID=America/New_York:20251129T230000
DTSTAMP:20260421T102702
CREATED:20250826T204404Z
LAST-MODIFIED:20251202T185041Z
UID:10006371-1763451000-1764457200@unitedarts.org
SUMMARY:Once On This Island
DESCRIPTION:This is a highly original and theatrical Caribbean adaptation of the popular fairy tale The Little Mermaid. Once on a Caribbean island\, a little girl is rescued from a disastrous storm by four gods—Asaka\, Mother of the Earth; Agwé\, god of Water; Erzulie\, goddess of Love; and Papa Ge\, demon of Death. So starts the myth told in this breathtaking story of joy\, sorrow and the triumph of love against all forces. Told with Caribbean rhythms and instruments\, this Tony Award-winning musical is a testament that a beautiful story simply told has the power to inspire and heal all. \nNov 12-23\nWed-Sat at 7:30 PM\nSat at 2:00 PM\nSun at 3:00 PM
URL:https://unitedarts.org/calendar/once-on-this-island/2025-11-18/
LOCATION:Theatre Raleigh Arts Center\, 6638 Old Wake Forest Road\, Raleigh\, 27616
ORGANIZER;CN="Theatre Raleigh":MAILTO:info@theatreraleigh.com
END:VEVENT
BEGIN:VEVENT
DTSTART;TZID=America/New_York:20251119T073000
DTEND;TZID=America/New_York:20251130T230000
DTSTAMP:20260421T102702
CREATED:20250826T204404Z
LAST-MODIFIED:20251202T185041Z
UID:10004641-1763537400-1764543600@unitedarts.org
SUMMARY:Once On This Island
DESCRIPTION:This is a highly original and theatrical Caribbean adaptation of the popular fairy tale The Little Mermaid. Once on a Caribbean island\, a little girl is rescued from a disastrous storm by four gods—Asaka\, Mother of the Earth; Agwé\, god of Water; Erzulie\, goddess of Love; and Papa Ge\, demon of Death. So starts the myth told in this breathtaking story of joy\, sorrow and the triumph of love against all forces. Told with Caribbean rhythms and instruments\, this Tony Award-winning musical is a testament that a beautiful story simply told has the power to inspire and heal all. \nNov 12-23\nWed-Sat at 7:30 PM\nSat at 2:00 PM\nSun at 3:00 PM
URL:https://unitedarts.org/calendar/once-on-this-island/2025-11-19/
LOCATION:Theatre Raleigh Arts Center\, 6638 Old Wake Forest Road\, Raleigh\, 27616
ORGANIZER;CN="Theatre Raleigh":MAILTO:info@theatreraleigh.com
END:VEVENT
BEGIN:VEVENT
DTSTART;TZID=America/New_York:20251120T073000
DTEND;TZID=America/New_York:20251201T230000
DTSTAMP:20260421T102702
CREATED:20250826T204404Z
LAST-MODIFIED:20251202T185041Z
UID:10004642-1763623800-1764630000@unitedarts.org
SUMMARY:Once On This Island
DESCRIPTION:This is a highly original and theatrical Caribbean adaptation of the popular fairy tale The Little Mermaid. Once on a Caribbean island\, a little girl is rescued from a disastrous storm by four gods—Asaka\, Mother of the Earth; Agwé\, god of Water; Erzulie\, goddess of Love; and Papa Ge\, demon of Death. So starts the myth told in this breathtaking story of joy\, sorrow and the triumph of love against all forces. Told with Caribbean rhythms and instruments\, this Tony Award-winning musical is a testament that a beautiful story simply told has the power to inspire and heal all. \nNov 12-23\nWed-Sat at 7:30 PM\nSat at 2:00 PM\nSun at 3:00 PM
URL:https://unitedarts.org/calendar/once-on-this-island/2025-11-20/
LOCATION:Theatre Raleigh Arts Center\, 6638 Old Wake Forest Road\, Raleigh\, 27616
ORGANIZER;CN="Theatre Raleigh":MAILTO:info@theatreraleigh.com
END:VEVENT
BEGIN:VEVENT
DTSTART;TZID=America/New_York:20251123T100000
DTEND;TZID=America/New_York:20251123T190000
DTSTAMP:20260421T102702
CREATED:20250813T154611Z
LAST-MODIFIED:20250813T154611Z
UID:10003125-1763892000-1763924400@unitedarts.org
SUMMARY:North Carolina Veteran Art Show
DESCRIPTION:Please join us for the North Carolina Veteran Art Show\nfrom Tuesday\, November 18th – Sunday\, November 23rd. \nThe Joel Fund and Heart2Hand Veteran artist Lt. Colonel (retired)\, Bernardine Donato\, are excited to host the six-day art exhibit in partnership with Durham Art Guild. \nThis art show will contain original pieces created by North Carolina Veterans of the United States Armed Forces. This family-friendly event will showcase art from North Carolina veterans of all backgrounds\, art levels\, and branches of service. \nAn online gallery will also be on The Joel Fund’s Operation ART Online Gallery. We also have the opportunity to showcase Veteran artwork in an online gallery on the DAG website and during Third Friday Durham which is a monthly art walk and gallery crawl. Click here to see DAG Gallery at Golden Belt. \nThird Friday Durham Art Walk Reception in the evening on Friday\, November 21st. Light refreshments will be provided. Please visit this website to see the other events and galleries that are open for the evening! https://downtowndurham.com/thirdfriday-2/ \nThe hours to view the artwork are as follows:\nWednesday-Saturday\, Nov 18th – 22nd\, 10 am – 7 pm\nSunday\, Nov 23rd\, 12 pm – 6 pm \nThe Closing Artist’s reception will be on Sunday\, November 23rd. More details to come. \nThere is free\, paved parking on site with an accessible entrance. \nIf you have any questions please contact Isabella Brezenski\nat 919 200 0886 or via email at isabella@thejoelfund.org.
URL:https://unitedarts.org/calendar/north-carolina-veteran-art-show-2/2025-11-23/
LOCATION:Durham Art Guild\, DAG Golden Belt Gallery\, Mill No. 1 at Golden Belt Campus\, 800 Taylor St.\, Durham\, 27701
ATTACH;FMTTYPE=image/png:https://unitedarts.org/wp-content/uploads/2025/08/ArtShow.png
ORGANIZER;CN="The Joel Fund":MAILTO:isabella@thejoelfund.org
END:VEVENT
BEGIN:VEVENT
DTSTART;TZID=America/New_York:20251123T133000
DTEND;TZID=America/New_York:20251123T153000
DTSTAMP:20260421T102702
CREATED:20250801T112536Z
LAST-MODIFIED:20251123T001040Z
UID:10003086-1763904600-1763911800@unitedarts.org
SUMMARY:Artspace Open Studio
DESCRIPTION:Let your imagination soar in Artspace’s Open Studio and enjoy a free self-guided art making activity for ages 5 and up
URL:https://unitedarts.org/calendar/artspace-open-studio-21/
LOCATION:Artspace\, 201 East Davie Street\, Raleigh\, NC\, 27601\, United States
ATTACH;FMTTYPE=image/jpeg:https://unitedarts.org/wp-content/uploads/2025/03/693fd9124d6761b448fbe808c90a03fe.jpg
END:VEVENT
BEGIN:VEVENT
DTSTART;TZID=America/New_York:20251123T170000
DTEND;TZID=America/New_York:20251123T183000
DTSTAMP:20260421T102702
CREATED:20250801T220516Z
LAST-MODIFIED:20250801T220516Z
UID:10002899-1763917200-1763922600@unitedarts.org
SUMMARY:Roll\, Release and Reset
DESCRIPTION:Ages 18+\nThis workshop focuses on enhancing strength and stability in the body and pelvic floor region through a combination of exercises and techniques. This class will also provide a self-care component that empowers participants to take control of their health. \nIn addition to targeted exercises\, participants will also learn myofascial release techniques using therapy balls to promote relaxation and release tension in the muscles. Join us to improve your pelvic floor health and overall well-being.
URL:https://unitedarts.org/calendar/roll-release-and-reset/2025-11-23/
LOCATION:Arts Together\, 114 SAINT MARYS ST\, RALEIGH\, NC\, 27605-1809\, United States
CATEGORIES:Workshop
END:VEVENT
END:VCALENDAR