BEGIN:VCALENDAR
VERSION:2.0
PRODID:-//United Arts Wake County - ECPv6.15.20//NONSGML v1.0//EN
CALSCALE:GREGORIAN
METHOD:PUBLISH
X-ORIGINAL-URL:https://unitedarts.org
X-WR-CALDESC:Events for United Arts Wake County
REFRESH-INTERVAL;VALUE=DURATION:PT1H
X-Robots-Tag:noindex
X-PUBLISHED-TTL:PT1H
BEGIN:VTIMEZONE
TZID:America/New_York
BEGIN:DAYLIGHT
TZOFFSETFROM:-0500
TZOFFSETTO:-0400
TZNAME:EDT
DTSTART:20240310T070000
END:DAYLIGHT
BEGIN:STANDARD
TZOFFSETFROM:-0400
TZOFFSETTO:-0500
TZNAME:EST
DTSTART:20241103T060000
END:STANDARD
BEGIN:DAYLIGHT
TZOFFSETFROM:-0500
TZOFFSETTO:-0400
TZNAME:EDT
DTSTART:20250309T070000
END:DAYLIGHT
BEGIN:STANDARD
TZOFFSETFROM:-0400
TZOFFSETTO:-0500
TZNAME:EST
DTSTART:20251102T060000
END:STANDARD
BEGIN:DAYLIGHT
TZOFFSETFROM:-0500
TZOFFSETTO:-0400
TZNAME:EDT
DTSTART:20260308T070000
END:DAYLIGHT
BEGIN:STANDARD
TZOFFSETFROM:-0400
TZOFFSETTO:-0500
TZNAME:EST
DTSTART:20261101T060000
END:STANDARD
BEGIN:DAYLIGHT
TZOFFSETFROM:-0500
TZOFFSETTO:-0400
TZNAME:EDT
DTSTART:20270314T070000
END:DAYLIGHT
BEGIN:STANDARD
TZOFFSETFROM:-0400
TZOFFSETTO:-0500
TZNAME:EST
DTSTART:20271107T060000
END:STANDARD
END:VTIMEZONE
BEGIN:VEVENT
DTSTART;TZID=America/New_York:20251015T140000
DTEND;TZID=America/New_York:20251128T163000
DTSTAMP:20260421T053825
CREATED:20250820T185157Z
LAST-MODIFIED:20251015T221828Z
UID:10002026-1760536800-1764347400@unitedarts.org
SUMMARY:Neo-Soulism
DESCRIPTION:Art Exhibition  \nFeaturing Neo-soulism paintings by artist Donovan Woods \nGPAC Gallery\nMonday-Friday 2 pm – 4:30 pm and Event Performances
URL:https://unitedarts.org/calendar/neo-soulism/
LOCATION:Garner Performing Arts Center\, 742 W Garner Rd\, Garner\, 27529
ATTACH;FMTTYPE=image/jpeg:https://unitedarts.org/wp-content/uploads/2025/06/Duet-in-Minor-D-dewoods2024.jpg
END:VEVENT
BEGIN:VEVENT
DTSTART;VALUE=DATE:20251101
DTEND;VALUE=DATE:20260126
DTSTAMP:20260421T053825
CREATED:20251024T134931Z
LAST-MODIFIED:20251024T134931Z
UID:10006317-1761955200-1769385599@unitedarts.org
SUMMARY:Then & Now: A History of the Pullen Arts Community
DESCRIPTION:Then & Now: A History of the Pullen Arts Community\, is an exhibition that explores Pullen’s history and celebrates the art that’s created by members\, instructors\, and staff. The exhibition includes photos and artifacts from when Pullen first opened in 1961 until present day. The work from members\, instructors\, and staff spans across multiple mediums\, including pottery\, painting\, photography\, drawing\, and printmaking.
URL:https://unitedarts.org/calendar/then-now-a-history-of-the-pullen-arts-community/
LOCATION:Pullen Arts Center
ATTACH;FMTTYPE=image/jpeg:https://unitedarts.org/wp-content/uploads/2025/10/Pullen-Arts-1961-30.jpg
END:VEVENT
BEGIN:VEVENT
DTSTART;TZID=America/New_York:20251110T100000
DTEND;TZID=America/New_York:20251110T230000
DTSTAMP:20260421T053825
CREATED:20250801T220708Z
LAST-MODIFIED:20250801T220708Z
UID:10002719-1762768800-1762815600@unitedarts.org
SUMMARY:Moving with Parent & Tot
DESCRIPTION:Walking – 5 Years Old: Move\, stretch\, sing\, & bond with your tot in this creative movement course designed to introduce our youngest students to basic dance skills. \nYoung dancers must be accompanied by a parent\, grandparent\, or guardian.
URL:https://unitedarts.org/calendar/moving-with-parent-tot/2025-11-10/
LOCATION:Arts Together\, 114 SAINT MARYS ST\, RALEIGH\, NC\, 27605-1809\, United States
END:VEVENT
BEGIN:VEVENT
DTSTART;TZID=America/New_York:20251110T174500
DTEND;TZID=America/New_York:20251110T184500
DTSTAMP:20260421T053825
CREATED:20250801T220713Z
LAST-MODIFIED:20250801T220713Z
UID:10002782-1762796700-1762800300@unitedarts.org
SUMMARY:Beginning Painting Workshop
DESCRIPTION:Ages 13+ This is a great class for new painters\, as well as existing painters who would like to follow along. We will learn about different paint styles and techniques\, explore color and work on developing our painting skills. Several themed paint projects will be completed in this session.
URL:https://unitedarts.org/calendar/beginning-painting-workshop/2025-11-10/
LOCATION:Arts Together\, 114 SAINT MARYS ST\, RALEIGH\, NC\, 27605-1809\, United States
CATEGORIES:Workshop
END:VEVENT
BEGIN:VEVENT
DTSTART;TZID=America/New_York:20251110T183000
DTEND;TZID=America/New_York:20251110T193000
DTSTAMP:20260421T053825
CREATED:20250801T220459Z
LAST-MODIFIED:20250801T220459Z
UID:10002955-1762799400-1762803000@unitedarts.org
SUMMARY:Beginning Jazz Workshop
DESCRIPTION:Ages 18+\nIn this engaging beginning Jazz class\, participants will delve into a captivating blend of strength-building exercises\, precise body alignment techniques\, and invigorating conditioning routines. \nWith a focus on cultivating musicality and honing individual style\, students will unlock the secrets of this exhilarating dance form\, discovering the joy of movement and self-expression along the way. No prior experience necessary.
URL:https://unitedarts.org/calendar/beginning-jazz-workshop/2025-11-10/
LOCATION:Arts Together\, 114 SAINT MARYS ST\, RALEIGH\, NC\, 27605-1809\, United States
CATEGORIES:Workshop
END:VEVENT
END:VCALENDAR