BEGIN:VCALENDAR
VERSION:2.0
PRODID:-//United Arts Wake County - ECPv6.15.20//NONSGML v1.0//EN
CALSCALE:GREGORIAN
METHOD:PUBLISH
X-ORIGINAL-URL:https://unitedarts.org
X-WR-CALDESC:Events for United Arts Wake County
REFRESH-INTERVAL;VALUE=DURATION:PT1H
X-Robots-Tag:noindex
X-PUBLISHED-TTL:PT1H
BEGIN:VTIMEZONE
TZID:America/New_York
BEGIN:DAYLIGHT
TZOFFSETFROM:-0500
TZOFFSETTO:-0400
TZNAME:EDT
DTSTART:20240310T070000
END:DAYLIGHT
BEGIN:STANDARD
TZOFFSETFROM:-0400
TZOFFSETTO:-0500
TZNAME:EST
DTSTART:20241103T060000
END:STANDARD
BEGIN:DAYLIGHT
TZOFFSETFROM:-0500
TZOFFSETTO:-0400
TZNAME:EDT
DTSTART:20250309T070000
END:DAYLIGHT
BEGIN:STANDARD
TZOFFSETFROM:-0400
TZOFFSETTO:-0500
TZNAME:EST
DTSTART:20251102T060000
END:STANDARD
BEGIN:DAYLIGHT
TZOFFSETFROM:-0500
TZOFFSETTO:-0400
TZNAME:EDT
DTSTART:20260308T070000
END:DAYLIGHT
BEGIN:STANDARD
TZOFFSETFROM:-0400
TZOFFSETTO:-0500
TZNAME:EST
DTSTART:20261101T060000
END:STANDARD
END:VTIMEZONE
BEGIN:VEVENT
DTSTART;TZID=America/New_York:20250222T140000
DTEND;TZID=America/New_York:20250222T160000
DTSTAMP:20260423T160522
CREATED:20240813T194841Z
LAST-MODIFIED:20240813T194841Z
UID:10001017-1740232800-1740240000@unitedarts.org
SUMMARY:BOLÉRO
DESCRIPTION:The Spring Season opens with a playful and unique interpretation of Maurice Ravel’s “Boléro”\, choreographed by the imaginative Lynne Taylor-Corbett. A “perfect” couple prepares for a “perfect” day at the beach.  \n“The elements conspire against them to ruin their day\,” Taylor-Corbett explains. “It’s just a pure\, unadulterated fantasy.”  \nIncluded in this program is a new ballet from Amy Hall Garner.
URL:https://unitedarts.org/calendar/bolero/2025-02-22/1/
LOCATION:AJ Fletcher Opera Theater\, 2 E SOUTH ST\, RALEIGH\, NC\, 27601-2337\, United States
ATTACH;FMTTYPE=image/jpeg:https://unitedarts.org/wp-content/uploads/2024/08/Bolero_plain.jpg
ORGANIZER;CN="Carolina Ballet":MAILTO:boxoffice@carolinaballet.com
END:VEVENT
BEGIN:VEVENT
DTSTART;TZID=America/New_York:20250222T190000
DTEND;TZID=America/New_York:20250222T203000
DTSTAMP:20260423T160522
CREATED:20241104T165739Z
LAST-MODIFIED:20250121T235415Z
UID:10001251-1740250800-1740256200@unitedarts.org
SUMMARY:Engaged to Death: An Interactive Murder Mystery
DESCRIPTION:Seed Art Share is excited to step into historic downtown Garner for an evening of laughs\, mystery\, and a celebration of community! We are proud to present Doug Simpson’s interactive 1920’s whodunnit adapted specifically for the Garner community. A hilarious cast of local musicians\, improvisers\, and actors will lead us through the “Breezy Speakeasy” – aka Zin Yoga and Wine. As the wine and laughs flow\, mayhem ensues at this engagement party requiring guests to solve a murder by voting on one of multiple endings!
URL:https://unitedarts.org/calendar/engaged-to-death-an-interactive-murder-mystery/2025-02-22/
LOCATION:Zin Yoga Studio & Wine Lounge\, 104 Rand Mill Rd\, Garner\, 27529
ATTACH;FMTTYPE=image/png:https://unitedarts.org/wp-content/uploads/2024/11/Engaged-2.png
ORGANIZER;CN="Seed Art Share":MAILTO:info@seedartshare.org
END:VEVENT
BEGIN:VEVENT
DTSTART;TZID=America/New_York:20250222T193000
DTEND;TZID=America/New_York:20250222T213000
DTSTAMP:20260423T160522
CREATED:20240813T194841Z
LAST-MODIFIED:20240813T194841Z
UID:10001018-1740252600-1740259800@unitedarts.org
SUMMARY:BOLÉRO
DESCRIPTION:The Spring Season opens with a playful and unique interpretation of Maurice Ravel’s “Boléro”\, choreographed by the imaginative Lynne Taylor-Corbett. A “perfect” couple prepares for a “perfect” day at the beach.  \n“The elements conspire against them to ruin their day\,” Taylor-Corbett explains. “It’s just a pure\, unadulterated fantasy.”  \nIncluded in this program is a new ballet from Amy Hall Garner.
URL:https://unitedarts.org/calendar/bolero/2025-02-22/2/
LOCATION:AJ Fletcher Opera Theater\, 2 E SOUTH ST\, RALEIGH\, NC\, 27601-2337\, United States
ATTACH;FMTTYPE=image/jpeg:https://unitedarts.org/wp-content/uploads/2024/08/Bolero_plain.jpg
ORGANIZER;CN="Carolina Ballet":MAILTO:boxoffice@carolinaballet.com
END:VEVENT
END:VCALENDAR