BEGIN:VCALENDAR
VERSION:2.0
PRODID:-//United Arts Wake County - ECPv6.15.20//NONSGML v1.0//EN
CALSCALE:GREGORIAN
METHOD:PUBLISH
X-ORIGINAL-URL:https://unitedarts.org
X-WR-CALDESC:Events for United Arts Wake County
REFRESH-INTERVAL;VALUE=DURATION:PT1H
X-Robots-Tag:noindex
X-PUBLISHED-TTL:PT1H
BEGIN:VTIMEZONE
TZID:America/New_York
BEGIN:DAYLIGHT
TZOFFSETFROM:-0500
TZOFFSETTO:-0400
TZNAME:EDT
DTSTART:20240310T070000
END:DAYLIGHT
BEGIN:STANDARD
TZOFFSETFROM:-0400
TZOFFSETTO:-0500
TZNAME:EST
DTSTART:20241103T060000
END:STANDARD
BEGIN:DAYLIGHT
TZOFFSETFROM:-0500
TZOFFSETTO:-0400
TZNAME:EDT
DTSTART:20250309T070000
END:DAYLIGHT
BEGIN:STANDARD
TZOFFSETFROM:-0400
TZOFFSETTO:-0500
TZNAME:EST
DTSTART:20251102T060000
END:STANDARD
BEGIN:DAYLIGHT
TZOFFSETFROM:-0500
TZOFFSETTO:-0400
TZNAME:EDT
DTSTART:20260308T070000
END:DAYLIGHT
BEGIN:STANDARD
TZOFFSETFROM:-0400
TZOFFSETTO:-0500
TZNAME:EST
DTSTART:20261101T060000
END:STANDARD
END:VTIMEZONE
BEGIN:VEVENT
DTSTART;TZID=America/New_York:20250210T130000
DTEND;TZID=America/New_York:20250210T160000
DTSTAMP:20260421T203323
CREATED:20250106T151248Z
LAST-MODIFIED:20250106T151248Z
UID:10001236-1739192400-1739203200@unitedarts.org
SUMMARY:Fiber Arts: A Bag To Die For (Women Only)
DESCRIPTION:Learn how to naturally dye fabrics to transform a simple bag into accessory art. Make a personalized tote bag using a pocket face made from naturally dyed fabrics. Your unique textile collage pocket will bear artwork made from stitch meditations from your own hand as you learn from the instructor\, Grace McFetters Caldwell\, how to use specialized stitches to create a composition then apply to the tote bag as a pocket. No one in the world will have a matching tote bag like yours\, and you’ll be learning skills like dyeing with natural materials like plants and bugs and hand stitching techniques that can be used every day to embellish\, mend\, and create. \nStudents will participate in the Spring Student Showcase in May 2025 to showcase their work. \nSpecific dates: 1/13\, 1/27\, 2/3\, 2/10\, 2/24\, 3/3 (make up date 3/10) \nSKIP 1/20 (MLK Day) and 2/17 (Presidents Day) \nA make up date will be used if a class is canceled due to the instructor’s illness\, inclement weather\, or an emergency. If you are running late to class\, or will miss a class\, please contact the instructor directly or the Operation ART Program Manager at isabella@thejoelfund.org or 919 200 0886. \nThis class is for women only. \nWe offer scholarships for those who cannot afford the registration fee. To receive the scholarship promo code\, email the Operation ART Program Manager at isabella@thejoelfund.org with your name and military connection.
URL:https://unitedarts.org/calendar/fiber-arts-a-bag-to-die-for-women-only/2025-02-10/
LOCATION:The Joel Fund\, 822 S White Street\, Wake Forest\, 27587
ORGANIZER;CN="The Joel Fund":MAILTO:isabella@thejoelfund.org
END:VEVENT
END:VCALENDAR