BEGIN:VCALENDAR
VERSION:2.0
PRODID:-//United Arts Wake County - ECPv6.15.20//NONSGML v1.0//EN
CALSCALE:GREGORIAN
METHOD:PUBLISH
X-ORIGINAL-URL:https://unitedarts.org
X-WR-CALDESC:Events for United Arts Wake County
REFRESH-INTERVAL;VALUE=DURATION:PT1H
X-Robots-Tag:noindex
X-PUBLISHED-TTL:PT1H
BEGIN:VTIMEZONE
TZID:America/New_York
BEGIN:DAYLIGHT
TZOFFSETFROM:-0500
TZOFFSETTO:-0400
TZNAME:EDT
DTSTART:20230312T070000
END:DAYLIGHT
BEGIN:STANDARD
TZOFFSETFROM:-0400
TZOFFSETTO:-0500
TZNAME:EST
DTSTART:20231105T060000
END:STANDARD
BEGIN:DAYLIGHT
TZOFFSETFROM:-0500
TZOFFSETTO:-0400
TZNAME:EDT
DTSTART:20240310T070000
END:DAYLIGHT
BEGIN:STANDARD
TZOFFSETFROM:-0400
TZOFFSETTO:-0500
TZNAME:EST
DTSTART:20241103T060000
END:STANDARD
BEGIN:DAYLIGHT
TZOFFSETFROM:-0500
TZOFFSETTO:-0400
TZNAME:EDT
DTSTART:20250309T070000
END:DAYLIGHT
BEGIN:STANDARD
TZOFFSETFROM:-0400
TZOFFSETTO:-0500
TZNAME:EST
DTSTART:20251102T060000
END:STANDARD
END:VTIMEZONE
BEGIN:VEVENT
DTSTART;TZID=America/New_York:20241218T140000
DTEND;TZID=America/New_York:20241218T160000
DTSTAMP:20260420T062718
CREATED:20240813T194848Z
LAST-MODIFIED:20240813T194848Z
UID:10000996-1734530400-1734537600@unitedarts.org
SUMMARY:The Nutcracker
DESCRIPTION:This holiday season\, rediscover the wonder with Carolina Ballet’s enchanting celebration of The Nutcracker.\nOur most-attended production ever\, this beautiful ballet marries the charm of the original with fresh choreography\,\nvibrant sets\, and stunning costumes.
URL:https://unitedarts.org/calendar/the-nutcracker/2024-12-18/1/
LOCATION:Raleigh Memorial Auditorium\, Martin Marietta Center for the Performing Arts
ATTACH;FMTTYPE=image/jpeg:https://unitedarts.org/wp-content/uploads/2024/08/The-Nutcracker_Plain.jpg
ORGANIZER;CN="Carolina Ballet":MAILTO:boxoffice@carolinaballet.com
END:VEVENT
BEGIN:VEVENT
DTSTART;TZID=America/New_York:20241218T190000
DTEND;TZID=America/New_York:20241218T210000
DTSTAMP:20260420T062719
CREATED:20240813T194848Z
LAST-MODIFIED:20240813T194848Z
UID:10000997-1734548400-1734555600@unitedarts.org
SUMMARY:The Nutcracker
DESCRIPTION:This holiday season\, rediscover the wonder with Carolina Ballet’s enchanting celebration of The Nutcracker.\nOur most-attended production ever\, this beautiful ballet marries the charm of the original with fresh choreography\,\nvibrant sets\, and stunning costumes.
URL:https://unitedarts.org/calendar/the-nutcracker/2024-12-18/2/
LOCATION:Raleigh Memorial Auditorium\, Martin Marietta Center for the Performing Arts
ATTACH;FMTTYPE=image/jpeg:https://unitedarts.org/wp-content/uploads/2024/08/The-Nutcracker_Plain.jpg
ORGANIZER;CN="Carolina Ballet":MAILTO:boxoffice@carolinaballet.com
END:VEVENT
END:VCALENDAR