BEGIN:VCALENDAR
VERSION:2.0
PRODID:-//United Arts Wake County - ECPv6.15.20//NONSGML v1.0//EN
CALSCALE:GREGORIAN
METHOD:PUBLISH
X-WR-CALNAME:United Arts Wake County
X-ORIGINAL-URL:https://unitedarts.org
X-WR-CALDESC:Events for United Arts Wake County
REFRESH-INTERVAL;VALUE=DURATION:PT1H
X-Robots-Tag:noindex
X-PUBLISHED-TTL:PT1H
BEGIN:VTIMEZONE
TZID:America/New_York
BEGIN:DAYLIGHT
TZOFFSETFROM:-0500
TZOFFSETTO:-0400
TZNAME:EDT
DTSTART:20230312T070000
END:DAYLIGHT
BEGIN:STANDARD
TZOFFSETFROM:-0400
TZOFFSETTO:-0500
TZNAME:EST
DTSTART:20231105T060000
END:STANDARD
BEGIN:DAYLIGHT
TZOFFSETFROM:-0500
TZOFFSETTO:-0400
TZNAME:EDT
DTSTART:20240310T070000
END:DAYLIGHT
BEGIN:STANDARD
TZOFFSETFROM:-0400
TZOFFSETTO:-0500
TZNAME:EST
DTSTART:20241103T060000
END:STANDARD
BEGIN:DAYLIGHT
TZOFFSETFROM:-0500
TZOFFSETTO:-0400
TZNAME:EDT
DTSTART:20250309T070000
END:DAYLIGHT
BEGIN:STANDARD
TZOFFSETFROM:-0400
TZOFFSETTO:-0500
TZNAME:EST
DTSTART:20251102T060000
END:STANDARD
END:VTIMEZONE
BEGIN:VEVENT
DTSTART;TZID=America/New_York:20241011T180000
DTEND;TZID=America/New_York:20241011T210000
DTSTAMP:20260423T075425
CREATED:20240823T162241Z
LAST-MODIFIED:20240823T162241Z
UID:10001055-1728669600-1728680400@unitedarts.org
SUMMARY:Rock The Block
DESCRIPTION:Downtown Concert Series\nFriday\, October 11\, 2024\nBand – Spare Change
URL:https://unitedarts.org/calendar/rock-the-block/
LOCATION:NC
ATTACH;FMTTYPE=image/jpeg:https://unitedarts.org/wp-content/uploads/2024/08/RTB-1.jpg
END:VEVENT
BEGIN:VEVENT
DTSTART;TZID=America/New_York:20241011T193000
DTEND;TZID=America/New_York:20241011T220000
DTSTAMP:20260423T075425
CREATED:20240610T192852Z
LAST-MODIFIED:20240610T192852Z
UID:10000911-1728675000-1728684000@unitedarts.org
SUMMARY:Burning Coal presents Copenhagen
DESCRIPTION:COPENHAGEN\, directed by Jerome Davis\, is a three-person play that provides a fictional account of the meeting between physicists Werner Heisenberg and Niels Bohr at Bohr’s home in Copenhagen in 1941 during the throes of World War II. Heisenberg and Bohr\, accompanied by Bohr’s wife Margrethe\, revisit their personal and professional entanglements throughout decades of war\, turmoil\, and scientific advancement. The trio reenacts and simultaneously analyzes their infamous gathering\, weaving in and out of various points in their shared past. For Heisenberg and Bohr\, the question will always remain: what will come of the decisions we made? \nCOPENHAGEN will run October 10th – 27th\, 2024\, at the Murphey School\, located at 224 Polk Street\, Raleigh\, NC 27604. Performances are Thursdays through Saturdays at 7:30 pm and Sundays at 2:00 pm. All tickets are $30\, or $25 for seniors (65+) or $20 (students\, teachers\, active military). People 18 and under can get a ticket to any performance for $5. Tickets and additional information can be found at www.burningcoal.org or by calling the box office at (919) 834-4001.
URL:https://unitedarts.org/calendar/burning-coal-presents-copenhagen/2024-10-11/
LOCATION:Burning Coal Theatre\, 224 Polk St\, Raleigh\, 27604
ATTACH;FMTTYPE=image/jpeg:https://unitedarts.org/wp-content/uploads/2024/06/Copenhagen-banner.jpg
ORGANIZER;CN="Burning Coal Theatre":MAILTO:info@burningcoal.org
END:VEVENT
BEGIN:VEVENT
DTSTART;TZID=America/New_York:20241011T200000
DTEND;TZID=America/New_York:20241011T213000
DTSTAMP:20260423T075425
CREATED:20240926T171752Z
LAST-MODIFIED:20240926T171752Z
UID:10001147-1728676800-1728682200@unitedarts.org
SUMMARY:The Uproar: The Humorous Condition\, a sketch comedy show
DESCRIPTION:This October at TR Studios\, join us for a sketch comedy show where the real horror is being human. The Uproar: The Humorous Condition tackles awkward social encounters and turns the human experience inside out with sharp wit and a touch of surrealism. Local writers and a diverse cast bring original comedic characters and satirical scenarios to life in this 90-minute rollercoaster ride. \nDirector: Mikki Marvel \nAssistant Director: Lenore Clark \nStage Manager: Josh Spector \nHead Writer: Jill Cromwell \nCast: Isabella Brezenski\, Maddie Durgin\, Elizabeth Kutepov\, Paul Lao\, Austin McClure\, Reid Miller\, Emily Ortega\, Sean Parkinson\, Naja Robinson\, and Ariel Griffin Smith. \nWriters/Crew: Jon Berahya\, Lenore Clark\, Jill Cromwell\, Emily Freer\, Paul Lao\, Roni Nicole\, Antonio Washington\, and Jordan Spector. \nThis show is rated PG-13
URL:https://unitedarts.org/calendar/the-uproar-the-humorous-condition-a-sketch-comedy-show/2024-10-11/
LOCATION:TR Studio\, 3027 Barrow Drive\, Raleigh\, 27616
ATTACH;FMTTYPE=image/png:https://unitedarts.org/wp-content/uploads/2024/09/1.png
END:VEVENT
END:VCALENDAR