BEGIN:VCALENDAR
VERSION:2.0
PRODID:-//United Arts Wake County - ECPv6.15.20//NONSGML v1.0//EN
CALSCALE:GREGORIAN
METHOD:PUBLISH
X-ORIGINAL-URL:https://unitedarts.org
X-WR-CALDESC:Events for United Arts Wake County
REFRESH-INTERVAL;VALUE=DURATION:PT1H
X-Robots-Tag:noindex
X-PUBLISHED-TTL:PT1H
BEGIN:VTIMEZONE
TZID:America/New_York
BEGIN:DAYLIGHT
TZOFFSETFROM:-0500
TZOFFSETTO:-0400
TZNAME:EDT
DTSTART:20230312T070000
END:DAYLIGHT
BEGIN:STANDARD
TZOFFSETFROM:-0400
TZOFFSETTO:-0500
TZNAME:EST
DTSTART:20231105T060000
END:STANDARD
BEGIN:DAYLIGHT
TZOFFSETFROM:-0500
TZOFFSETTO:-0400
TZNAME:EDT
DTSTART:20240310T070000
END:DAYLIGHT
BEGIN:STANDARD
TZOFFSETFROM:-0400
TZOFFSETTO:-0500
TZNAME:EST
DTSTART:20241103T060000
END:STANDARD
BEGIN:DAYLIGHT
TZOFFSETFROM:-0500
TZOFFSETTO:-0400
TZNAME:EDT
DTSTART:20250309T070000
END:DAYLIGHT
BEGIN:STANDARD
TZOFFSETFROM:-0400
TZOFFSETTO:-0500
TZNAME:EST
DTSTART:20251102T060000
END:STANDARD
END:VTIMEZONE
BEGIN:VEVENT
DTSTART;TZID=America/New_York:20240901T090000
DTEND;TZID=America/New_York:20240930T170000
DTSTAMP:20260423T111628
CREATED:20240821T162135Z
LAST-MODIFIED:20240821T162135Z
UID:10001052-1725181200-1727715600@unitedarts.org
SUMMARY:Corliss R. Owen: Roots & Rhythms
DESCRIPTION:Drinking Gourd Gallery is proud to partner with Southeast Regional Library to present Corliss R. Owen: Roots & Rhythms. This solo exhibition of folk art explores the narratives of resilience\, resistance\, and empowerment. Inspired by memory\, nature\, history\, everyday events\, religion\, and rural life\, Corliss R. Owen creates a rich tapestry with vibrant\, expressive works that capture the essence of life and heritage. The power of Owen’s work rests with her ability to communicate a shared experience that resonates with people\, regardless of their background or ethnicity. Join us in celebrating Owen’s creativity and vision and experience powerful narratives that inspire and uplift. The Corliss R. Owen: Roots & Rhythms exhibition is on view September 1-30\, 2024\, at the Southeast Regional Library in Garner\, and includes free associated programming.
URL:https://unitedarts.org/calendar/corliss-r-owen-roots-rhythms/
LOCATION:Southeast Regional Library\, 908 7th Avenue\, Garner\, 27529
ATTACH;FMTTYPE=image/jpeg:https://unitedarts.org/wp-content/uploads/2024/08/Jam-Session-by-Corliss-R.-Owen-1-scaled.jpg
END:VEVENT
BEGIN:VEVENT
DTSTART;TZID=America/New_York:20240910T170000
DTEND;TZID=America/New_York:20240910T190000
DTSTAMP:20260423T111628
CREATED:20240902T201006Z
LAST-MODIFIED:20240902T201006Z
UID:10001070-1725987600-1725994800@unitedarts.org
SUMMARY:Wake Forest Community Youth Orchestra Fall Classes
DESCRIPTION:Come join our fall classes at Wake Forest Community Youth Orchestra where we provide expert orchestral instruction and access to instruments to families in the communities that we serve. We provide classes to all levels of experience\, from beginning to chamber ensembles.
URL:https://unitedarts.org/calendar/wake-forest-community-youth-orchestra-fall-classes/2024-09-10/
LOCATION:Wake Forest Baptist Church\, 107 E. South Ave\,\, Wake Forest\, 27587
ATTACH;FMTTYPE=image/png:https://unitedarts.org/wp-content/uploads/2024/09/WFCYO_logo_CMYK_hires_2018_07-10__1_-removebg-preview.png
END:VEVENT
END:VCALENDAR