BEGIN:VCALENDAR
VERSION:2.0
PRODID:-//United Arts Wake County - ECPv6.15.20//NONSGML v1.0//EN
CALSCALE:GREGORIAN
METHOD:PUBLISH
X-ORIGINAL-URL:https://unitedarts.org
X-WR-CALDESC:Events for United Arts Wake County
REFRESH-INTERVAL;VALUE=DURATION:PT1H
X-Robots-Tag:noindex
X-PUBLISHED-TTL:PT1H
BEGIN:VTIMEZONE
TZID:America/New_York
BEGIN:DAYLIGHT
TZOFFSETFROM:-0500
TZOFFSETTO:-0400
TZNAME:EDT
DTSTART:20230312T070000
END:DAYLIGHT
BEGIN:STANDARD
TZOFFSETFROM:-0400
TZOFFSETTO:-0500
TZNAME:EST
DTSTART:20231105T060000
END:STANDARD
BEGIN:DAYLIGHT
TZOFFSETFROM:-0500
TZOFFSETTO:-0400
TZNAME:EDT
DTSTART:20240310T070000
END:DAYLIGHT
BEGIN:STANDARD
TZOFFSETFROM:-0400
TZOFFSETTO:-0500
TZNAME:EST
DTSTART:20241103T060000
END:STANDARD
BEGIN:DAYLIGHT
TZOFFSETFROM:-0500
TZOFFSETTO:-0400
TZNAME:EDT
DTSTART:20250309T070000
END:DAYLIGHT
BEGIN:STANDARD
TZOFFSETFROM:-0400
TZOFFSETTO:-0500
TZNAME:EST
DTSTART:20251102T060000
END:STANDARD
END:VTIMEZONE
BEGIN:VEVENT
DTSTART;TZID=America/New_York:20240509T123000
DTEND;TZID=America/New_York:20240602T120000
DTSTAMP:20260421T203409
CREATED:20240518T125627Z
LAST-MODIFIED:20240518T125627Z
UID:10000706-1715257800-1717329600@unitedarts.org
SUMMARY:"My Perfect Nature" Duo Show\, Jiahn Kang & Polina Vee
DESCRIPTION:Celebrate the convergence of artistic expression at our exclusive duo art exhibition\, ‘My Perfect Nature\,’ featuring the captivating works of Jiahn Kang and Polina Vee. \nJiahn Kang’s pieces draw from the vivid palette and intricate textures of the natural world\, imbued with themes of gratitude and the joy of embracing each moment in our journey. \nIn contrast\, Polina Vee’s exploration delves into the metamorphosis of our visages and forms\, prompting contemplation on life’s transient essence and inevitable changes. \nEmbark on a sensory journey through our exhibition’s rich tapestry of cultural narratives and tactile experiences.\nJoin us for the grand opening reception at Peel Gallery on May 10th\, from 6pm to 9pm\,\nand immerse yourself in the interplay of artistic visions.
URL:https://unitedarts.org/calendar/my-perfect-nature-duo-show-jiahn-kang-polina-vee/
LOCATION:Peel Gallery\, 708 W Rosemary St\, Carrboro\, Carrboro\, 27510
ATTACH;FMTTYPE=image/png:https://unitedarts.org/wp-content/uploads/2024/05/poster-JKPV-2.png
END:VEVENT
BEGIN:VEVENT
DTSTART;VALUE=DATE:20240524
DTEND;VALUE=DATE:20240610
DTSTAMP:20260421T203409
CREATED:20240527T154214Z
LAST-MODIFIED:20240527T154214Z
UID:10000720-1716508800-1717977599@unitedarts.org
SUMMARY:FilmFest by Rogue Dancer: DANCE Class ‘24 Edition (May 2024)
DESCRIPTION:FilmFest by Rogue Dancer: DANCE Class ‘24 Edition (May 2024)\nMay 24 – June 9\, 2024\nhttps://www.roguedancer.org/filmfest-by-rogue-dancer \nWith the guidance of their mentors and teachers\, students are finding their big voices on tiny screens\, practicing comp class on big screens and teachers are using the student body to illustrate the embodied camera.  Using editing as an extension of the choreographic process.  Vice versa\, mix ‘em up\, chance\, experimental and sometimes orderly depending on the work.  Introducing the future of DANCE Film. \nFilmFest by Rogue Dancer is a DANCE film festival that offers a monthly curated on-line screening exclusively for DANCE Films. Each month Dance films are elegantly sorted into unexpected themes. We are committed to serving the DANCE community and to ensuring that wonderful DANCE movie projects from across the globe can be seen and appreciated by as wide an audience as possible. \no DANCE FILM (verb /dæns/ noun /fɪlm/) synonymous with Dance on Film\, Dance on Screen\, Screen Dance\, ScreenDance\, Video Dance\, Dance Cinema… etc. you get the picture. \nFeatured DANCE Filmmakers: Olivia Jean Buckley\, Julie Anne Carrier\, Linnan Liu\, Rileigh Morrow Goldsmith\, Lily Andrews\, Ramona Haywood\, Darius Anthony\, Lauren Linder\, Ivy Nicole Jonet & Lee Edwards\, Lily Selthofner & Robin Prichard
URL:https://unitedarts.org/calendar/filmfest-by-rogue-dancer-dance-class-24-edition-may-2024/
LOCATION:Rogue Dancer Productions\, On-Line\, International\, NC\, 00000\, United States
ATTACH;FMTTYPE=image/png:https://unitedarts.org/wp-content/uploads/2024/05/FFXRD-MAY-2024-Square-Deal-Collage-w_TEXT-copy.png
ORGANIZER;CN="RogueDancerProductions":MAILTO:editor@roguedancer.org
END:VEVENT
END:VCALENDAR