BEGIN:VCALENDAR
VERSION:2.0
PRODID:-//United Arts Wake County - ECPv6.15.20//NONSGML v1.0//EN
CALSCALE:GREGORIAN
METHOD:PUBLISH
X-WR-CALNAME:United Arts Wake County
X-ORIGINAL-URL:https://unitedarts.org
X-WR-CALDESC:Events for United Arts Wake County
REFRESH-INTERVAL;VALUE=DURATION:PT1H
X-Robots-Tag:noindex
X-PUBLISHED-TTL:PT1H
BEGIN:VTIMEZONE
TZID:America/New_York
BEGIN:DAYLIGHT
TZOFFSETFROM:-0500
TZOFFSETTO:-0400
TZNAME:EDT
DTSTART:20230312T070000
END:DAYLIGHT
BEGIN:STANDARD
TZOFFSETFROM:-0400
TZOFFSETTO:-0500
TZNAME:EST
DTSTART:20231105T060000
END:STANDARD
BEGIN:DAYLIGHT
TZOFFSETFROM:-0500
TZOFFSETTO:-0400
TZNAME:EDT
DTSTART:20240310T070000
END:DAYLIGHT
BEGIN:STANDARD
TZOFFSETFROM:-0400
TZOFFSETTO:-0500
TZNAME:EST
DTSTART:20241103T060000
END:STANDARD
BEGIN:DAYLIGHT
TZOFFSETFROM:-0500
TZOFFSETTO:-0400
TZNAME:EDT
DTSTART:20250309T070000
END:DAYLIGHT
BEGIN:STANDARD
TZOFFSETFROM:-0400
TZOFFSETTO:-0500
TZNAME:EST
DTSTART:20251102T060000
END:STANDARD
END:VTIMEZONE
BEGIN:VEVENT
DTSTART;VALUE=DATE:20240405
DTEND;VALUE=DATE:20240422
DTSTAMP:20260420T060611
CREATED:20240321T204629Z
LAST-MODIFIED:20240321T204629Z
UID:10000039-1712275200-1713743999@unitedarts.org
SUMMARY:VAE Collaborative Curatorial Fellowship Application Period
DESCRIPTION:VAE is excited to present another round of our Collaborative Curatorial Fellowship. This is your chance to be PAID to do your own artistic research and curation\, in order to make your boldest idea into a reality. The selected Fellow or collaborative team will be awarded a $5\,000.00 stipend to spend 6 months building their own creative project with the full support of VAE’s staff\, board\, resources\, and network! In addition to their stipend\, the Fellow will have a $5\,000.00 budget to produce their project\, pay artists and steering committee members\, and create programming.
URL:https://unitedarts.org/calendar/vae-collaborative-curatorial-fellowship-application-period/
ATTACH;FMTTYPE=image/jpeg:https://unitedarts.org/wp-content/uploads/2024/03/ccf-new-sq-copy-scaled.jpg
ORGANIZER;CN="VAE Raleigh":MAILTO:accounts@vaeraleigh.org
END:VEVENT
BEGIN:VEVENT
DTSTART;TZID=America/New_York:20240406T110000
DTEND;TZID=America/New_York:20240406T150000
DTSTAMP:20260420T060611
CREATED:20240321T190011Z
LAST-MODIFIED:20240321T190011Z
UID:10000031-1712401200-1712415600@unitedarts.org
SUMMARY:Hum Sub Holi
DESCRIPTION:Holi is an Indian festival of colors celebrated in spring time. It heralds the arrival of spring following the winter season.  People play with colored powder\, apply it to each other and is a true display of gender equality across socio-economic backgrounds.  Holi brings people together to strengthen the secular fabric.  It is a way to let go of all the lethargy from the winter season and bring in positive energy. Hum Sub has plans to bring in Holi as an annual event in the future.  \nGet ready for a day filled with laughter\, music\, delicious food\, and\, of course\, the mesmerizing burst of colors that make Holi so special. It’s a time to embrace the spirit of togetherness and the renewal of friendships. \nCome dressed in your most vibrant attire\, and let’s create a kaleidoscope of memories together!
URL:https://unitedarts.org/calendar/hum-sub-holi/
LOCATION:Apex Nature Park\, 2600 Evans Rd\, Apex\, 27502
ATTACH;FMTTYPE=image/jpeg:https://unitedarts.org/wp-content/uploads/2024/03/SmartSelect_20240320_172643_Gmail.jpg
END:VEVENT
BEGIN:VEVENT
DTSTART;TZID=America/New_York:20240406T193000
DTEND;TZID=America/New_York:20240406T223000
DTSTAMP:20260420T060611
CREATED:20240322T154843Z
LAST-MODIFIED:20240322T174552Z
UID:10000043-1712431800-1712442600@unitedarts.org
SUMMARY:A Little Night Music
DESCRIPTION:A Little Night Music \, the Tony Award-winning musical from Stephen Sondheim and\nHugh Wheeler\, explores a series of interwoven love affairs centered around the\nonce-prominent actress\, Desiree Armfeldt. As a group of Sweden’s social elite gather\nfor an eventful weekend in the country\, suspicion and jealousy abounds\, as well as the\npossibility of new romances and second chances. Featuring one of Sondheim’s most\npopular ballads\, “Send in the Clowns”\, A Little Night Music explores the themes of life\,\ndeath\, and the foolishness that happens in between.
URL:https://unitedarts.org/calendar/a-little-night-music/2024-04-06/
LOCATION:Burning Coal Theatre\, 224 Polk St\, Raleigh\, 27604
ATTACH;FMTTYPE=image/png:https://unitedarts.org/wp-content/uploads/2024/03/Little-Night-Music-Poster-v-2-5-x-7-in-2.png
ORGANIZER;CN="Burning Coal Theatre":MAILTO:info@burningcoal.org
END:VEVENT
END:VCALENDAR